BEGIN:VCALENDAR
VERSION:2.0
PRODID:-//spbstu.ru//ical//RU
NAME:Расписание группы 5030102/30101
X-WR-CALNAME:Расписание группы 5030102/30101
TIMEZONE-ID:Europe/Moscow
X-WR-TIMEZONE:Europe/Moscow
BEGIN:VEVENT
UID:x7pv@192.168.245.71:3006
SEQUENCE:0
DTSTAMP:20260421T110940Z
DTSTART:20260216T070000Z
DTEND:20260216T084000Z
SUMMARY:Функциональный анализ (на английском языке)
LOCATION:ГЗ 283
END:VEVENT
BEGIN:VEVENT
UID:yrco@192.168.245.71:3006
SEQUENCE:0
DTSTAMP:20260421T110940Z
DTSTART:20260216T090000Z
DTEND:20260216T104000Z
SUMMARY:Методы оптимизации
LOCATION:ГЗ 101
END:VEVENT
BEGIN:VEVENT
UID:o86b@192.168.245.71:3006
SEQUENCE:0
DTSTAMP:20260421T110940Z
DTSTART:20260216T110000Z
DTEND:20260216T124000Z
SUMMARY:Основы математической физики
LOCATION:ГЗ 278
END:VEVENT
BEGIN:VEVENT
UID:il9v@192.168.245.71:3006
SEQUENCE:0
DTSTAMP:20260421T110940Z
DTSTART:20260216T130000Z
DTEND:20260216T144000Z
SUMMARY:Символический искусственный интеллект
LOCATION:1 к. 431
END:VEVENT
BEGIN:VEVENT
UID:f8kp@192.168.245.71:3006
SEQUENCE:0
DTSTAMP:20260421T110940Z
DTSTART:20260217T070000Z
DTEND:20260217T084000Z
SUMMARY:Основы математической физики
LOCATION:ГЗ 224
END:VEVENT
BEGIN:VEVENT
UID:pu2y@192.168.245.71:3006
SEQUENCE:0
DTSTAMP:20260421T110940Z
DTSTART:20260217T090000Z
DTEND:20260217T104000Z
SUMMARY:Функциональный анализ (на английском языке)
LOCATION:1 к. 431
END:VEVENT
BEGIN:VEVENT
UID:reum@192.168.245.71:3006
SEQUENCE:0
DTSTAMP:20260421T110940Z
DTSTART:20260217T110000Z
DTEND:20260217T124000Z
SUMMARY:Математическая статистика
LOCATION:ГЗ 241
END:VEVENT
BEGIN:VEVENT
UID:2g3w@192.168.245.71:3006
SEQUENCE:0
DTSTAMP:20260421T110940Z
DTSTART:20260217T130000Z
DTEND:20260217T143000Z
SUMMARY:Методы оптимизации
LOCATION:1 к. каф. Примат
END:VEVENT
BEGIN:VEVENT
UID:devg@192.168.245.71:3006
SEQUENCE:0
DTSTAMP:20260421T110940Z
DTSTART:20260217T130000Z
DTEND:20260217T144000Z
SUMMARY:Математическая статистика
LOCATION:ГЗ 283
END:VEVENT
BEGIN:VEVENT
UID:270h@192.168.245.71:3006
SEQUENCE:0
DTSTAMP:20260421T110940Z
DTSTART:20260218T070000Z
DTEND:20260218T084000Z
SUMMARY:Символический искусственный интеллект
LOCATION:1 к. 431
END:VEVENT
BEGIN:VEVENT
UID:06pl@192.168.245.71:3006
SEQUENCE:0
DTSTAMP:20260421T110940Z
DTSTART:20260218T090000Z
DTEND:20260218T104000Z
SUMMARY:Механика жидкостей и газов
LOCATION:1 к. 431
END:VEVENT
BEGIN:VEVENT
UID:jdmt@192.168.245.71:3006
SEQUENCE:0
DTSTAMP:20260421T110940Z
DTSTART:20260218T110000Z
DTEND:20260218T115000Z
SUMMARY:Механика жидкостей и газов
LOCATION:1 к. 431
END:VEVENT
BEGIN:VEVENT
UID:2jcf@192.168.245.71:3006
SEQUENCE:0
DTSTAMP:20260421T110940Z
DTSTART:20260218T110000Z
DTEND:20260218T123000Z
SUMMARY:Дискретная математика
LOCATION:1 к. каф. Примат
END:VEVENT
BEGIN:VEVENT
UID:1ckc@192.168.245.71:3006
SEQUENCE:0
DTSTAMP:20260421T110940Z
DTSTART:20260218T130000Z
DTEND:20260218T144000Z
SUMMARY:Технология программирования (на английском языке)
LOCATION:1 к. лаб.4  каф. Примат
END:VEVENT
BEGIN:VEVENT
UID:j5rd@192.168.245.71:3006
SEQUENCE:0
DTSTAMP:20260421T110940Z
DTSTART:20260219T070000Z
DTEND:20260219T084000Z
SUMMARY:Технология системного программирования
LOCATION:1 к. лаб.4  каф. Примат
END:VEVENT
BEGIN:VEVENT
UID:3vg1@192.168.245.71:3006
SEQUENCE:0
DTSTAMP:20260421T110940Z
DTSTART:20260220T053500Z
DTEND:20260220T064000Z
SUMMARY:Военная подготовка
LOCATION:Военная каф. кафедра
END:VEVENT
BEGIN:VEVENT
UID:4vga@192.168.245.71:3006
SEQUENCE:0
DTSTAMP:20260421T110940Z
DTSTART:20260220T070000Z
DTEND:20260220T084000Z
SUMMARY:Военная подготовка
LOCATION:Военная каф. кафедра
END:VEVENT
BEGIN:VEVENT
UID:r6rh@192.168.245.71:3006
SEQUENCE:0
DTSTAMP:20260421T110940Z
DTSTART:20260220T090000Z
DTEND:20260220T104000Z
SUMMARY:Военная подготовка
LOCATION:Военная каф. кафедра
END:VEVENT
BEGIN:VEVENT
UID:58k8@192.168.245.71:3006
SEQUENCE:0
DTSTAMP:20260421T110940Z
DTSTART:20260220T150000Z
DTEND:20260220T163000Z
SUMMARY:Язык программирования Java
LOCATION:DL Дистанционно
END:VEVENT
END:VCALENDAR