BEGIN:VCALENDAR
VERSION:2.0
PRODID:-//spbstu.ru//ical//RU
NAME:Расписание группы 5030102/30101
X-WR-CALNAME:Расписание группы 5030102/30101
TIMEZONE-ID:Europe/Moscow
X-WR-TIMEZONE:Europe/Moscow
BEGIN:VEVENT
UID:hag5@192.168.245.71:3006
SEQUENCE:0
DTSTAMP:20260421T081306Z
DTSTART:20260302T070000Z
DTEND:20260302T084000Z
SUMMARY:Функциональный анализ (на английском языке)
LOCATION:2 к. 265
END:VEVENT
BEGIN:VEVENT
UID:1r7p@192.168.245.71:3006
SEQUENCE:0
DTSTAMP:20260421T081306Z
DTSTART:20260302T090000Z
DTEND:20260302T104000Z
SUMMARY:Методы оптимизации
LOCATION:ГЗ 101
END:VEVENT
BEGIN:VEVENT
UID:96et@192.168.245.71:3006
SEQUENCE:0
DTSTAMP:20260421T081306Z
DTSTART:20260302T110000Z
DTEND:20260302T124000Z
SUMMARY:Основы математической физики
LOCATION:ГЗ 278
END:VEVENT
BEGIN:VEVENT
UID:lovw@192.168.245.71:3006
SEQUENCE:0
DTSTAMP:20260421T081306Z
DTSTART:20260302T130000Z
DTEND:20260302T144000Z
SUMMARY:Символический искусственный интеллект
LOCATION:1 к. 431
END:VEVENT
BEGIN:VEVENT
UID:zl5j@192.168.245.71:3006
SEQUENCE:0
DTSTAMP:20260421T081306Z
DTSTART:20260303T070000Z
DTEND:20260303T084000Z
SUMMARY:Основы математической физики
LOCATION:ГЗ 224
END:VEVENT
BEGIN:VEVENT
UID:rrkf@192.168.245.71:3006
SEQUENCE:0
DTSTAMP:20260421T081306Z
DTSTART:20260303T090000Z
DTEND:20260303T104000Z
SUMMARY:Функциональный анализ (на английском языке)
LOCATION:1 к. 431
END:VEVENT
BEGIN:VEVENT
UID:pf2x@192.168.245.71:3006
SEQUENCE:0
DTSTAMP:20260421T081306Z
DTSTART:20260303T110000Z
DTEND:20260303T124000Z
SUMMARY:Математическая статистика
LOCATION:ГЗ 241
END:VEVENT
BEGIN:VEVENT
UID:8blx@192.168.245.71:3006
SEQUENCE:0
DTSTAMP:20260421T081306Z
DTSTART:20260303T130000Z
DTEND:20260303T144000Z
SUMMARY:Математическая статистика
LOCATION:ГЗ 283
END:VEVENT
BEGIN:VEVENT
UID:dm73@192.168.245.71:3006
SEQUENCE:0
DTSTAMP:20260421T081306Z
DTSTART:20260304T070000Z
DTEND:20260304T084000Z
SUMMARY:Символический искусственный интеллект
LOCATION:1 к. 431
END:VEVENT
BEGIN:VEVENT
UID:jsyc@192.168.245.71:3006
SEQUENCE:0
DTSTAMP:20260421T081306Z
DTSTART:20260304T090000Z
DTEND:20260304T104000Z
SUMMARY:Механика жидкостей и газов
LOCATION:1 к. 431
END:VEVENT
BEGIN:VEVENT
UID:9gui@192.168.245.71:3006
SEQUENCE:0
DTSTAMP:20260421T081306Z
DTSTART:20260304T110000Z
DTEND:20260304T115000Z
SUMMARY:Механика жидкостей и газов
LOCATION:1 к. 431
END:VEVENT
BEGIN:VEVENT
UID:oki3@192.168.245.71:3006
SEQUENCE:0
DTSTAMP:20260421T081306Z
DTSTART:20260304T130000Z
DTEND:20260304T144000Z
SUMMARY:Технология программирования (на английском языке)
LOCATION:1 к. лаб.4  каф. Примат
END:VEVENT
BEGIN:VEVENT
UID:0zzs@192.168.245.71:3006
SEQUENCE:0
DTSTAMP:20260421T081306Z
DTSTART:20260305T070000Z
DTEND:20260305T084000Z
SUMMARY:Технология системного программирования
LOCATION:1 к. лаб.4  каф. Примат
END:VEVENT
BEGIN:VEVENT
UID:ne16@192.168.245.71:3006
SEQUENCE:0
DTSTAMP:20260421T081306Z
DTSTART:20260306T053500Z
DTEND:20260306T064000Z
SUMMARY:Военная подготовка
LOCATION:Военная каф. кафедра
END:VEVENT
BEGIN:VEVENT
UID:1qxl@192.168.245.71:3006
SEQUENCE:0
DTSTAMP:20260421T081306Z
DTSTART:20260306T070000Z
DTEND:20260306T084000Z
SUMMARY:Военная подготовка
LOCATION:Военная каф. кафедра
END:VEVENT
BEGIN:VEVENT
UID:eco4@192.168.245.71:3006
SEQUENCE:0
DTSTAMP:20260421T081306Z
DTSTART:20260306T090000Z
DTEND:20260306T104000Z
SUMMARY:Военная подготовка
LOCATION:Военная каф. кафедра
END:VEVENT
END:VCALENDAR