BEGIN:VCALENDAR
VERSION:2.0
PRODID:-//spbstu.ru//ical//RU
NAME:Расписание группы 5030102/30201
X-WR-CALNAME:Расписание группы 5030102/30201
TIMEZONE-ID:Europe/Moscow
X-WR-TIMEZONE:Europe/Moscow
BEGIN:VEVENT
UID:kjb3@192.168.245.71:3006
SEQUENCE:0
DTSTAMP:20260425T135007Z
DTSTART:20251103T070000Z
DTEND:20251103T084000Z
SUMMARY:Основы функционального анализа
LOCATION:2 к. 265
END:VEVENT
BEGIN:VEVENT
UID:1kw0@192.168.245.71:3006
SEQUENCE:0
DTSTAMP:20260425T135007Z
DTSTART:20251103T090000Z
DTEND:20251103T104000Z
SUMMARY:Наука программирования
LOCATION:НИК В2.18
END:VEVENT
BEGIN:VEVENT
UID:2168@192.168.245.71:3006
SEQUENCE:0
DTSTAMP:20260425T135007Z
DTSTART:20251103T110000Z
DTEND:20251103T124000Z
SUMMARY:Основы функционального анализа
LOCATION:1 к. каф. Примат
END:VEVENT
BEGIN:VEVENT
UID:ns0l@192.168.245.71:3006
SEQUENCE:0
DTSTAMP:20260425T135007Z
DTSTART:20251103T130000Z
DTEND:20251103T144000Z
SUMMARY:Язык программирования Java
LOCATION:1 к. лаб.4  каф. Примат
END:VEVENT
BEGIN:VEVENT
UID:6nsk@192.168.245.71:3006
SEQUENCE:0
DTSTAMP:20260425T135007Z
DTSTART:20251105T060000Z
DTEND:20251105T074000Z
SUMMARY:Комплексный анализ
LOCATION:Мех. к. БМ
END:VEVENT
BEGIN:VEVENT
UID:x8os@192.168.245.71:3006
SEQUENCE:0
DTSTAMP:20260425T135007Z
DTSTART:20251105T090000Z
DTEND:20251105T104000Z
SUMMARY:Комплексный анализ
LOCATION:ГЗ 242
END:VEVENT
BEGIN:VEVENT
UID:sqgo@192.168.245.71:3006
SEQUENCE:0
DTSTAMP:20260425T135007Z
DTSTART:20251105T110000Z
DTEND:20251105T124000Z
SUMMARY:Теория вероятностей
LOCATION:1 к. 431
END:VEVENT
BEGIN:VEVENT
UID:j70c@192.168.245.71:3006
SEQUENCE:0
DTSTAMP:20260425T135007Z
DTSTART:20251105T130000Z
DTEND:20251105T144000Z
SUMMARY:Методы оптимизации
LOCATION:2 к. 265
END:VEVENT
BEGIN:VEVENT
UID:vvr6@192.168.245.71:3006
SEQUENCE:0
DTSTAMP:20260425T135007Z
DTSTART:20251107T050000Z
DTEND:20251107T064000Z
SUMMARY:Военная подготовка
LOCATION:Военная каф. кафедра
END:VEVENT
BEGIN:VEVENT
UID:t0vh@192.168.245.71:3006
SEQUENCE:0
DTSTAMP:20260425T135007Z
DTSTART:20251107T070000Z
DTEND:20251107T084000Z
SUMMARY:Военная подготовка
LOCATION:Военная каф. кафедра
END:VEVENT
BEGIN:VEVENT
UID:gntm@192.168.245.71:3006
SEQUENCE:0
DTSTAMP:20260425T135007Z
DTSTART:20251107T090000Z
DTEND:20251107T104000Z
SUMMARY:Военная подготовка
LOCATION:Военная каф. кафедра
END:VEVENT
BEGIN:VEVENT
UID:8bh3@192.168.245.71:3006
SEQUENCE:0
DTSTAMP:20260425T135007Z
DTSTART:20251108T070000Z
DTEND:20251108T084000Z
SUMMARY:Дискретная математика
LOCATION:DL Дистанционно
END:VEVENT
BEGIN:VEVENT
UID:cwt8@192.168.245.71:3006
SEQUENCE:0
DTSTAMP:20260425T135007Z
DTSTART:20251108T090000Z
DTEND:20251108T104000Z
SUMMARY:Разработка пользовательского интерфейса
LOCATION:1 к. лаб.4  каф. Примат
END:VEVENT
END:VCALENDAR