BEGIN:VCALENDAR
VERSION:2.0
PRODID:-//spbstu.ru//ical//RU
NAME:Расписание группы 5030102/30401
X-WR-CALNAME:Расписание группы 5030102/30401
TIMEZONE-ID:Europe/Moscow
X-WR-TIMEZONE:Europe/Moscow
BEGIN:VEVENT
UID:ijr7@192.168.245.71:3006
SEQUENCE:0
DTSTAMP:20260422T050642Z
DTSTART:20260330T070000Z
DTEND:20260330T084000Z
SUMMARY:Функциональный анализ (на английском языке)
LOCATION:2 к. 265
END:VEVENT
BEGIN:VEVENT
UID:x1j8@192.168.245.71:3006
SEQUENCE:0
DTSTAMP:20260422T050642Z
DTSTART:20260330T090000Z
DTEND:20260330T104000Z
SUMMARY:Методы оптимизации
LOCATION:ГЗ 101
END:VEVENT
BEGIN:VEVENT
UID:yf0u@192.168.245.71:3006
SEQUENCE:0
DTSTAMP:20260422T050642Z
DTSTART:20260330T110000Z
DTEND:20260330T124000Z
SUMMARY:Функциональный анализ (на английском языке)
LOCATION:1 к. каф. Примат
END:VEVENT
BEGIN:VEVENT
UID:ooi0@192.168.245.71:3006
SEQUENCE:0
DTSTAMP:20260422T050642Z
DTSTART:20260331T070000Z
DTEND:20260331T084000Z
SUMMARY:Основы математической физики
LOCATION:ГЗ 224
END:VEVENT
BEGIN:VEVENT
UID:jkao@192.168.245.71:3006
SEQUENCE:0
DTSTAMP:20260422T050642Z
DTSTART:20260331T090000Z
DTEND:20260331T104000Z
SUMMARY:Основы математической физики
LOCATION:ГЗ 245
END:VEVENT
BEGIN:VEVENT
UID:823h@192.168.245.71:3006
SEQUENCE:0
DTSTAMP:20260422T050642Z
DTSTART:20260331T110000Z
DTEND:20260331T124000Z
SUMMARY:Методы оптимизации
LOCATION:1 к. лаб.3  каф. Примат
END:VEVENT
BEGIN:VEVENT
UID:7vbv@192.168.245.71:3006
SEQUENCE:0
DTSTAMP:20260422T050642Z
DTSTART:20260331T130000Z
DTEND:20260331T144000Z
SUMMARY:Математическая статистика
LOCATION:ГЗ 283
END:VEVENT
BEGIN:VEVENT
UID:rs6o@192.168.245.71:3006
SEQUENCE:0
DTSTAMP:20260422T050642Z
DTSTART:20260331T150000Z
DTEND:20260331T170000Z
SUMMARY:Теория вероятностей
LOCATION:ГЗ 241
END:VEVENT
BEGIN:VEVENT
UID:4uvs@192.168.245.71:3006
SEQUENCE:0
DTSTAMP:20260422T050642Z
DTSTART:20260401T080000Z
DTEND:20260401T085000Z
SUMMARY:Общая биология
LOCATION:1 к. каф. Примат
END:VEVENT
BEGIN:VEVENT
UID:urgh@192.168.245.71:3006
SEQUENCE:0
DTSTAMP:20260422T050642Z
DTSTART:20260401T090000Z
DTEND:20260401T104000Z
SUMMARY:Общая биология
LOCATION:1 к. каф. Примат
END:VEVENT
BEGIN:VEVENT
UID:ga0w@192.168.245.71:3006
SEQUENCE:0
DTSTAMP:20260422T050642Z
DTSTART:20260401T110000Z
DTEND:20260401T124000Z
SUMMARY:Технология системного программирования
LOCATION:1 к. лаб.4  каф. Примат
END:VEVENT
BEGIN:VEVENT
UID:wjz4@192.168.245.71:3006
SEQUENCE:0
DTSTAMP:20260422T050642Z
DTSTART:20260401T130000Z
DTEND:20260401T144000Z
SUMMARY:Технология программирования (на английском языке)
LOCATION:1 к. лаб.4  каф. Примат
END:VEVENT
BEGIN:VEVENT
UID:cccy@192.168.245.71:3006
SEQUENCE:0
DTSTAMP:20260422T050642Z
DTSTART:20260402T090000Z
DTEND:20260402T104000Z
SUMMARY:Математическая биология
LOCATION:1 к. 431
END:VEVENT
BEGIN:VEVENT
UID:f9n6@192.168.245.71:3006
SEQUENCE:0
DTSTAMP:20260422T050642Z
DTSTART:20260402T110000Z
DTEND:20260402T124000Z
SUMMARY:Математическая биология
LOCATION:1 к. 431
END:VEVENT
BEGIN:VEVENT
UID:q4le@192.168.245.71:3006
SEQUENCE:0
DTSTAMP:20260422T050642Z
DTSTART:20260403T053500Z
DTEND:20260403T064000Z
SUMMARY:Военная подготовка
LOCATION:Военная каф. кафедра
END:VEVENT
BEGIN:VEVENT
UID:tf0h@192.168.245.71:3006
SEQUENCE:0
DTSTAMP:20260422T050642Z
DTSTART:20260403T070000Z
DTEND:20260403T084000Z
SUMMARY:Военная подготовка
LOCATION:Военная каф. кафедра
END:VEVENT
BEGIN:VEVENT
UID:rzdy@192.168.245.71:3006
SEQUENCE:0
DTSTAMP:20260422T050642Z
DTSTART:20260403T090000Z
DTEND:20260403T104000Z
SUMMARY:Военная подготовка
LOCATION:Военная каф. кафедра
END:VEVENT
END:VCALENDAR