BEGIN:VCALENDAR
VERSION:2.0
PRODID:-//spbstu.ru//ical//RU
NAME:Расписание группы 5030102/30401
X-WR-CALNAME:Расписание группы 5030102/30401
TIMEZONE-ID:Europe/Moscow
X-WR-TIMEZONE:Europe/Moscow
BEGIN:VEVENT
UID:8t9n@192.168.245.71:3006
SEQUENCE:0
DTSTAMP:20260422T032228Z
DTSTART:20260504T070000Z
DTEND:20260504T084000Z
SUMMARY:Функциональный анализ (на английском языке)
LOCATION:2 к. 265
END:VEVENT
BEGIN:VEVENT
UID:c5xt@192.168.245.71:3006
SEQUENCE:0
DTSTAMP:20260422T032228Z
DTSTART:20260504T090000Z
DTEND:20260504T104000Z
SUMMARY:Методы оптимизации
LOCATION:ГЗ 101
END:VEVENT
BEGIN:VEVENT
UID:mepu@192.168.245.71:3006
SEQUENCE:0
DTSTAMP:20260422T032228Z
DTSTART:20260504T110000Z
DTEND:20260504T124000Z
SUMMARY:Функциональный анализ (на английском языке)
LOCATION:1 к. каф. Примат
END:VEVENT
BEGIN:VEVENT
UID:fn1u@192.168.245.71:3006
SEQUENCE:0
DTSTAMP:20260422T032228Z
DTSTART:20260505T070000Z
DTEND:20260505T084000Z
SUMMARY:Основы математической физики
LOCATION:ГЗ 224
END:VEVENT
BEGIN:VEVENT
UID:ugs6@192.168.245.71:3006
SEQUENCE:0
DTSTAMP:20260422T032228Z
DTSTART:20260505T090000Z
DTEND:20260505T104000Z
SUMMARY:Основы математической физики
LOCATION:ГЗ 245
END:VEVENT
BEGIN:VEVENT
UID:8zj5@192.168.245.71:3006
SEQUENCE:0
DTSTAMP:20260422T032228Z
DTSTART:20260505T110000Z
DTEND:20260505T124000Z
SUMMARY:Математическая статистика
LOCATION:ГЗ 241
END:VEVENT
BEGIN:VEVENT
UID:sl9t@192.168.245.71:3006
SEQUENCE:0
DTSTAMP:20260422T032228Z
DTSTART:20260505T130000Z
DTEND:20260505T144000Z
SUMMARY:Математическая статистика
LOCATION:ГЗ 283
END:VEVENT
BEGIN:VEVENT
UID:akcu@192.168.245.71:3006
SEQUENCE:0
DTSTAMP:20260422T032228Z
DTSTART:20260506T080000Z
DTEND:20260506T085000Z
SUMMARY:Общая биология
LOCATION:1 к. каф. Примат
END:VEVENT
BEGIN:VEVENT
UID:u9er@192.168.245.71:3006
SEQUENCE:0
DTSTAMP:20260422T032228Z
DTSTART:20260506T090000Z
DTEND:20260506T104000Z
SUMMARY:Общая биология
LOCATION:1 к. каф. Примат
END:VEVENT
BEGIN:VEVENT
UID:7ix6@192.168.245.71:3006
SEQUENCE:0
DTSTAMP:20260422T032228Z
DTSTART:20260506T110000Z
DTEND:20260506T124000Z
SUMMARY:Технология системного программирования
LOCATION:1 к. лаб.4  каф. Примат
END:VEVENT
BEGIN:VEVENT
UID:ubo3@192.168.245.71:3006
SEQUENCE:0
DTSTAMP:20260422T032228Z
DTSTART:20260506T130000Z
DTEND:20260506T144000Z
SUMMARY:Технология программирования (на английском языке)
LOCATION:1 к. лаб.4  каф. Примат
END:VEVENT
BEGIN:VEVENT
UID:yyyc@192.168.245.71:3006
SEQUENCE:0
DTSTAMP:20260422T032228Z
DTSTART:20260507T110000Z
DTEND:20260507T124000Z
SUMMARY:Математическая биология
LOCATION:1 к. 431
END:VEVENT
BEGIN:VEVENT
UID:pvrr@192.168.245.71:3006
SEQUENCE:0
DTSTAMP:20260422T032228Z
DTSTART:20260508T053500Z
DTEND:20260508T064000Z
SUMMARY:Военная подготовка
LOCATION:Военная каф. кафедра
END:VEVENT
BEGIN:VEVENT
UID:m45h@192.168.245.71:3006
SEQUENCE:0
DTSTAMP:20260422T032228Z
DTSTART:20260508T070000Z
DTEND:20260508T084000Z
SUMMARY:Военная подготовка
LOCATION:Военная каф. кафедра
END:VEVENT
BEGIN:VEVENT
UID:dbfy@192.168.245.71:3006
SEQUENCE:0
DTSTAMP:20260422T032228Z
DTSTART:20260508T090000Z
DTEND:20260508T104000Z
SUMMARY:Военная подготовка
LOCATION:Военная каф. кафедра
END:VEVENT
END:VCALENDAR