BEGIN:VCALENDAR
VERSION:2.0
PRODID:-//spbstu.ru//ical//RU
NAME:Расписание группы 5030103/30201
X-WR-CALNAME:Расписание группы 5030103/30201
TIMEZONE-ID:Europe/Moscow
X-WR-TIMEZONE:Europe/Moscow
BEGIN:VEVENT
UID:axnj@192.168.245.71:3006
SEQUENCE:0
DTSTAMP:20260425T203434Z
DTSTART:20251124T090000Z
DTEND:20251124T104000Z
SUMMARY:Основы биомеханики
LOCATION:НИК А2.02
END:VEVENT
BEGIN:VEVENT
UID:cp3n@192.168.245.71:3006
SEQUENCE:0
DTSTAMP:20260425T203434Z
DTSTART:20251124T110000Z
DTEND:20251124T124000Z
SUMMARY:Теория колебаний
LOCATION:2 к. 265
END:VEVENT
BEGIN:VEVENT
UID:thpa@192.168.245.71:3006
SEQUENCE:0
DTSTAMP:20260425T203434Z
DTSTART:20251124T130000Z
DTEND:20251124T144000Z
SUMMARY:Теория колебаний
LOCATION:ГЗ 228
END:VEVENT
BEGIN:VEVENT
UID:lcya@192.168.245.71:3006
SEQUENCE:0
DTSTAMP:20260425T203434Z
DTSTART:20251125T060000Z
DTEND:20251125T064000Z
SUMMARY:Уравнения математической физики
LOCATION:2 к. 265
END:VEVENT
BEGIN:VEVENT
UID:0jkk@192.168.245.71:3006
SEQUENCE:0
DTSTAMP:20260425T203434Z
DTSTART:20251125T070000Z
DTEND:20251125T084000Z
SUMMARY:Уравнения математической физики
LOCATION:2 к. 265
END:VEVENT
BEGIN:VEVENT
UID:x77w@192.168.245.71:3006
SEQUENCE:0
DTSTAMP:20260425T203434Z
DTSTART:20251125T090000Z
DTEND:20251125T104000Z
SUMMARY:Уравнения математической физики
LOCATION:2 к. 265
END:VEVENT
BEGIN:VEVENT
UID:u7dl@192.168.245.71:3006
SEQUENCE:0
DTSTAMP:20260425T203434Z
DTSTART:20251125T110000Z
DTEND:20251125T124000Z
SUMMARY:Динамика твердого тела
LOCATION:НИК В2.02
END:VEVENT
BEGIN:VEVENT
UID:nyhb@192.168.245.71:3006
SEQUENCE:0
DTSTAMP:20260425T203434Z
DTSTART:20251125T130000Z
DTEND:20251125T144000Z
SUMMARY:Динамика твердого тела
LOCATION:НИК В2.02
END:VEVENT
BEGIN:VEVENT
UID:ktw0@192.168.245.71:3006
SEQUENCE:0
DTSTAMP:20260425T203434Z
DTSTART:20251126T060000Z
DTEND:20251126T074000Z
SUMMARY:Комплексный анализ
LOCATION:Мех. к. БМ
END:VEVENT
BEGIN:VEVENT
UID:6p44@192.168.245.71:3006
SEQUENCE:0
DTSTAMP:20260425T203434Z
DTSTART:20251126T090000Z
DTEND:20251126T104000Z
SUMMARY:Математическое моделирование (на английском языке)
LOCATION:НИК А2.07
END:VEVENT
BEGIN:VEVENT
UID:kxy1@192.168.245.71:3006
SEQUENCE:0
DTSTAMP:20260425T203434Z
DTSTART:20251126T110000Z
DTEND:20251126T124000Z
SUMMARY:Вычислительная механика
LOCATION:НИК В2.18
END:VEVENT
BEGIN:VEVENT
UID:7lry@192.168.245.71:3006
SEQUENCE:0
DTSTAMP:20260425T203434Z
DTSTART:20251126T130000Z
DTEND:20251126T144000Z
SUMMARY:Теория упругости
LOCATION:НИК В2.18
END:VEVENT
BEGIN:VEVENT
UID:76pa@192.168.245.71:3006
SEQUENCE:0
DTSTAMP:20260425T203434Z
DTSTART:20251127T070000Z
DTEND:20251127T084000Z
SUMMARY:Комплексный анализ
LOCATION:ГЗ 242
END:VEVENT
BEGIN:VEVENT
UID:mrru@192.168.245.71:3006
SEQUENCE:0
DTSTAMP:20260425T203434Z
DTSTART:20251127T090000Z
DTEND:20251127T104000Z
SUMMARY:Теория упругости
LOCATION:НИК В2.02
END:VEVENT
BEGIN:VEVENT
UID:f3uy@192.168.245.71:3006
SEQUENCE:0
DTSTAMP:20260425T203434Z
DTSTART:20251128T050000Z
DTEND:20251128T064000Z
SUMMARY:Военная подготовка
LOCATION:Военная каф. кафедра
END:VEVENT
BEGIN:VEVENT
UID:4017@192.168.245.71:3006
SEQUENCE:0
DTSTAMP:20260425T203434Z
DTSTART:20251128T070000Z
DTEND:20251128T084000Z
SUMMARY:Военная подготовка
LOCATION:Военная каф. кафедра
END:VEVENT
BEGIN:VEVENT
UID:shao@192.168.245.71:3006
SEQUENCE:0
DTSTAMP:20260425T203434Z
DTSTART:20251128T090000Z
DTEND:20251128T104000Z
SUMMARY:Военная подготовка
LOCATION:Военная каф. кафедра
END:VEVENT
END:VCALENDAR