BEGIN:VCALENDAR
VERSION:2.0
PRODID:-//spbstu.ru//ical//RU
NAME:Расписание группы 5030103/30201
X-WR-CALNAME:Расписание группы 5030103/30201
TIMEZONE-ID:Europe/Moscow
X-WR-TIMEZONE:Europe/Moscow
BEGIN:VEVENT
UID:m0dc@192.168.245.71:3006
SEQUENCE:0
DTSTAMP:20260424T050215Z
DTSTART:20260209T110000Z
DTEND:20260209T124000Z
SUMMARY:Теория колебаний
LOCATION:Мех. к. БМ
END:VEVENT
BEGIN:VEVENT
UID:2poh@192.168.245.71:3006
SEQUENCE:0
DTSTAMP:20260424T050215Z
DTSTART:20260209T130000Z
DTEND:20260209T144000Z
SUMMARY:Математическое моделирование (на английском языке)
LOCATION:НИК А2.07
END:VEVENT
BEGIN:VEVENT
UID:a4td@192.168.245.71:3006
SEQUENCE:0
DTSTAMP:20260424T050215Z
DTSTART:20260210T060000Z
DTEND:20260210T064000Z
SUMMARY:Уравнения математической физики
LOCATION:2 к. 265
END:VEVENT
BEGIN:VEVENT
UID:hg2v@192.168.245.71:3006
SEQUENCE:0
DTSTAMP:20260424T050215Z
DTSTART:20260210T070000Z
DTEND:20260210T084000Z
SUMMARY:Уравнения математической физики
LOCATION:2 к. 265
END:VEVENT
BEGIN:VEVENT
UID:iv5g@192.168.245.71:3006
SEQUENCE:0
DTSTAMP:20260424T050215Z
DTSTART:20260210T090000Z
DTEND:20260210T104000Z
SUMMARY:Уравнения математической физики
LOCATION:2 к. 265
END:VEVENT
BEGIN:VEVENT
UID:s6dj@192.168.245.71:3006
SEQUENCE:0
DTSTAMP:20260424T050215Z
DTSTART:20260210T110000Z
DTEND:20260210T124000Z
SUMMARY:Теория вероятностей\, математическая статистика и случайные процес
 сы
LOCATION:ГЗ 283
END:VEVENT
BEGIN:VEVENT
UID:4xak@192.168.245.71:3006
SEQUENCE:0
DTSTAMP:20260424T050215Z
DTSTART:20260211T090000Z
DTEND:20260211T104000Z
SUMMARY:Основы механики сплошной среды
LOCATION:НИК В2.02
END:VEVENT
BEGIN:VEVENT
UID:vgt2@192.168.245.71:3006
SEQUENCE:0
DTSTAMP:20260424T050215Z
DTSTART:20260211T110000Z
DTEND:20260211T124000Z
SUMMARY:Основы механики сплошной среды
LOCATION:НИК В2.02
END:VEVENT
BEGIN:VEVENT
UID:wkql@192.168.245.71:3006
SEQUENCE:0
DTSTAMP:20260424T050215Z
DTSTART:20260211T130000Z
DTEND:20260211T144000Z
SUMMARY:Теория упругости
LOCATION:НИК В2.02
END:VEVENT
BEGIN:VEVENT
UID:20bp@192.168.245.71:3006
SEQUENCE:0
DTSTAMP:20260424T050215Z
DTSTART:20260212T070000Z
DTEND:20260212T084000Z
SUMMARY:Вычислительная механика
LOCATION:НИК В2.03
END:VEVENT
BEGIN:VEVENT
UID:wstz@192.168.245.71:3006
SEQUENCE:0
DTSTAMP:20260424T050215Z
DTSTART:20260212T090000Z
DTEND:20260212T104000Z
SUMMARY:Основы биомеханики
LOCATION:НИК А2.02
END:VEVENT
BEGIN:VEVENT
UID:58hx@192.168.245.71:3006
SEQUENCE:0
DTSTAMP:20260424T050215Z
DTSTART:20260212T110000Z
DTEND:20260212T124000Z
SUMMARY:Теория упругости
LOCATION:Мех. к. БМ
END:VEVENT
BEGIN:VEVENT
UID:q2jt@192.168.245.71:3006
SEQUENCE:0
DTSTAMP:20260424T050215Z
DTSTART:20260212T130000Z
DTEND:20260212T144000Z
SUMMARY:Теория вероятностей\, математическая статистика и случайные процес
 сы
LOCATION:ГЗ 241
END:VEVENT
BEGIN:VEVENT
UID:0qp0@192.168.245.71:3006
SEQUENCE:0
DTSTAMP:20260424T050215Z
DTSTART:20260213T053500Z
DTEND:20260213T064000Z
SUMMARY:Военная подготовка
LOCATION:Военная каф. кафедра
END:VEVENT
BEGIN:VEVENT
UID:c2k0@192.168.245.71:3006
SEQUENCE:0
DTSTAMP:20260424T050215Z
DTSTART:20260213T070000Z
DTEND:20260213T084000Z
SUMMARY:Военная подготовка
LOCATION:Военная каф. кафедра
END:VEVENT
BEGIN:VEVENT
UID:vpvg@192.168.245.71:3006
SEQUENCE:0
DTSTAMP:20260424T050215Z
DTSTART:20260213T090000Z
DTEND:20260213T104000Z
SUMMARY:Военная подготовка
LOCATION:Военная каф. кафедра
END:VEVENT
END:VCALENDAR