BEGIN:VCALENDAR
VERSION:2.0
PRODID:-//spbstu.ru//ical//RU
NAME:Расписание группы 5030103/30201
X-WR-CALNAME:Расписание группы 5030103/30201
TIMEZONE-ID:Europe/Moscow
X-WR-TIMEZONE:Europe/Moscow
BEGIN:VEVENT
UID:hkcv@192.168.245.71:3006
SEQUENCE:0
DTSTAMP:20260421T090437Z
DTSTART:20260302T090000Z
DTEND:20260302T104000Z
SUMMARY:Теория колебаний
LOCATION:НИК А2.02
END:VEVENT
BEGIN:VEVENT
UID:3393@192.168.245.71:3006
SEQUENCE:0
DTSTAMP:20260421T090437Z
DTSTART:20260302T110000Z
DTEND:20260302T124000Z
SUMMARY:Теория колебаний
LOCATION:Мех. к. БМ
END:VEVENT
BEGIN:VEVENT
UID:iq7n@192.168.245.71:3006
SEQUENCE:0
DTSTAMP:20260421T090437Z
DTSTART:20260302T130000Z
DTEND:20260302T144000Z
SUMMARY:Математическое моделирование (на английском языке)
LOCATION:НИК А2.07
END:VEVENT
BEGIN:VEVENT
UID:yrce@192.168.245.71:3006
SEQUENCE:0
DTSTAMP:20260421T090437Z
DTSTART:20260303T060000Z
DTEND:20260303T064000Z
SUMMARY:Уравнения математической физики
LOCATION:2 к. 265
END:VEVENT
BEGIN:VEVENT
UID:a5f3@192.168.245.71:3006
SEQUENCE:0
DTSTAMP:20260421T090437Z
DTSTART:20260303T070000Z
DTEND:20260303T084000Z
SUMMARY:Уравнения математической физики
LOCATION:2 к. 265
END:VEVENT
BEGIN:VEVENT
UID:djrp@192.168.245.71:3006
SEQUENCE:0
DTSTAMP:20260421T090437Z
DTSTART:20260303T090000Z
DTEND:20260303T104000Z
SUMMARY:Уравнения математической физики
LOCATION:2 к. 265
END:VEVENT
BEGIN:VEVENT
UID:9ojq@192.168.245.71:3006
SEQUENCE:0
DTSTAMP:20260421T090437Z
DTSTART:20260303T110000Z
DTEND:20260303T124000Z
SUMMARY:Теория вероятностей\, математическая статистика и случайные процес
 сы
LOCATION:ГЗ 283
END:VEVENT
BEGIN:VEVENT
UID:dig1@192.168.245.71:3006
SEQUENCE:0
DTSTAMP:20260421T090437Z
DTSTART:20260304T090000Z
DTEND:20260304T104000Z
SUMMARY:Основы механики сплошной среды
LOCATION:НИК В2.02
END:VEVENT
BEGIN:VEVENT
UID:l10r@192.168.245.71:3006
SEQUENCE:0
DTSTAMP:20260421T090437Z
DTSTART:20260304T110000Z
DTEND:20260304T124000Z
SUMMARY:Основы механики сплошной среды
LOCATION:НИК В2.02
END:VEVENT
BEGIN:VEVENT
UID:hcbb@192.168.245.71:3006
SEQUENCE:0
DTSTAMP:20260421T090437Z
DTSTART:20260304T130000Z
DTEND:20260304T144000Z
SUMMARY:Теория упругости
LOCATION:НИК В2.02
END:VEVENT
BEGIN:VEVENT
UID:mqxb@192.168.245.71:3006
SEQUENCE:0
DTSTAMP:20260421T090437Z
DTSTART:20260305T070000Z
DTEND:20260305T084000Z
SUMMARY:Вычислительная механика
LOCATION:НИК В2.03
END:VEVENT
BEGIN:VEVENT
UID:ibhx@192.168.245.71:3006
SEQUENCE:0
DTSTAMP:20260421T090437Z
DTSTART:20260305T090000Z
DTEND:20260305T104000Z
SUMMARY:Основы биомеханики
LOCATION:НИК А2.02
END:VEVENT
BEGIN:VEVENT
UID:o7zx@192.168.245.71:3006
SEQUENCE:0
DTSTAMP:20260421T090437Z
DTSTART:20260305T110000Z
DTEND:20260305T124000Z
SUMMARY:Теория упругости
LOCATION:ГЗ 329
END:VEVENT
BEGIN:VEVENT
UID:vo1k@192.168.245.71:3006
SEQUENCE:0
DTSTAMP:20260421T090437Z
DTSTART:20260305T130000Z
DTEND:20260305T144000Z
SUMMARY:Теория вероятностей\, математическая статистика и случайные процес
 сы
LOCATION:ГЗ 241
END:VEVENT
BEGIN:VEVENT
UID:3qm9@192.168.245.71:3006
SEQUENCE:0
DTSTAMP:20260421T090437Z
DTSTART:20260306T053500Z
DTEND:20260306T064000Z
SUMMARY:Военная подготовка
LOCATION:Военная каф. кафедра
END:VEVENT
BEGIN:VEVENT
UID:7684@192.168.245.71:3006
SEQUENCE:0
DTSTAMP:20260421T090437Z
DTSTART:20260306T070000Z
DTEND:20260306T084000Z
SUMMARY:Военная подготовка
LOCATION:Военная каф. кафедра
END:VEVENT
BEGIN:VEVENT
UID:mr2z@192.168.245.71:3006
SEQUENCE:0
DTSTAMP:20260421T090437Z
DTSTART:20260306T090000Z
DTEND:20260306T104000Z
SUMMARY:Военная подготовка
LOCATION:Военная каф. кафедра
END:VEVENT
END:VCALENDAR