BEGIN:VCALENDAR
VERSION:2.0
PRODID:-//spbstu.ru//ical//RU
NAME:Расписание группы 5030103/30201
X-WR-CALNAME:Расписание группы 5030103/30201
TIMEZONE-ID:Europe/Moscow
X-WR-TIMEZONE:Europe/Moscow
BEGIN:VEVENT
UID:yivw@192.168.245.71:3006
SEQUENCE:0
DTSTAMP:20260420T202424Z
DTSTART:20260413T090000Z
DTEND:20260413T104000Z
SUMMARY:Теория колебаний
LOCATION:НИК А2.02
END:VEVENT
BEGIN:VEVENT
UID:b0cl@192.168.245.71:3006
SEQUENCE:0
DTSTAMP:20260420T202424Z
DTSTART:20260413T110000Z
DTEND:20260413T124000Z
SUMMARY:Теория колебаний
LOCATION:Мех. к. БМ
END:VEVENT
BEGIN:VEVENT
UID:gdr6@192.168.245.71:3006
SEQUENCE:0
DTSTAMP:20260420T202424Z
DTSTART:20260413T130000Z
DTEND:20260413T144000Z
SUMMARY:Математическое моделирование (на английском языке)
LOCATION:НИК А2.07
END:VEVENT
BEGIN:VEVENT
UID:64l0@192.168.245.71:3006
SEQUENCE:0
DTSTAMP:20260420T202424Z
DTSTART:20260414T060000Z
DTEND:20260414T064000Z
SUMMARY:Уравнения математической физики
LOCATION:2 к. 265
END:VEVENT
BEGIN:VEVENT
UID:4m2m@192.168.245.71:3006
SEQUENCE:0
DTSTAMP:20260420T202424Z
DTSTART:20260414T070000Z
DTEND:20260414T084000Z
SUMMARY:Уравнения математической физики
LOCATION:2 к. 265
END:VEVENT
BEGIN:VEVENT
UID:bxfo@192.168.245.71:3006
SEQUENCE:0
DTSTAMP:20260420T202424Z
DTSTART:20260414T090000Z
DTEND:20260414T104000Z
SUMMARY:Уравнения математической физики
LOCATION:2 к. 265
END:VEVENT
BEGIN:VEVENT
UID:p1m5@192.168.245.71:3006
SEQUENCE:0
DTSTAMP:20260420T202424Z
DTSTART:20260414T110000Z
DTEND:20260414T124000Z
SUMMARY:Теория вероятностей\, математическая статистика и случайные процес
 сы
LOCATION:ГЗ 283
END:VEVENT
BEGIN:VEVENT
UID:89eg@192.168.245.71:3006
SEQUENCE:0
DTSTAMP:20260420T202424Z
DTSTART:20260415T090000Z
DTEND:20260415T104000Z
SUMMARY:Основы механики сплошной среды
LOCATION:НИК В2.02
END:VEVENT
BEGIN:VEVENT
UID:5als@192.168.245.71:3006
SEQUENCE:0
DTSTAMP:20260420T202424Z
DTSTART:20260415T110000Z
DTEND:20260415T124000Z
SUMMARY:Основы механики сплошной среды
LOCATION:НИК В2.02
END:VEVENT
BEGIN:VEVENT
UID:d9a6@192.168.245.71:3006
SEQUENCE:0
DTSTAMP:20260420T202424Z
DTSTART:20260415T130000Z
DTEND:20260415T144000Z
SUMMARY:Теория упругости
LOCATION:НИК В2.02
END:VEVENT
BEGIN:VEVENT
UID:gd9q@192.168.245.71:3006
SEQUENCE:0
DTSTAMP:20260420T202424Z
DTSTART:20260416T070000Z
DTEND:20260416T084000Z
SUMMARY:Вычислительная механика
LOCATION:НИК В2.03
END:VEVENT
BEGIN:VEVENT
UID:hulp@192.168.245.71:3006
SEQUENCE:0
DTSTAMP:20260420T202424Z
DTSTART:20260416T090000Z
DTEND:20260416T104000Z
SUMMARY:Основы биомеханики
LOCATION:НИК А2.02
END:VEVENT
BEGIN:VEVENT
UID:ia73@192.168.245.71:3006
SEQUENCE:0
DTSTAMP:20260420T202424Z
DTSTART:20260416T110000Z
DTEND:20260416T124000Z
SUMMARY:Теория упругости
LOCATION:ГЗ 329
END:VEVENT
BEGIN:VEVENT
UID:8dd9@192.168.245.71:3006
SEQUENCE:0
DTSTAMP:20260420T202424Z
DTSTART:20260416T130000Z
DTEND:20260416T144000Z
SUMMARY:Теория вероятностей\, математическая статистика и случайные процес
 сы
LOCATION:ГЗ 241
END:VEVENT
BEGIN:VEVENT
UID:4z8p@192.168.245.71:3006
SEQUENCE:0
DTSTAMP:20260420T202424Z
DTSTART:20260417T053500Z
DTEND:20260417T064000Z
SUMMARY:Военная подготовка
LOCATION:Военная каф. кафедра
END:VEVENT
BEGIN:VEVENT
UID:1mvb@192.168.245.71:3006
SEQUENCE:0
DTSTAMP:20260420T202424Z
DTSTART:20260417T070000Z
DTEND:20260417T084000Z
SUMMARY:Военная подготовка
LOCATION:Военная каф. кафедра
END:VEVENT
BEGIN:VEVENT
UID:tgks@192.168.245.71:3006
SEQUENCE:0
DTSTAMP:20260420T202424Z
DTSTART:20260417T090000Z
DTEND:20260417T104000Z
SUMMARY:Военная подготовка
LOCATION:Военная каф. кафедра
END:VEVENT
END:VCALENDAR