BEGIN:VCALENDAR
VERSION:2.0
PRODID:-//spbstu.ru//ical//RU
NAME:Расписание группы 5030103/30301
X-WR-CALNAME:Расписание группы 5030103/30301
TIMEZONE-ID:Europe/Moscow
X-WR-TIMEZONE:Europe/Moscow
BEGIN:VEVENT
UID:7j10@192.168.245.71:3006
SEQUENCE:0
DTSTAMP:20260422T121837Z
DTSTART:20260511T090000Z
DTEND:20260511T104000Z
SUMMARY:Уравнения математической физики
LOCATION:НИК А2.25
END:VEVENT
BEGIN:VEVENT
UID:f7h1@192.168.245.71:3006
SEQUENCE:0
DTSTAMP:20260422T121837Z
DTSTART:20260511T110000Z
DTEND:20260511T124000Z
SUMMARY:Теория колебаний
LOCATION:Мех. к. БМ
END:VEVENT
BEGIN:VEVENT
UID:0n4j@192.168.245.71:3006
SEQUENCE:0
DTSTAMP:20260422T121837Z
DTSTART:20260511T130000Z
DTEND:20260511T144000Z
SUMMARY:Основы нефтегазового дела
LOCATION:НИК А2.02
END:VEVENT
BEGIN:VEVENT
UID:29hm@192.168.245.71:3006
SEQUENCE:0
DTSTAMP:20260422T121837Z
DTSTART:20260512T090000Z
DTEND:20260512T104000Z
SUMMARY:Уравнения математической физики
LOCATION:2 к. 265
END:VEVENT
BEGIN:VEVENT
UID:rbzu@192.168.245.71:3006
SEQUENCE:0
DTSTAMP:20260422T121837Z
DTSTART:20260512T110000Z
DTEND:20260512T124000Z
SUMMARY:Теория вероятностей\, математическая статистика и случайные процес
 сы
LOCATION:ГЗ 283
END:VEVENT
BEGIN:VEVENT
UID:qg9p@192.168.245.71:3006
SEQUENCE:0
DTSTAMP:20260422T121837Z
DTSTART:20260512T130000Z
DTEND:20260512T144000Z
SUMMARY:Теория вероятностей\, математическая статистика и случайные процес
 сы
LOCATION:ГЗ 241
END:VEVENT
BEGIN:VEVENT
UID:p1co@192.168.245.71:3006
SEQUENCE:0
DTSTAMP:20260422T121837Z
DTSTART:20260513T090000Z
DTEND:20260513T104000Z
SUMMARY:Основы механики сплошной среды
LOCATION:НИК В2.02
END:VEVENT
BEGIN:VEVENT
UID:ptjz@192.168.245.71:3006
SEQUENCE:0
DTSTAMP:20260422T121837Z
DTSTART:20260513T110000Z
DTEND:20260513T124000Z
SUMMARY:Основы механики сплошной среды
LOCATION:НИК В2.02
END:VEVENT
BEGIN:VEVENT
UID:b4la@192.168.245.71:3006
SEQUENCE:0
DTSTAMP:20260422T121837Z
DTSTART:20260513T130000Z
DTEND:20260513T144000Z
SUMMARY:Теория упругости
LOCATION:НИК В2.02
END:VEVENT
BEGIN:VEVENT
UID:c1v5@192.168.245.71:3006
SEQUENCE:0
DTSTAMP:20260422T121837Z
DTSTART:20260514T070000Z
DTEND:20260514T084000Z
SUMMARY:Математическое моделирование (на английском языке)
LOCATION:НИК А2.07
END:VEVENT
BEGIN:VEVENT
UID:7aod@192.168.245.71:3006
SEQUENCE:0
DTSTAMP:20260422T121837Z
DTSTART:20260514T110000Z
DTEND:20260514T124000Z
SUMMARY:Теория упругости
LOCATION:ГЗ 329
END:VEVENT
BEGIN:VEVENT
UID:pkwv@192.168.245.71:3006
SEQUENCE:0
DTSTAMP:20260422T121837Z
DTSTART:20260514T130000Z
DTEND:20260514T144000Z
SUMMARY:Вычислительная механика
LOCATION:НИК А2.02
END:VEVENT
BEGIN:VEVENT
UID:bq2e@192.168.245.71:3006
SEQUENCE:0
DTSTAMP:20260422T121837Z
DTSTART:20260515T053500Z
DTEND:20260515T064000Z
SUMMARY:Военная подготовка
LOCATION:Военная каф. кафедра
END:VEVENT
BEGIN:VEVENT
UID:4vrd@192.168.245.71:3006
SEQUENCE:0
DTSTAMP:20260422T121837Z
DTSTART:20260515T070000Z
DTEND:20260515T084000Z
SUMMARY:Военная подготовка
LOCATION:Военная каф. кафедра
END:VEVENT
BEGIN:VEVENT
UID:zxwt@192.168.245.71:3006
SEQUENCE:0
DTSTAMP:20260422T121837Z
DTSTART:20260515T090000Z
DTEND:20260515T104000Z
SUMMARY:Военная подготовка
LOCATION:Военная каф. кафедра
END:VEVENT
END:VCALENDAR