BEGIN:VCALENDAR
VERSION:2.0
PRODID:-//spbstu.ru//ical//RU
NAME:Расписание группы 5030103/30301
X-WR-CALNAME:Расписание группы 5030103/30301
TIMEZONE-ID:Europe/Moscow
X-WR-TIMEZONE:Europe/Moscow
BEGIN:VEVENT
UID:tzmb@192.168.245.71:3006
SEQUENCE:0
DTSTAMP:20260422T043023Z
DTSTART:20260504T070000Z
DTEND:20260504T084000Z
SUMMARY:Уравнения математической физики
LOCATION:НИК А2.25
END:VEVENT
BEGIN:VEVENT
UID:a5mh@192.168.245.71:3006
SEQUENCE:0
DTSTAMP:20260422T043023Z
DTSTART:20260504T090000Z
DTEND:20260504T104000Z
SUMMARY:Уравнения математической физики
LOCATION:НИК А2.25
END:VEVENT
BEGIN:VEVENT
UID:4lg1@192.168.245.71:3006
SEQUENCE:0
DTSTAMP:20260422T043023Z
DTSTART:20260504T110000Z
DTEND:20260504T124000Z
SUMMARY:Теория колебаний
LOCATION:Мех. к. БМ
END:VEVENT
BEGIN:VEVENT
UID:pvu9@192.168.245.71:3006
SEQUENCE:0
DTSTAMP:20260422T043023Z
DTSTART:20260504T130000Z
DTEND:20260504T144000Z
SUMMARY:Основы нефтегазового дела
LOCATION:НИК А2.02
END:VEVENT
BEGIN:VEVENT
UID:hso9@192.168.245.71:3006
SEQUENCE:0
DTSTAMP:20260422T043023Z
DTSTART:20260505T070000Z
DTEND:20260505T084000Z
SUMMARY:Теория колебаний
LOCATION:ГЗ 241
END:VEVENT
BEGIN:VEVENT
UID:98uj@192.168.245.71:3006
SEQUENCE:0
DTSTAMP:20260422T043023Z
DTSTART:20260505T090000Z
DTEND:20260505T104000Z
SUMMARY:Уравнения математической физики
LOCATION:2 к. 265
END:VEVENT
BEGIN:VEVENT
UID:0sn0@192.168.245.71:3006
SEQUENCE:0
DTSTAMP:20260422T043023Z
DTSTART:20260505T110000Z
DTEND:20260505T124000Z
SUMMARY:Теория вероятностей\, математическая статистика и случайные процес
 сы
LOCATION:ГЗ 283
END:VEVENT
BEGIN:VEVENT
UID:t3w5@192.168.245.71:3006
SEQUENCE:0
DTSTAMP:20260422T043023Z
DTSTART:20260505T130000Z
DTEND:20260505T144000Z
SUMMARY:Теория вероятностей\, математическая статистика и случайные процес
 сы
LOCATION:ГЗ 241
END:VEVENT
BEGIN:VEVENT
UID:lpur@192.168.245.71:3006
SEQUENCE:0
DTSTAMP:20260422T043023Z
DTSTART:20260506T090000Z
DTEND:20260506T104000Z
SUMMARY:Основы механики сплошной среды
LOCATION:НИК В2.02
END:VEVENT
BEGIN:VEVENT
UID:szmw@192.168.245.71:3006
SEQUENCE:0
DTSTAMP:20260422T043023Z
DTSTART:20260506T110000Z
DTEND:20260506T124000Z
SUMMARY:Основы механики сплошной среды
LOCATION:НИК В2.02
END:VEVENT
BEGIN:VEVENT
UID:tgdk@192.168.245.71:3006
SEQUENCE:0
DTSTAMP:20260422T043023Z
DTSTART:20260506T130000Z
DTEND:20260506T144000Z
SUMMARY:Теория упругости
LOCATION:НИК В2.02
END:VEVENT
BEGIN:VEVENT
UID:1do5@192.168.245.71:3006
SEQUENCE:0
DTSTAMP:20260422T043023Z
DTSTART:20260507T070000Z
DTEND:20260507T084000Z
SUMMARY:Математическое моделирование (на английском языке)
LOCATION:НИК А2.07
END:VEVENT
BEGIN:VEVENT
UID:crve@192.168.245.71:3006
SEQUENCE:0
DTSTAMP:20260422T043023Z
DTSTART:20260507T110000Z
DTEND:20260507T124000Z
SUMMARY:Теория упругости
LOCATION:ГЗ 329
END:VEVENT
BEGIN:VEVENT
UID:s3ld@192.168.245.71:3006
SEQUENCE:0
DTSTAMP:20260422T043023Z
DTSTART:20260507T130000Z
DTEND:20260507T144000Z
SUMMARY:Вычислительная механика
LOCATION:НИК А2.02
END:VEVENT
BEGIN:VEVENT
UID:1ycu@192.168.245.71:3006
SEQUENCE:0
DTSTAMP:20260422T043023Z
DTSTART:20260508T053500Z
DTEND:20260508T064000Z
SUMMARY:Военная подготовка
LOCATION:Военная каф. кафедра
END:VEVENT
BEGIN:VEVENT
UID:zsce@192.168.245.71:3006
SEQUENCE:0
DTSTAMP:20260422T043023Z
DTSTART:20260508T070000Z
DTEND:20260508T084000Z
SUMMARY:Военная подготовка
LOCATION:Военная каф. кафедра
END:VEVENT
BEGIN:VEVENT
UID:txky@192.168.245.71:3006
SEQUENCE:0
DTSTAMP:20260422T043023Z
DTSTART:20260508T090000Z
DTEND:20260508T104000Z
SUMMARY:Военная подготовка
LOCATION:Военная каф. кафедра
END:VEVENT
END:VCALENDAR