BEGIN:VCALENDAR
VERSION:2.0
PRODID:-//spbstu.ru//ical//RU
NAME:Расписание группы 5030103/30302
X-WR-CALNAME:Расписание группы 5030103/30302
TIMEZONE-ID:Europe/Moscow
X-WR-TIMEZONE:Europe/Moscow
BEGIN:VEVENT
UID:0ts4@192.168.245.71:3006
SEQUENCE:0
DTSTAMP:20260422T011705Z
DTSTART:20260119T130000Z
DTEND:20260119T143000Z
SUMMARY:Комплексный анализ
LOCATION:Мех. к. БМ
END:VEVENT
BEGIN:VEVENT
UID:uf28@192.168.245.71:3006
SEQUENCE:0
DTSTAMP:20260422T011705Z
DTSTART:20260120T070000Z
DTEND:20260120T130000Z
SUMMARY:Комплексный анализ
LOCATION:Мех. к. БМ
END:VEVENT
BEGIN:VEVENT
UID:vkwb@192.168.245.71:3006
SEQUENCE:0
DTSTAMP:20260422T011705Z
DTSTART:20260123T070000Z
DTEND:20260123T083000Z
SUMMARY:Уравнения математической физики
LOCATION:НИК В2.18
END:VEVENT
BEGIN:VEVENT
UID:th98@192.168.245.71:3006
SEQUENCE:0
DTSTAMP:20260422T011705Z
DTSTART:20260124T070000Z
DTEND:20260124T130000Z
SUMMARY:Уравнения математической физики
LOCATION:НИК В2.03
END:VEVENT
END:VCALENDAR