BEGIN:VCALENDAR
VERSION:2.0
PRODID:-//spbstu.ru//ical//RU
NAME:Расписание группы 5030103/30302
X-WR-CALNAME:Расписание группы 5030103/30302
TIMEZONE-ID:Europe/Moscow
X-WR-TIMEZONE:Europe/Moscow
BEGIN:VEVENT
UID:rgz5@192.168.245.71:3006
SEQUENCE:0
DTSTAMP:20260421T084846Z
DTSTART:20260224T060000Z
DTEND:20260224T064000Z
SUMMARY:Уравнения математической физики
LOCATION:2 к. 265
END:VEVENT
BEGIN:VEVENT
UID:6hwh@192.168.245.71:3006
SEQUENCE:0
DTSTAMP:20260421T084846Z
DTSTART:20260224T070000Z
DTEND:20260224T084000Z
SUMMARY:Уравнения математической физики
LOCATION:2 к. 265
END:VEVENT
BEGIN:VEVENT
UID:v1rm@192.168.245.71:3006
SEQUENCE:0
DTSTAMP:20260421T084846Z
DTSTART:20260224T090000Z
DTEND:20260224T104000Z
SUMMARY:Уравнения математической физики
LOCATION:2 к. 265
END:VEVENT
BEGIN:VEVENT
UID:0e5s@192.168.245.71:3006
SEQUENCE:0
DTSTAMP:20260421T084846Z
DTSTART:20260224T110000Z
DTEND:20260224T123000Z
SUMMARY:Уравнения математической физики
LOCATION:НИК А2.04.1
END:VEVENT
BEGIN:VEVENT
UID:vmcv@192.168.245.71:3006
SEQUENCE:0
DTSTAMP:20260421T084846Z
DTSTART:20260224T110000Z
DTEND:20260224T124000Z
SUMMARY:Теория вероятностей\, математическая статистика и случайные процес
 сы
LOCATION:ГЗ 283
END:VEVENT
BEGIN:VEVENT
UID:7w7h@192.168.245.71:3006
SEQUENCE:0
DTSTAMP:20260421T084846Z
DTSTART:20260225T090000Z
DTEND:20260225T104000Z
SUMMARY:Основы механики сплошной среды
LOCATION:НИК В2.02
END:VEVENT
BEGIN:VEVENT
UID:80cf@192.168.245.71:3006
SEQUENCE:0
DTSTAMP:20260421T084846Z
DTSTART:20260225T110000Z
DTEND:20260225T124000Z
SUMMARY:Основы механики сплошной среды
LOCATION:НИК В2.02
END:VEVENT
BEGIN:VEVENT
UID:lawm@192.168.245.71:3006
SEQUENCE:0
DTSTAMP:20260421T084846Z
DTSTART:20260225T130000Z
DTEND:20260225T144000Z
SUMMARY:Теория упругости
LOCATION:НИК В2.02
END:VEVENT
BEGIN:VEVENT
UID:umxz@192.168.245.71:3006
SEQUENCE:0
DTSTAMP:20260421T084846Z
DTSTART:20260226T070000Z
DTEND:20260226T084000Z
SUMMARY:Теория вероятностей\, математическая статистика и случайные процес
 сы
LOCATION:ГЗ 241
END:VEVENT
BEGIN:VEVENT
UID:0a03@192.168.245.71:3006
SEQUENCE:0
DTSTAMP:20260421T084846Z
DTSTART:20260226T090000Z
DTEND:20260226T104000Z
SUMMARY:Математическое моделирование (на английском языке)
LOCATION:НИК А2.07
END:VEVENT
BEGIN:VEVENT
UID:1k68@192.168.245.71:3006
SEQUENCE:0
DTSTAMP:20260421T084846Z
DTSTART:20260226T110000Z
DTEND:20260226T124000Z
SUMMARY:Теория упругости
LOCATION:ГЗ 329
END:VEVENT
BEGIN:VEVENT
UID:v10k@192.168.245.71:3006
SEQUENCE:0
DTSTAMP:20260421T084846Z
DTSTART:20260226T130000Z
DTEND:20260226T144000Z
SUMMARY:Вычислительная механика
LOCATION:НИК А2.02
END:VEVENT
BEGIN:VEVENT
UID:dl3i@192.168.245.71:3006
SEQUENCE:0
DTSTAMP:20260421T084846Z
DTSTART:20260226T150000Z
DTEND:20260226T163000Z
SUMMARY:Динамика твердого тела
LOCATION:НИК А2.02
END:VEVENT
BEGIN:VEVENT
UID:40xt@192.168.245.71:3006
SEQUENCE:0
DTSTAMP:20260421T084846Z
DTSTART:20260227T053500Z
DTEND:20260227T064000Z
SUMMARY:Военная подготовка
LOCATION:Военная каф. кафедра
END:VEVENT
BEGIN:VEVENT
UID:lseq@192.168.245.71:3006
SEQUENCE:0
DTSTAMP:20260421T084846Z
DTSTART:20260227T070000Z
DTEND:20260227T084000Z
SUMMARY:Военная подготовка
LOCATION:Военная каф. кафедра
END:VEVENT
BEGIN:VEVENT
UID:kurf@192.168.245.71:3006
SEQUENCE:0
DTSTAMP:20260421T084846Z
DTSTART:20260227T090000Z
DTEND:20260227T104000Z
SUMMARY:Военная подготовка
LOCATION:Военная каф. кафедра
END:VEVENT
BEGIN:VEVENT
UID:fqzv@192.168.245.71:3006
SEQUENCE:0
DTSTAMP:20260421T084846Z
DTSTART:20260227T150000Z
DTEND:20260227T163000Z
SUMMARY:Вычислительная механика
LOCATION:НИК А2.25
END:VEVENT
END:VCALENDAR