BEGIN:VCALENDAR
VERSION:2.0
PRODID:-//spbstu.ru//ical//RU
NAME:Расписание группы 5030103/30302
X-WR-CALNAME:Расписание группы 5030103/30302
TIMEZONE-ID:Europe/Moscow
X-WR-TIMEZONE:Europe/Moscow
BEGIN:VEVENT
UID:soi3@192.168.245.71:3006
SEQUENCE:0
DTSTAMP:20260420T221837Z
DTSTART:20260406T090000Z
DTEND:20260406T104000Z
SUMMARY:Теория колебаний
LOCATION:НИК А2.02
END:VEVENT
BEGIN:VEVENT
UID:x42a@192.168.245.71:3006
SEQUENCE:0
DTSTAMP:20260420T221837Z
DTSTART:20260406T110000Z
DTEND:20260406T124000Z
SUMMARY:Теория колебаний
LOCATION:Мех. к. БМ
END:VEVENT
BEGIN:VEVENT
UID:q28u@192.168.245.71:3006
SEQUENCE:0
DTSTAMP:20260420T221837Z
DTSTART:20260406T130000Z
DTEND:20260406T144000Z
SUMMARY:Основы нефтегазового дела
LOCATION:НИК А2.02
END:VEVENT
BEGIN:VEVENT
UID:1y62@192.168.245.71:3006
SEQUENCE:0
DTSTAMP:20260420T221837Z
DTSTART:20260407T060000Z
DTEND:20260407T064000Z
SUMMARY:Уравнения математической физики
LOCATION:2 к. 265
END:VEVENT
BEGIN:VEVENT
UID:gvou@192.168.245.71:3006
SEQUENCE:0
DTSTAMP:20260420T221837Z
DTSTART:20260407T070000Z
DTEND:20260407T084000Z
SUMMARY:Уравнения математической физики
LOCATION:2 к. 265
END:VEVENT
BEGIN:VEVENT
UID:zr9f@192.168.245.71:3006
SEQUENCE:0
DTSTAMP:20260420T221837Z
DTSTART:20260407T090000Z
DTEND:20260407T104000Z
SUMMARY:Уравнения математической физики
LOCATION:2 к. 265
END:VEVENT
BEGIN:VEVENT
UID:w27b@192.168.245.71:3006
SEQUENCE:0
DTSTAMP:20260420T221837Z
DTSTART:20260407T110000Z
DTEND:20260407T124000Z
SUMMARY:Теория вероятностей\, математическая статистика и случайные процес
 сы
LOCATION:ГЗ 283
END:VEVENT
BEGIN:VEVENT
UID:tx3k@192.168.245.71:3006
SEQUENCE:0
DTSTAMP:20260420T221837Z
DTSTART:20260407T110000Z
DTEND:20260407T123000Z
SUMMARY:Уравнения математической физики
LOCATION:НИК А2.04.1
END:VEVENT
BEGIN:VEVENT
UID:o22l@192.168.245.71:3006
SEQUENCE:0
DTSTAMP:20260420T221837Z
DTSTART:20260408T090000Z
DTEND:20260408T104000Z
SUMMARY:Основы механики сплошной среды
LOCATION:НИК В2.02
END:VEVENT
BEGIN:VEVENT
UID:blrd@192.168.245.71:3006
SEQUENCE:0
DTSTAMP:20260420T221837Z
DTSTART:20260408T110000Z
DTEND:20260408T124000Z
SUMMARY:Основы механики сплошной среды
LOCATION:НИК В2.02
END:VEVENT
BEGIN:VEVENT
UID:c8x7@192.168.245.71:3006
SEQUENCE:0
DTSTAMP:20260420T221837Z
DTSTART:20260408T130000Z
DTEND:20260408T144000Z
SUMMARY:Теория упругости
LOCATION:НИК В2.02
END:VEVENT
BEGIN:VEVENT
UID:qvgg@192.168.245.71:3006
SEQUENCE:0
DTSTAMP:20260420T221837Z
DTSTART:20260409T070000Z
DTEND:20260409T084000Z
SUMMARY:Теория вероятностей\, математическая статистика и случайные процес
 сы
LOCATION:ГЗ 241
END:VEVENT
BEGIN:VEVENT
UID:pr4n@192.168.245.71:3006
SEQUENCE:0
DTSTAMP:20260420T221837Z
DTSTART:20260409T090000Z
DTEND:20260409T104000Z
SUMMARY:Математическое моделирование (на английском языке)
LOCATION:НИК А2.07
END:VEVENT
BEGIN:VEVENT
UID:109s@192.168.245.71:3006
SEQUENCE:0
DTSTAMP:20260420T221837Z
DTSTART:20260409T110000Z
DTEND:20260409T124000Z
SUMMARY:Теория упругости
LOCATION:ГЗ 329
END:VEVENT
BEGIN:VEVENT
UID:k8w6@192.168.245.71:3006
SEQUENCE:0
DTSTAMP:20260420T221837Z
DTSTART:20260409T130000Z
DTEND:20260409T144000Z
SUMMARY:Вычислительная механика
LOCATION:НИК А2.02
END:VEVENT
BEGIN:VEVENT
UID:wazg@192.168.245.71:3006
SEQUENCE:0
DTSTAMP:20260420T221837Z
DTSTART:20260409T150000Z
DTEND:20260409T163000Z
SUMMARY:Вычислительная механика
LOCATION:НИК А2.02
END:VEVENT
BEGIN:VEVENT
UID:ibcg@192.168.245.71:3006
SEQUENCE:0
DTSTAMP:20260420T221837Z
DTSTART:20260410T053500Z
DTEND:20260410T064000Z
SUMMARY:Военная подготовка
LOCATION:Военная каф. кафедра
END:VEVENT
BEGIN:VEVENT
UID:il2y@192.168.245.71:3006
SEQUENCE:0
DTSTAMP:20260420T221837Z
DTSTART:20260410T070000Z
DTEND:20260410T084000Z
SUMMARY:Военная подготовка
LOCATION:Военная каф. кафедра
END:VEVENT
BEGIN:VEVENT
UID:v90u@192.168.245.71:3006
SEQUENCE:0
DTSTAMP:20260420T221837Z
DTSTART:20260410T090000Z
DTEND:20260410T104000Z
SUMMARY:Военная подготовка
LOCATION:Военная каф. кафедра
END:VEVENT
END:VCALENDAR