BEGIN:VCALENDAR
VERSION:2.0
PRODID:-//spbstu.ru//ical//RU
NAME:Расписание группы 5030301/30101
X-WR-CALNAME:Расписание группы 5030301/30101
TIMEZONE-ID:Europe/Moscow
X-WR-TIMEZONE:Europe/Moscow
BEGIN:VEVENT
UID:whyg@192.168.245.71:3006
SEQUENCE:0
DTSTAMP:20260426T022916Z
DTSTART:20251013T070000Z
DTEND:20251013T084000Z
SUMMARY:Исследовательские проекты в области механики сплошных сред
LOCATION:1 к. каф. ГГТ\, 3 этаж
END:VEVENT
BEGIN:VEVENT
UID:1a1s@192.168.245.71:3006
SEQUENCE:0
DTSTAMP:20260426T022916Z
DTSTART:20251013T090000Z
DTEND:20251013T104000Z
SUMMARY:Введение в технологии суперкомпьютерных вычислений
LOCATION:1 к. каф. ГГТ\, 1 этаж
END:VEVENT
BEGIN:VEVENT
UID:cqby@192.168.245.71:3006
SEQUENCE:0
DTSTAMP:20260426T022916Z
DTSTART:20251013T110000Z
DTEND:20251013T124000Z
SUMMARY:Основы теории вероятностей и стохастических процессов
LOCATION:2 к. 143
END:VEVENT
BEGIN:VEVENT
UID:14up@192.168.245.71:3006
SEQUENCE:0
DTSTAMP:20260426T022916Z
DTSTART:20251014T060000Z
DTEND:20251014T065000Z
SUMMARY:Уравнения математической физики
LOCATION:НИК В2.03
END:VEVENT
BEGIN:VEVENT
UID:vbc5@192.168.245.71:3006
SEQUENCE:0
DTSTAMP:20260426T022916Z
DTSTART:20251014T070000Z
DTEND:20251014T084000Z
SUMMARY:Уравнения математической физики
LOCATION:НИК В2.03
END:VEVENT
BEGIN:VEVENT
UID:x4i0@192.168.245.71:3006
SEQUENCE:0
DTSTAMP:20260426T022916Z
DTSTART:20251014T090000Z
DTEND:20251014T104000Z
SUMMARY:Уравнения математической физики
LOCATION:2 к. 265
END:VEVENT
BEGIN:VEVENT
UID:vmig@192.168.245.71:3006
SEQUENCE:0
DTSTAMP:20260426T022916Z
DTSTART:20251014T110000Z
DTEND:20251014T124000Z
SUMMARY:Основы теплофизики
LOCATION:2 к. 160
END:VEVENT
BEGIN:VEVENT
UID:pblq@192.168.245.71:3006
SEQUENCE:0
DTSTAMP:20260426T022916Z
DTSTART:20251015T090000Z
DTEND:20251015T104000Z
SUMMARY:Основы радиофизики
LOCATION:2 к. 160
END:VEVENT
BEGIN:VEVENT
UID:6rqd@192.168.245.71:3006
SEQUENCE:0
DTSTAMP:20260426T022916Z
DTSTART:20251015T110000Z
DTEND:20251015T124000Z
SUMMARY:Механика деформируемого твердого тела. Теория упругости
LOCATION:НИК В2.03
END:VEVENT
BEGIN:VEVENT
UID:p7c6@192.168.245.71:3006
SEQUENCE:0
DTSTAMP:20260426T022916Z
DTSTART:20251015T130000Z
DTEND:20251015T135000Z
SUMMARY:Механика деформируемого твердого тела. Теория упругости
LOCATION:НИК В2.03
END:VEVENT
BEGIN:VEVENT
UID:1qs9@192.168.245.71:3006
SEQUENCE:0
DTSTAMP:20260426T022916Z
DTSTART:20251016T070000Z
DTEND:20251016T084000Z
SUMMARY:Основы теплофизики
LOCATION:1 к. каф. ГГТ\, 3 этаж
END:VEVENT
BEGIN:VEVENT
UID:6k19@192.168.245.71:3006
SEQUENCE:0
DTSTAMP:20260426T022916Z
DTSTART:20251016T090000Z
DTEND:20251016T104000Z
SUMMARY:Основы механики жидкости и газа
LOCATION:2 к. 160
END:VEVENT
BEGIN:VEVENT
UID:rxy9@192.168.245.71:3006
SEQUENCE:0
DTSTAMP:20260426T022916Z
DTSTART:20251016T110000Z
DTEND:20251016T124000Z
SUMMARY:Иностранный язык. Профессионально-ориентированный курс
LOCATION:1 к. каф. ГГТ\, 3 этаж
END:VEVENT
BEGIN:VEVENT
UID:9g77@192.168.245.71:3006
SEQUENCE:0
DTSTAMP:20260426T022916Z
DTSTART:20251016T130000Z
DTEND:20251016T144000Z
SUMMARY:Иностранный язык. Профессионально-ориентированный курс
LOCATION:1 к. каф. ГГТ\, 3 этаж
END:VEVENT
BEGIN:VEVENT
UID:tmt5@192.168.245.71:3006
SEQUENCE:0
DTSTAMP:20260426T022916Z
DTSTART:20251017T050000Z
DTEND:20251017T064000Z
SUMMARY:Военная подготовка
LOCATION:Военная каф. кафедра
END:VEVENT
BEGIN:VEVENT
UID:i64t@192.168.245.71:3006
SEQUENCE:0
DTSTAMP:20260426T022916Z
DTSTART:20251017T070000Z
DTEND:20251017T084000Z
SUMMARY:Военная подготовка
LOCATION:Военная каф. кафедра
END:VEVENT
BEGIN:VEVENT
UID:5xq3@192.168.245.71:3006
SEQUENCE:0
DTSTAMP:20260426T022916Z
DTSTART:20251017T090000Z
DTEND:20251017T104000Z
SUMMARY:Военная подготовка
LOCATION:Военная каф. кафедра
END:VEVENT
BEGIN:VEVENT
UID:e1l4@192.168.245.71:3006
SEQUENCE:0
DTSTAMP:20260426T022916Z
DTSTART:20251018T110000Z
DTEND:20251018T124000Z
SUMMARY:Основы теории вероятностей и стохастических процессов
LOCATION:ГЗ 224
END:VEVENT
BEGIN:VEVENT
UID:gfr9@192.168.245.71:3006
SEQUENCE:0
DTSTAMP:20260426T022916Z
DTSTART:20251018T130000Z
DTEND:20251018T144000Z
SUMMARY:Основы механики жидкости и газа
LOCATION:1 к. каф. ГГТ\, 3 этаж
END:VEVENT
END:VCALENDAR