BEGIN:VCALENDAR
VERSION:2.0
PRODID:-//spbstu.ru//ical//RU
NAME:Расписание группы 5030301/30101
X-WR-CALNAME:Расписание группы 5030301/30101
TIMEZONE-ID:Europe/Moscow
X-WR-TIMEZONE:Europe/Moscow
BEGIN:VEVENT
UID:704g@192.168.245.71:3006
SEQUENCE:0
DTSTAMP:20260422T141057Z
DTSTART:20260316T090000Z
DTEND:20260316T104000Z
SUMMARY:Основы вычислительной гидрогазодинамики
LOCATION:1 к. каф. ГГТ\, 1 этаж
END:VEVENT
BEGIN:VEVENT
UID:w16n@192.168.245.71:3006
SEQUENCE:0
DTSTAMP:20260422T141057Z
DTSTART:20260316T110000Z
DTEND:20260316T124000Z
SUMMARY:Иностранный язык. Профессионально-ориентированный курс
LOCATION:2 к. 160
END:VEVENT
BEGIN:VEVENT
UID:dzc5@192.168.245.71:3006
SEQUENCE:0
DTSTAMP:20260422T141057Z
DTSTART:20260317T060000Z
DTEND:20260317T064000Z
SUMMARY:Уравнения математической физики
LOCATION:НИК В2.03
END:VEVENT
BEGIN:VEVENT
UID:vf50@192.168.245.71:3006
SEQUENCE:0
DTSTAMP:20260422T141057Z
DTSTART:20260317T070000Z
DTEND:20260317T084000Z
SUMMARY:Уравнения математической физики
LOCATION:НИК В2.03
END:VEVENT
BEGIN:VEVENT
UID:jxr0@192.168.245.71:3006
SEQUENCE:0
DTSTAMP:20260422T141057Z
DTSTART:20260317T090000Z
DTEND:20260317T104000Z
SUMMARY:Уравнения математической физики
LOCATION:2 к. 265
END:VEVENT
BEGIN:VEVENT
UID:5kzq@192.168.245.71:3006
SEQUENCE:0
DTSTAMP:20260422T141057Z
DTSTART:20260317T110000Z
DTEND:20260317T124000Z
SUMMARY:Основы механики жидкости и газа
LOCATION:2 к. 160
END:VEVENT
BEGIN:VEVENT
UID:ua8t@192.168.245.71:3006
SEQUENCE:0
DTSTAMP:20260422T141057Z
DTSTART:20260317T130000Z
DTEND:20260317T144000Z
SUMMARY:Иностранный язык. Профессионально-ориентированный курс
LOCATION:1 к. каф. ГГТ\, 3 этаж
END:VEVENT
BEGIN:VEVENT
UID:vpu1@192.168.245.71:3006
SEQUENCE:0
DTSTAMP:20260422T141057Z
DTSTART:20260318T090000Z
DTEND:20260318T104000Z
SUMMARY:Основы механики жидкости и газа
LOCATION:1 к. каф. ГГТ
END:VEVENT
BEGIN:VEVENT
UID:iuu5@192.168.245.71:3006
SEQUENCE:0
DTSTAMP:20260422T141057Z
DTSTART:20260318T110000Z
DTEND:20260318T124000Z
SUMMARY:Основы вычислительной гидрогазодинамики
LOCATION:1 к. каф. ГГТ\, 3 этаж
END:VEVENT
BEGIN:VEVENT
UID:fjx7@192.168.245.71:3006
SEQUENCE:0
DTSTAMP:20260422T141057Z
DTSTART:20260318T130000Z
DTEND:20260318T144000Z
SUMMARY:Основы механики жидкости и газа
LOCATION:1 к. каф. ГГТ
END:VEVENT
BEGIN:VEVENT
UID:rixk@192.168.245.71:3006
SEQUENCE:0
DTSTAMP:20260422T141057Z
DTSTART:20260319T070000Z
DTEND:20260319T084000Z
SUMMARY:Аналитическая механика
LOCATION:ГЗ 244
END:VEVENT
BEGIN:VEVENT
UID:pdjb@192.168.245.71:3006
SEQUENCE:0
DTSTAMP:20260422T141057Z
DTSTART:20260319T090000Z
DTEND:20260319T104000Z
SUMMARY:Введение в технологии суперкомпьютерных вычислений
LOCATION:2 к. 143
END:VEVENT
BEGIN:VEVENT
UID:hbft@192.168.245.71:3006
SEQUENCE:0
DTSTAMP:20260422T141057Z
DTSTART:20260319T110000Z
DTEND:20260319T124000Z
SUMMARY:Основы теплофизики
LOCATION:2 к. 160
END:VEVENT
BEGIN:VEVENT
UID:eaxg@192.168.245.71:3006
SEQUENCE:0
DTSTAMP:20260422T141057Z
DTSTART:20260319T130000Z
DTEND:20260319T144000Z
SUMMARY:Основы теплофизики
LOCATION:2 к. 143
END:VEVENT
BEGIN:VEVENT
UID:5dvy@192.168.245.71:3006
SEQUENCE:0
DTSTAMP:20260422T141057Z
DTSTART:20260320T053500Z
DTEND:20260320T064000Z
SUMMARY:Военная подготовка
LOCATION:Военная каф. кафедра
END:VEVENT
BEGIN:VEVENT
UID:p6ze@192.168.245.71:3006
SEQUENCE:0
DTSTAMP:20260422T141057Z
DTSTART:20260320T070000Z
DTEND:20260320T084000Z
SUMMARY:Военная подготовка
LOCATION:Военная каф. кафедра
END:VEVENT
BEGIN:VEVENT
UID:0ogz@192.168.245.71:3006
SEQUENCE:0
DTSTAMP:20260422T141057Z
DTSTART:20260320T090000Z
DTEND:20260320T104000Z
SUMMARY:Военная подготовка
LOCATION:Военная каф. кафедра
END:VEVENT
END:VCALENDAR