BEGIN:VCALENDAR
VERSION:2.0
PRODID:-//spbstu.ru//ical//RU
NAME:Расписание группы 5030301/30102
X-WR-CALNAME:Расписание группы 5030301/30102
TIMEZONE-ID:Europe/Moscow
X-WR-TIMEZONE:Europe/Moscow
BEGIN:VEVENT
UID:unh8@192.168.245.71:3006
SEQUENCE:0
DTSTAMP:20260424T120939Z
DTSTART:20251215T070000Z
DTEND:20251215T084000Z
SUMMARY:Введение в технологии суперкомпьютерных вычислений
LOCATION:1 к. каф. ГГТ\, 1 этаж
END:VEVENT
BEGIN:VEVENT
UID:gg43@192.168.245.71:3006
SEQUENCE:0
DTSTAMP:20260424T120939Z
DTSTART:20251215T090000Z
DTEND:20251215T104000Z
SUMMARY:Исследовательские проекты в области механики сплошных сред
LOCATION:1 к. каф. ГГТ\, 3 этаж
END:VEVENT
BEGIN:VEVENT
UID:i32g@192.168.245.71:3006
SEQUENCE:0
DTSTAMP:20260424T120939Z
DTSTART:20251215T110000Z
DTEND:20251215T124000Z
SUMMARY:Основы механики жидкости и газа
LOCATION:1 к. каф. ГГТ\, 3 этаж
END:VEVENT
BEGIN:VEVENT
UID:uf8c@192.168.245.71:3006
SEQUENCE:0
DTSTAMP:20260424T120939Z
DTSTART:20251216T060000Z
DTEND:20251216T065000Z
SUMMARY:Уравнения математической физики
LOCATION:НИК В2.03
END:VEVENT
BEGIN:VEVENT
UID:8ozf@192.168.245.71:3006
SEQUENCE:0
DTSTAMP:20260424T120939Z
DTSTART:20251216T070000Z
DTEND:20251216T084000Z
SUMMARY:Уравнения математической физики
LOCATION:НИК В2.03
END:VEVENT
BEGIN:VEVENT
UID:wgvu@192.168.245.71:3006
SEQUENCE:0
DTSTAMP:20260424T120939Z
DTSTART:20251216T090000Z
DTEND:20251216T104000Z
SUMMARY:Уравнения математической физики
LOCATION:2 к. 265
END:VEVENT
BEGIN:VEVENT
UID:scqp@192.168.245.71:3006
SEQUENCE:0
DTSTAMP:20260424T120939Z
DTSTART:20251217T090000Z
DTEND:20251217T120000Z
SUMMARY:Иностранный язык. Профессионально-ориентированный курс
LOCATION:1 к. каф. ГГТ\, 3 этаж
END:VEVENT
BEGIN:VEVENT
UID:0udq@192.168.245.71:3006
SEQUENCE:0
DTSTAMP:20260424T120939Z
DTSTART:20251218T100000Z
DTEND:20251218T130000Z
SUMMARY:Уравнения математической физики
LOCATION:2 к. 160
END:VEVENT
BEGIN:VEVENT
UID:hr01@192.168.245.71:3006
SEQUENCE:0
DTSTAMP:20260424T120939Z
DTSTART:20251219T130000Z
DTEND:20251219T160000Z
SUMMARY:Исследовательские проекты в области механики сплошных сред
LOCATION:1 к. каф. ГГТ\, 1 этаж
END:VEVENT
BEGIN:VEVENT
UID:d29k@192.168.245.71:3006
SEQUENCE:0
DTSTAMP:20260424T120939Z
DTSTART:20251219T130000Z
DTEND:20251219T160000Z
SUMMARY:Исследовательские проекты в области механики сплошных сред
LOCATION:1 к. каф. ГГТ\, 1 этаж
END:VEVENT
END:VCALENDAR