BEGIN:VCALENDAR
VERSION:2.0
PRODID:-//spbstu.ru//ical//RU
NAME:Расписание группы 5030301/30102
X-WR-CALNAME:Расписание группы 5030301/30102
TIMEZONE-ID:Europe/Moscow
X-WR-TIMEZONE:Europe/Moscow
BEGIN:VEVENT
UID:6vl7@192.168.245.71:3006
SEQUENCE:0
DTSTAMP:20260423T171240Z
DTSTART:20260209T070000Z
DTEND:20260209T084000Z
SUMMARY:Введение в технологии суперкомпьютерных вычислений
LOCATION:1 к. каф. ГГТ\, 3 этаж
END:VEVENT
BEGIN:VEVENT
UID:0amy@192.168.245.71:3006
SEQUENCE:0
DTSTAMP:20260423T171240Z
DTSTART:20260209T090000Z
DTEND:20260209T104000Z
SUMMARY:Введение в технологии суперкомпьютерных вычислений
LOCATION:1 к. каф. ГГТ\, 3 этаж
END:VEVENT
BEGIN:VEVENT
UID:s52d@192.168.245.71:3006
SEQUENCE:0
DTSTAMP:20260423T171240Z
DTSTART:20260209T100000Z
DTEND:20260209T113000Z
SUMMARY:Иностранный язык. Профессионально-ориентированный курс
LOCATION:2 к. 160
END:VEVENT
BEGIN:VEVENT
UID:l9f0@192.168.245.71:3006
SEQUENCE:0
DTSTAMP:20260423T171240Z
DTSTART:20260209T110000Z
DTEND:20260209T124000Z
SUMMARY:Иностранный язык. Профессионально-ориентированный курс
LOCATION:2 к. 143
END:VEVENT
BEGIN:VEVENT
UID:3fbm@192.168.245.71:3006
SEQUENCE:0
DTSTAMP:20260423T171240Z
DTSTART:20260209T130000Z
DTEND:20260209T144000Z
SUMMARY:Основы вычислительной гидрогазодинамики
LOCATION:1 к. каф. ГГТ\, 3 этаж
END:VEVENT
BEGIN:VEVENT
UID:wrn6@192.168.245.71:3006
SEQUENCE:0
DTSTAMP:20260423T171240Z
DTSTART:20260210T060000Z
DTEND:20260210T064000Z
SUMMARY:Уравнения математической физики
LOCATION:НИК В2.03
END:VEVENT
BEGIN:VEVENT
UID:fdcv@192.168.245.71:3006
SEQUENCE:0
DTSTAMP:20260423T171240Z
DTSTART:20260210T070000Z
DTEND:20260210T084000Z
SUMMARY:Уравнения математической физики
LOCATION:НИК В2.03
END:VEVENT
BEGIN:VEVENT
UID:awgs@192.168.245.71:3006
SEQUENCE:0
DTSTAMP:20260423T171240Z
DTSTART:20260210T090000Z
DTEND:20260210T104000Z
SUMMARY:Уравнения математической физики
LOCATION:2 к. 265
END:VEVENT
BEGIN:VEVENT
UID:nnrw@192.168.245.71:3006
SEQUENCE:0
DTSTAMP:20260423T171240Z
DTSTART:20260210T110000Z
DTEND:20260210T124000Z
SUMMARY:Основы механики жидкости и газа
LOCATION:2 к. 160
END:VEVENT
BEGIN:VEVENT
UID:l2p3@192.168.245.71:3006
SEQUENCE:0
DTSTAMP:20260423T171240Z
DTSTART:20260211T070000Z
DTEND:20260211T084000Z
SUMMARY:Основы механики жидкости и газа
LOCATION:1 к. каф. ГГТ
END:VEVENT
BEGIN:VEVENT
UID:9deu@192.168.245.71:3006
SEQUENCE:0
DTSTAMP:20260423T171240Z
DTSTART:20260211T090000Z
DTEND:20260211T104000Z
SUMMARY:Исследовательские проекты в области механики сплошных сред
LOCATION:1 к. каф. ГГТ\, 3 этаж
END:VEVENT
BEGIN:VEVENT
UID:geq2@192.168.245.71:3006
SEQUENCE:0
DTSTAMP:20260423T171240Z
DTSTART:20260211T110000Z
DTEND:20260211T124000Z
SUMMARY:Основы механики жидкости и газа
LOCATION:1 к. каф. ГГТ
END:VEVENT
BEGIN:VEVENT
UID:tikr@192.168.245.71:3006
SEQUENCE:0
DTSTAMP:20260423T171240Z
DTSTART:20260212T070000Z
DTEND:20260212T084000Z
SUMMARY:Аналитическая механика
LOCATION:ГЗ 244
END:VEVENT
BEGIN:VEVENT
UID:w1ve@192.168.245.71:3006
SEQUENCE:0
DTSTAMP:20260423T171240Z
DTSTART:20260212T090000Z
DTEND:20260212T104000Z
SUMMARY:Основы теплофизики
LOCATION:2 к. 160
END:VEVENT
BEGIN:VEVENT
UID:1jeq@192.168.245.71:3006
SEQUENCE:0
DTSTAMP:20260423T171240Z
DTSTART:20260213T053500Z
DTEND:20260213T064000Z
SUMMARY:Военная подготовка
LOCATION:Военная каф. кафедра
END:VEVENT
BEGIN:VEVENT
UID:8f2t@192.168.245.71:3006
SEQUENCE:0
DTSTAMP:20260423T171240Z
DTSTART:20260213T070000Z
DTEND:20260213T084000Z
SUMMARY:Военная подготовка
LOCATION:Военная каф. кафедра
END:VEVENT
BEGIN:VEVENT
UID:9l43@192.168.245.71:3006
SEQUENCE:0
DTSTAMP:20260423T171240Z
DTSTART:20260213T080000Z
DTEND:20260213T093000Z
SUMMARY:Основы механики жидкости и газа
LOCATION:1 к. каф. ГГТ
END:VEVENT
BEGIN:VEVENT
UID:tj26@192.168.245.71:3006
SEQUENCE:0
DTSTAMP:20260423T171240Z
DTSTART:20260213T090000Z
DTEND:20260213T104000Z
SUMMARY:Военная подготовка
LOCATION:Военная каф. кафедра
END:VEVENT
BEGIN:VEVENT
UID:j1wv@192.168.245.71:3006
SEQUENCE:0
DTSTAMP:20260423T171240Z
DTSTART:20260214T110000Z
DTEND:20260214T124000Z
SUMMARY:Образовательный форсайт
LOCATION:DL Дистанционно
END:VEVENT
END:VCALENDAR