BEGIN:VCALENDAR
VERSION:2.0
PRODID:-//spbstu.ru//ical//RU
NAME:Расписание группы 5030301/30102
X-WR-CALNAME:Расписание группы 5030301/30102
TIMEZONE-ID:Europe/Moscow
X-WR-TIMEZONE:Europe/Moscow
BEGIN:VEVENT
UID:dubb@192.168.245.71:3006
SEQUENCE:0
DTSTAMP:20260422T191450Z
DTSTART:20260511T070000Z
DTEND:20260511T084000Z
SUMMARY:Введение в технологии суперкомпьютерных вычислений
LOCATION:1 к. каф. ГГТ\, 3 этаж
END:VEVENT
BEGIN:VEVENT
UID:zl21@192.168.245.71:3006
SEQUENCE:0
DTSTAMP:20260422T191450Z
DTSTART:20260511T090000Z
DTEND:20260511T104000Z
SUMMARY:Основы вычислительной гидрогазодинамики
LOCATION:1 к. каф. ГГТ\, 1 этаж
END:VEVENT
BEGIN:VEVENT
UID:be0c@192.168.245.71:3006
SEQUENCE:0
DTSTAMP:20260422T191450Z
DTSTART:20260511T110000Z
DTEND:20260511T124000Z
SUMMARY:Иностранный язык. Профессионально-ориентированный курс
LOCATION:2 к. 143
END:VEVENT
BEGIN:VEVENT
UID:4p6k@192.168.245.71:3006
SEQUENCE:0
DTSTAMP:20260422T191450Z
DTSTART:20260511T130000Z
DTEND:20260511T144000Z
SUMMARY:Основы вычислительной гидрогазодинамики
LOCATION:1 к. каф. ГГТ\, 3 этаж
END:VEVENT
BEGIN:VEVENT
UID:fcge@192.168.245.71:3006
SEQUENCE:0
DTSTAMP:20260422T191450Z
DTSTART:20260512T060000Z
DTEND:20260512T064000Z
SUMMARY:Уравнения математической физики
LOCATION:НИК В2.03
END:VEVENT
BEGIN:VEVENT
UID:9cdd@192.168.245.71:3006
SEQUENCE:0
DTSTAMP:20260422T191450Z
DTSTART:20260512T070000Z
DTEND:20260512T084000Z
SUMMARY:Уравнения математической физики
LOCATION:НИК В2.03
END:VEVENT
BEGIN:VEVENT
UID:mtco@192.168.245.71:3006
SEQUENCE:0
DTSTAMP:20260422T191450Z
DTSTART:20260512T090000Z
DTEND:20260512T104000Z
SUMMARY:Уравнения математической физики
LOCATION:2 к. 265
END:VEVENT
BEGIN:VEVENT
UID:qpyf@192.168.245.71:3006
SEQUENCE:0
DTSTAMP:20260422T191450Z
DTSTART:20260512T110000Z
DTEND:20260512T124000Z
SUMMARY:Основы механики жидкости и газа
LOCATION:2 к. 160
END:VEVENT
BEGIN:VEVENT
UID:a8bc@192.168.245.71:3006
SEQUENCE:0
DTSTAMP:20260422T191450Z
DTSTART:20260513T070000Z
DTEND:20260513T084000Z
SUMMARY:Основы механики жидкости и газа
LOCATION:1 к. каф. ГГТ
END:VEVENT
BEGIN:VEVENT
UID:0t0s@192.168.245.71:3006
SEQUENCE:0
DTSTAMP:20260422T191450Z
DTSTART:20260513T090000Z
DTEND:20260513T104000Z
SUMMARY:Иностранный язык. Профессионально-ориентированный курс
LOCATION:1 к. каф. ГГТ\, 3 этаж
END:VEVENT
BEGIN:VEVENT
UID:43iw@192.168.245.71:3006
SEQUENCE:0
DTSTAMP:20260422T191450Z
DTSTART:20260514T070000Z
DTEND:20260514T084000Z
SUMMARY:Аналитическая механика
LOCATION:Не опр. Нет
END:VEVENT
BEGIN:VEVENT
UID:15pi@192.168.245.71:3006
SEQUENCE:0
DTSTAMP:20260422T191450Z
DTSTART:20260514T090000Z
DTEND:20260514T104000Z
SUMMARY:Основы теплофизики
LOCATION:2 к. 160
END:VEVENT
BEGIN:VEVENT
UID:2kca@192.168.245.71:3006
SEQUENCE:0
DTSTAMP:20260422T191450Z
DTSTART:20260514T110000Z
DTEND:20260514T124000Z
SUMMARY:Основы теплофизики
LOCATION:2 к. 160
END:VEVENT
BEGIN:VEVENT
UID:u5gi@192.168.245.71:3006
SEQUENCE:0
DTSTAMP:20260422T191450Z
DTSTART:20260515T053500Z
DTEND:20260515T064000Z
SUMMARY:Военная подготовка
LOCATION:Военная каф. кафедра
END:VEVENT
BEGIN:VEVENT
UID:drgo@192.168.245.71:3006
SEQUENCE:0
DTSTAMP:20260422T191450Z
DTSTART:20260515T070000Z
DTEND:20260515T084000Z
SUMMARY:Военная подготовка
LOCATION:Военная каф. кафедра
END:VEVENT
BEGIN:VEVENT
UID:vwoe@192.168.245.71:3006
SEQUENCE:0
DTSTAMP:20260422T191450Z
DTSTART:20260515T090000Z
DTEND:20260515T104000Z
SUMMARY:Военная подготовка
LOCATION:Военная каф. кафедра
END:VEVENT
END:VCALENDAR