BEGIN:VCALENDAR
VERSION:2.0
PRODID:-//spbstu.ru//ical//RU
NAME:Расписание группы 5030302/30101
X-WR-CALNAME:Расписание группы 5030302/30101
TIMEZONE-ID:Europe/Moscow
X-WR-TIMEZONE:Europe/Moscow
BEGIN:VEVENT
UID:exfl@192.168.245.71:3006
SEQUENCE:0
DTSTAMP:20260424T164748Z
DTSTART:20250922T070000Z
DTEND:20250922T084000Z
SUMMARY:Основы теории вероятностей и стохастических процессов
LOCATION:2 к. 331
END:VEVENT
BEGIN:VEVENT
UID:l5mm@192.168.245.71:3006
SEQUENCE:0
DTSTAMP:20260424T164748Z
DTSTART:20250922T090000Z
DTEND:20250922T104000Z
SUMMARY:Основы теории вероятностей и стохастических процессов
LOCATION:2 к. 265
END:VEVENT
BEGIN:VEVENT
UID:gifa@192.168.245.71:3006
SEQUENCE:0
DTSTAMP:20260424T164748Z
DTSTART:20250922T110000Z
DTEND:20250922T124000Z
SUMMARY:НИР в лаборатории ядерной физики
LOCATION:2 к. 112
END:VEVENT
BEGIN:VEVENT
UID:1udc@192.168.245.71:3006
SEQUENCE:0
DTSTAMP:20260424T164748Z
DTSTART:20250922T130000Z
DTEND:20250922T144000Z
SUMMARY:НИР в лаборатории ядерной физики
LOCATION:2 к. 112
END:VEVENT
BEGIN:VEVENT
UID:uzir@192.168.245.71:3006
SEQUENCE:0
DTSTAMP:20260424T164748Z
DTSTART:20250922T150000Z
DTEND:20250922T155000Z
SUMMARY:НИР в лаборатории ядерной физики
LOCATION:2 к. 112
END:VEVENT
BEGIN:VEVENT
UID:6swt@192.168.245.71:3006
SEQUENCE:0
DTSTAMP:20260424T164748Z
DTSTART:20250923T080000Z
DTEND:20250923T085000Z
SUMMARY:Радиоэлектронные методы ядерной физики
LOCATION:2 к. 117
END:VEVENT
BEGIN:VEVENT
UID:706o@192.168.245.71:3006
SEQUENCE:0
DTSTAMP:20260424T164748Z
DTSTART:20250923T090000Z
DTEND:20250923T104000Z
SUMMARY:Радиоэлектронные методы ядерной физики
LOCATION:2 к. 117
END:VEVENT
BEGIN:VEVENT
UID:m4cn@192.168.245.71:3006
SEQUENCE:0
DTSTAMP:20260424T164748Z
DTSTART:20250923T110000Z
DTEND:20250923T124000Z
SUMMARY:Основы радиационной безопасности
LOCATION:2 к. 117
END:VEVENT
BEGIN:VEVENT
UID:0fi8@192.168.245.71:3006
SEQUENCE:0
DTSTAMP:20260424T164748Z
DTSTART:20250923T130000Z
DTEND:20250923T144000Z
SUMMARY:Практикум по профилю специальности
LOCATION:2 к. кафедра
END:VEVENT
BEGIN:VEVENT
UID:roxf@192.168.245.71:3006
SEQUENCE:0
DTSTAMP:20260424T164748Z
DTSTART:20250923T150000Z
DTEND:20250923T164000Z
SUMMARY:Практикум по профилю специальности
LOCATION:2 к. кафедра
END:VEVENT
BEGIN:VEVENT
UID:2kie@192.168.245.71:3006
SEQUENCE:0
DTSTAMP:20260424T164748Z
DTSTART:20250923T170000Z
DTEND:20250923T175000Z
SUMMARY:Практикум по профилю специальности
LOCATION:2 к. кафедра
END:VEVENT
BEGIN:VEVENT
UID:jvzm@192.168.245.71:3006
SEQUENCE:0
DTSTAMP:20260424T164748Z
DTSTART:20250924T090000Z
DTEND:20250924T104000Z
SUMMARY:Квантовая механика
LOCATION:2 к. 265
END:VEVENT
BEGIN:VEVENT
UID:46qj@192.168.245.71:3006
SEQUENCE:0
DTSTAMP:20260424T164748Z
DTSTART:20250924T110000Z
DTEND:20250924T115000Z
SUMMARY:Квантовая механика
LOCATION:2 к. 265
END:VEVENT
BEGIN:VEVENT
UID:ckvo@192.168.245.71:3006
SEQUENCE:0
DTSTAMP:20260424T164748Z
DTSTART:20250924T120000Z
DTEND:20250924T125000Z
SUMMARY:НИР в лаборатории ядерной физики
LOCATION:2 к. 112
END:VEVENT
BEGIN:VEVENT
UID:dl7n@192.168.245.71:3006
SEQUENCE:0
DTSTAMP:20260424T164748Z
DTSTART:20250924T130000Z
DTEND:20250924T144000Z
SUMMARY:НИР в лаборатории ядерной физики
LOCATION:2 к. 112
END:VEVENT
BEGIN:VEVENT
UID:n3wa@192.168.245.71:3006
SEQUENCE:0
DTSTAMP:20260424T164748Z
DTSTART:20250924T150000Z
DTEND:20250924T164000Z
SUMMARY:НИР в лаборатории ядерной физики
LOCATION:2 к. 112
END:VEVENT
BEGIN:VEVENT
UID:dz6d@192.168.245.71:3006
SEQUENCE:0
DTSTAMP:20260424T164748Z
DTSTART:20250925T090000Z
DTEND:20250925T104000Z
SUMMARY:Квантовая механика
LOCATION:2 к. 316
END:VEVENT
BEGIN:VEVENT
UID:kmpe@192.168.245.71:3006
SEQUENCE:0
DTSTAMP:20260424T164748Z
DTSTART:20250925T110000Z
DTEND:20250925T115000Z
SUMMARY:Квантовая механика
LOCATION:2 к. 316
END:VEVENT
BEGIN:VEVENT
UID:w8tb@192.168.245.71:3006
SEQUENCE:0
DTSTAMP:20260424T164748Z
DTSTART:20250925T120000Z
DTEND:20250925T125000Z
SUMMARY:Семинар по физике ядра и элементарных частиц (на английском языке)
LOCATION:2 к. 127
END:VEVENT
BEGIN:VEVENT
UID:ua25@192.168.245.71:3006
SEQUENCE:0
DTSTAMP:20260424T164748Z
DTSTART:20250925T130000Z
DTEND:20250925T144000Z
SUMMARY:Семинар по физике ядра и элементарных частиц (на английском языке)
LOCATION:2 к. 127
END:VEVENT
BEGIN:VEVENT
UID:kt9j@192.168.245.71:3006
SEQUENCE:0
DTSTAMP:20260424T164748Z
DTSTART:20250925T150000Z
DTEND:20250925T164000Z
SUMMARY:Механизмы взаимодействия излучений с веществом
LOCATION:2 к. 117
END:VEVENT
BEGIN:VEVENT
UID:b96o@192.168.245.71:3006
SEQUENCE:0
DTSTAMP:20260424T164748Z
DTSTART:20250925T170000Z
DTEND:20250925T175000Z
SUMMARY:Механизмы взаимодействия излучений с веществом
LOCATION:2 к. 117
END:VEVENT
BEGIN:VEVENT
UID:ze3x@192.168.245.71:3006
SEQUENCE:0
DTSTAMP:20260424T164748Z
DTSTART:20250926T050000Z
DTEND:20250926T064000Z
SUMMARY:Военная подготовка
LOCATION:Военная каф. кафедра
END:VEVENT
BEGIN:VEVENT
UID:fg6t@192.168.245.71:3006
SEQUENCE:0
DTSTAMP:20260424T164748Z
DTSTART:20250926T070000Z
DTEND:20250926T084000Z
SUMMARY:Военная подготовка
LOCATION:Военная каф. кафедра
END:VEVENT
BEGIN:VEVENT
UID:70ot@192.168.245.71:3006
SEQUENCE:0
DTSTAMP:20260424T164748Z
DTSTART:20250926T090000Z
DTEND:20250926T104000Z
SUMMARY:Военная подготовка
LOCATION:Военная каф. кафедра
END:VEVENT
BEGIN:VEVENT
UID:nh19@192.168.245.71:3006
SEQUENCE:0
DTSTAMP:20260424T164748Z
DTSTART:20250927T060000Z
DTEND:20250927T065000Z
SUMMARY:Математическая физика
LOCATION:2 к. 265
END:VEVENT
BEGIN:VEVENT
UID:h5ew@192.168.245.71:3006
SEQUENCE:0
DTSTAMP:20260424T164748Z
DTSTART:20250927T070000Z
DTEND:20250927T084000Z
SUMMARY:Математическая физика
LOCATION:2 к. 265
END:VEVENT
BEGIN:VEVENT
UID:cabz@192.168.245.71:3006
SEQUENCE:0
DTSTAMP:20260424T164748Z
DTSTART:20250927T090000Z
DTEND:20250927T104000Z
SUMMARY:Математическая физика
LOCATION:2 к. 265
END:VEVENT
BEGIN:VEVENT
UID:l3di@192.168.245.71:3006
SEQUENCE:0
DTSTAMP:20260424T164748Z
DTSTART:20250927T110000Z
DTEND:20250927T124000Z
SUMMARY:Математическая физика
LOCATION:2 к. 330
END:VEVENT
BEGIN:VEVENT
UID:xip5@192.168.245.71:3006
SEQUENCE:0
DTSTAMP:20260424T164748Z
DTSTART:20250927T130000Z
DTEND:20250927T135000Z
SUMMARY:Математическая физика
LOCATION:2 к. 330
END:VEVENT
END:VCALENDAR