BEGIN:VCALENDAR
VERSION:2.0
PRODID:-//spbstu.ru//ical//RU
NAME:Расписание группы 5030302/30101
X-WR-CALNAME:Расписание группы 5030302/30101
TIMEZONE-ID:Europe/Moscow
X-WR-TIMEZONE:Europe/Moscow
BEGIN:VEVENT
UID:jzdq@192.168.245.71:3006
SEQUENCE:0
DTSTAMP:20260421T014306Z
DTSTART:20260518T120000Z
DTEND:20260518T125000Z
SUMMARY:Семинар по физике ядра и элементарных частиц (на английском языке)
LOCATION:2 к. 127
END:VEVENT
BEGIN:VEVENT
UID:xq4a@192.168.245.71:3006
SEQUENCE:0
DTSTAMP:20260421T014306Z
DTSTART:20260518T130000Z
DTEND:20260518T144000Z
SUMMARY:Семинар по физике ядра и элементарных частиц (на английском языке)
LOCATION:2 к. 127
END:VEVENT
BEGIN:VEVENT
UID:jmke@192.168.245.71:3006
SEQUENCE:0
DTSTAMP:20260421T014306Z
DTSTART:20260518T150000Z
DTEND:20260518T164000Z
SUMMARY:Экспериментальные методы ядерной физики
LOCATION:2 к. 117
END:VEVENT
BEGIN:VEVENT
UID:cwso@192.168.245.71:3006
SEQUENCE:0
DTSTAMP:20260421T014306Z
DTSTART:20260519T070000Z
DTEND:20260519T084000Z
SUMMARY:Статистические методы обработки результатов эксперимента
LOCATION:2 к. 127
END:VEVENT
BEGIN:VEVENT
UID:ckc9@192.168.245.71:3006
SEQUENCE:0
DTSTAMP:20260421T014306Z
DTSTART:20260519T090000Z
DTEND:20260519T095000Z
SUMMARY:Статистические методы обработки результатов эксперимента
LOCATION:2 к. 127
END:VEVENT
BEGIN:VEVENT
UID:myt7@192.168.245.71:3006
SEQUENCE:0
DTSTAMP:20260421T014306Z
DTSTART:20260520T080000Z
DTEND:20260520T085000Z
SUMMARY:Статистическая физика
LOCATION:2 к. 265
END:VEVENT
BEGIN:VEVENT
UID:q0gq@192.168.245.71:3006
SEQUENCE:0
DTSTAMP:20260421T014306Z
DTSTART:20260520T090000Z
DTEND:20260520T104000Z
SUMMARY:Статистическая физика
LOCATION:2 к. 265
END:VEVENT
BEGIN:VEVENT
UID:vqb6@192.168.245.71:3006
SEQUENCE:0
DTSTAMP:20260421T014306Z
DTSTART:20260520T130000Z
DTEND:20260520T144000Z
SUMMARY:НИР в лаборатории ядерной физики
LOCATION:2 к. 104
END:VEVENT
BEGIN:VEVENT
UID:6kih@192.168.245.71:3006
SEQUENCE:0
DTSTAMP:20260421T014306Z
DTSTART:20260520T150000Z
DTEND:20260520T164000Z
SUMMARY:НИР в лаборатории ядерной физики
LOCATION:2 к. 104
END:VEVENT
BEGIN:VEVENT
UID:p7h9@192.168.245.71:3006
SEQUENCE:0
DTSTAMP:20260421T014306Z
DTSTART:20260521T060000Z
DTEND:20260521T065000Z
SUMMARY:Статистическая физика
LOCATION:2 к. 325
END:VEVENT
BEGIN:VEVENT
UID:zy92@192.168.245.71:3006
SEQUENCE:0
DTSTAMP:20260421T014306Z
DTSTART:20260521T070000Z
DTEND:20260521T084000Z
SUMMARY:Статистическая физика
LOCATION:2 к. 325
END:VEVENT
BEGIN:VEVENT
UID:docw@192.168.245.71:3006
SEQUENCE:0
DTSTAMP:20260421T014306Z
DTSTART:20260521T110000Z
DTEND:20260521T124000Z
SUMMARY:Механизмы взаимодействия излучений с веществом
LOCATION:2 к. 117
END:VEVENT
BEGIN:VEVENT
UID:5m27@192.168.245.71:3006
SEQUENCE:0
DTSTAMP:20260421T014306Z
DTSTART:20260522T053500Z
DTEND:20260522T064000Z
SUMMARY:Военная подготовка
LOCATION:Военная каф. кафедра
END:VEVENT
BEGIN:VEVENT
UID:ukm2@192.168.245.71:3006
SEQUENCE:0
DTSTAMP:20260421T014306Z
DTSTART:20260522T070000Z
DTEND:20260522T084000Z
SUMMARY:Военная подготовка
LOCATION:Военная каф. кафедра
END:VEVENT
BEGIN:VEVENT
UID:zgit@192.168.245.71:3006
SEQUENCE:0
DTSTAMP:20260421T014306Z
DTSTART:20260522T090000Z
DTEND:20260522T104000Z
SUMMARY:Военная подготовка
LOCATION:Военная каф. кафедра
END:VEVENT
BEGIN:VEVENT
UID:lfht@192.168.245.71:3006
SEQUENCE:0
DTSTAMP:20260421T014306Z
DTSTART:20260523T060000Z
DTEND:20260523T074000Z
SUMMARY:Математическая физика
LOCATION:2 к. 265
END:VEVENT
BEGIN:VEVENT
UID:r103@192.168.245.71:3006
SEQUENCE:0
DTSTAMP:20260421T014306Z
DTSTART:20260523T080000Z
DTEND:20260523T094000Z
SUMMARY:Математическая физика
LOCATION:2 к. 265
END:VEVENT
BEGIN:VEVENT
UID:uuw6@192.168.245.71:3006
SEQUENCE:0
DTSTAMP:20260421T014306Z
DTSTART:20260523T100000Z
DTEND:20260523T105000Z
SUMMARY:Математическая физика
LOCATION:2 к. 330
END:VEVENT
BEGIN:VEVENT
UID:50gb@192.168.245.71:3006
SEQUENCE:0
DTSTAMP:20260421T014306Z
DTSTART:20260523T110000Z
DTEND:20260523T124000Z
SUMMARY:Математическая физика
LOCATION:2 к. 330
END:VEVENT
END:VCALENDAR