BEGIN:VCALENDAR
VERSION:2.0
PRODID:-//spbstu.ru//ical//RU
NAME:Расписание группы 5030302/30502
X-WR-CALNAME:Расписание группы 5030302/30502
TIMEZONE-ID:Europe/Moscow
X-WR-TIMEZONE:Europe/Moscow
BEGIN:VEVENT
UID:8xpv@192.168.245.71:3006
SEQUENCE:0
DTSTAMP:20260425T120650Z
DTSTART:20251027T090000Z
DTEND:20251027T104000Z
SUMMARY:Основы теории вероятностей и стохастических процессов
LOCATION:2 к. 265
END:VEVENT
BEGIN:VEVENT
UID:0j58@192.168.245.71:3006
SEQUENCE:0
DTSTAMP:20260425T120650Z
DTSTART:20251027T110000Z
DTEND:20251027T124000Z
SUMMARY:Математические методы в физике плазмы
LOCATION:2 к. 316
END:VEVENT
BEGIN:VEVENT
UID:yy1a@192.168.245.71:3006
SEQUENCE:0
DTSTAMP:20260425T120650Z
DTSTART:20251027T130000Z
DTEND:20251027T144000Z
SUMMARY:Основы теории вероятностей и стохастических процессов
LOCATION:2 к. 331
END:VEVENT
BEGIN:VEVENT
UID:nuco@192.168.245.71:3006
SEQUENCE:0
DTSTAMP:20260425T120650Z
DTSTART:20251028T070000Z
DTEND:20251028T084000Z
SUMMARY:Лабораторный практикум по физике плазмы
LOCATION:2 к. каф. ФП
END:VEVENT
BEGIN:VEVENT
UID:mbhm@192.168.245.71:3006
SEQUENCE:0
DTSTAMP:20260425T120650Z
DTSTART:20251028T090000Z
DTEND:20251028T104000Z
SUMMARY:Основы физики плазмы
LOCATION:2 к. 325
END:VEVENT
BEGIN:VEVENT
UID:spy9@192.168.245.71:3006
SEQUENCE:0
DTSTAMP:20260425T120650Z
DTSTART:20251028T110000Z
DTEND:20251028T124000Z
SUMMARY:Квантовая механика
LOCATION:2 к. 316
END:VEVENT
BEGIN:VEVENT
UID:764j@192.168.245.71:3006
SEQUENCE:0
DTSTAMP:20260425T120650Z
DTSTART:20251028T130000Z
DTEND:20251028T144000Z
SUMMARY:Математические методы в физике плазмы
LOCATION:2 к. 316
END:VEVENT
BEGIN:VEVENT
UID:fj1t@192.168.245.71:3006
SEQUENCE:0
DTSTAMP:20260425T120650Z
DTSTART:20251028T150000Z
DTEND:20251028T164000Z
SUMMARY:Математические методы в физике плазмы
LOCATION:2 к. 316
END:VEVENT
BEGIN:VEVENT
UID:elyx@192.168.245.71:3006
SEQUENCE:0
DTSTAMP:20260425T120650Z
DTSTART:20251029T070000Z
DTEND:20251029T084000Z
SUMMARY:Пакеты прикладных программ
LOCATION:2 к. 104
END:VEVENT
BEGIN:VEVENT
UID:zxs6@192.168.245.71:3006
SEQUENCE:0
DTSTAMP:20260425T120650Z
DTSTART:20251029T090000Z
DTEND:20251029T104000Z
SUMMARY:Квантовая механика
LOCATION:2 к. 265
END:VEVENT
BEGIN:VEVENT
UID:ltfv@192.168.245.71:3006
SEQUENCE:0
DTSTAMP:20260425T120650Z
DTSTART:20251029T110000Z
DTEND:20251029T115000Z
SUMMARY:Квантовая механика
LOCATION:2 к. 265
END:VEVENT
BEGIN:VEVENT
UID:lqxu@192.168.245.71:3006
SEQUENCE:0
DTSTAMP:20260425T120650Z
DTSTART:20251029T120000Z
DTEND:20251029T125000Z
SUMMARY:Семинар по физике плазмы (на английском языке)
LOCATION:2 к. 325
END:VEVENT
BEGIN:VEVENT
UID:310t@192.168.245.71:3006
SEQUENCE:0
DTSTAMP:20260425T120650Z
DTSTART:20251029T130000Z
DTEND:20251029T144000Z
SUMMARY:Семинар по физике плазмы (на английском языке)
LOCATION:2 к. 325
END:VEVENT
BEGIN:VEVENT
UID:boci@192.168.245.71:3006
SEQUENCE:0
DTSTAMP:20260425T120650Z
DTSTART:20251030T070000Z
DTEND:20251030T084000Z
SUMMARY:Основы физики плазмы
LOCATION:2 к. 470
END:VEVENT
BEGIN:VEVENT
UID:pbfh@192.168.245.71:3006
SEQUENCE:0
DTSTAMP:20260425T120650Z
DTSTART:20251030T090000Z
DTEND:20251030T104000Z
SUMMARY:Обработка экспериментальных результатов
LOCATION:2 к. 330
END:VEVENT
BEGIN:VEVENT
UID:swna@192.168.245.71:3006
SEQUENCE:0
DTSTAMP:20260425T120650Z
DTSTART:20251030T110000Z
DTEND:20251030T124000Z
SUMMARY:Практикум по профилю специальности
LOCATION:2 к. каф. ФП
END:VEVENT
BEGIN:VEVENT
UID:qrsv@192.168.245.71:3006
SEQUENCE:0
DTSTAMP:20260425T120650Z
DTSTART:20251030T130000Z
DTEND:20251030T144000Z
SUMMARY:Практикум по профилю специальности
LOCATION:2 к. каф. ФП
END:VEVENT
BEGIN:VEVENT
UID:9fiz@192.168.245.71:3006
SEQUENCE:0
DTSTAMP:20260425T120650Z
DTSTART:20251030T150000Z
DTEND:20251030T155000Z
SUMMARY:Практикум по профилю специальности
LOCATION:2 к. каф. ФП
END:VEVENT
BEGIN:VEVENT
UID:c0z8@192.168.245.71:3006
SEQUENCE:0
DTSTAMP:20260425T120650Z
DTSTART:20251031T050000Z
DTEND:20251031T064000Z
SUMMARY:Военная подготовка
LOCATION:Военная каф. кафедра
END:VEVENT
BEGIN:VEVENT
UID:n4no@192.168.245.71:3006
SEQUENCE:0
DTSTAMP:20260425T120650Z
DTSTART:20251031T070000Z
DTEND:20251031T084000Z
SUMMARY:Военная подготовка
LOCATION:Военная каф. кафедра
END:VEVENT
BEGIN:VEVENT
UID:yz01@192.168.245.71:3006
SEQUENCE:0
DTSTAMP:20260425T120650Z
DTSTART:20251031T090000Z
DTEND:20251031T104000Z
SUMMARY:Военная подготовка
LOCATION:Военная каф. кафедра
END:VEVENT
BEGIN:VEVENT
UID:hzlx@192.168.245.71:3006
SEQUENCE:0
DTSTAMP:20260425T120650Z
DTSTART:20251101T060000Z
DTEND:20251101T065000Z
SUMMARY:Математическая физика
LOCATION:2 к. 265
END:VEVENT
BEGIN:VEVENT
UID:6zx7@192.168.245.71:3006
SEQUENCE:0
DTSTAMP:20260425T120650Z
DTSTART:20251101T070000Z
DTEND:20251101T084000Z
SUMMARY:Математическая физика
LOCATION:2 к. 265
END:VEVENT
BEGIN:VEVENT
UID:2r08@192.168.245.71:3006
SEQUENCE:0
DTSTAMP:20260425T120650Z
DTSTART:20251101T090000Z
DTEND:20251101T104000Z
SUMMARY:Математическая физика
LOCATION:2 к. 265
END:VEVENT
BEGIN:VEVENT
UID:ugy3@192.168.245.71:3006
SEQUENCE:0
DTSTAMP:20260425T120650Z
DTSTART:20251101T110000Z
DTEND:20251101T124000Z
SUMMARY:Математическая физика
LOCATION:2 к. 265
END:VEVENT
BEGIN:VEVENT
UID:dozz@192.168.245.71:3006
SEQUENCE:0
DTSTAMP:20260425T120650Z
DTSTART:20251101T130000Z
DTEND:20251101T135000Z
SUMMARY:Математическая физика
LOCATION:2 к. 265
END:VEVENT
END:VCALENDAR