BEGIN:VCALENDAR
VERSION:2.0
PRODID:-//spbstu.ru//ical//RU
NAME:Расписание группы 5030302/30502
X-WR-CALNAME:Расписание группы 5030302/30502
TIMEZONE-ID:Europe/Moscow
X-WR-TIMEZONE:Europe/Moscow
BEGIN:VEVENT
UID:h0uc@192.168.245.71:3006
SEQUENCE:0
DTSTAMP:20260424T203019Z
DTSTART:20251117T090000Z
DTEND:20251117T104000Z
SUMMARY:Основы теории вероятностей и стохастических процессов
LOCATION:2 к. 265
END:VEVENT
BEGIN:VEVENT
UID:zibe@192.168.245.71:3006
SEQUENCE:0
DTSTAMP:20260424T203019Z
DTSTART:20251117T110000Z
DTEND:20251117T124000Z
SUMMARY:Математические методы в физике плазмы
LOCATION:2 к. 316
END:VEVENT
BEGIN:VEVENT
UID:l1ie@192.168.245.71:3006
SEQUENCE:0
DTSTAMP:20260424T203019Z
DTSTART:20251117T130000Z
DTEND:20251117T144000Z
SUMMARY:Основы теории вероятностей и стохастических процессов
LOCATION:2 к. 331
END:VEVENT
BEGIN:VEVENT
UID:mf0d@192.168.245.71:3006
SEQUENCE:0
DTSTAMP:20260424T203019Z
DTSTART:20251117T150000Z
DTEND:20251117T164000Z
SUMMARY:Пакеты прикладных программ
LOCATION:2 к. 104
END:VEVENT
BEGIN:VEVENT
UID:en55@192.168.245.71:3006
SEQUENCE:0
DTSTAMP:20260424T203019Z
DTSTART:20251118T090000Z
DTEND:20251118T104000Z
SUMMARY:Квантовая механика
LOCATION:2 к. 316
END:VEVENT
BEGIN:VEVENT
UID:i2w9@192.168.245.71:3006
SEQUENCE:0
DTSTAMP:20260424T203019Z
DTSTART:20251118T110000Z
DTEND:20251118T124000Z
SUMMARY:Квантовая механика
LOCATION:2 к. 325
END:VEVENT
BEGIN:VEVENT
UID:bkww@192.168.245.71:3006
SEQUENCE:0
DTSTAMP:20260424T203019Z
DTSTART:20251118T130000Z
DTEND:20251118T144000Z
SUMMARY:Математические методы в физике плазмы
LOCATION:2 к. 316
END:VEVENT
BEGIN:VEVENT
UID:aymn@192.168.245.71:3006
SEQUENCE:0
DTSTAMP:20260424T203019Z
DTSTART:20251118T150000Z
DTEND:20251118T164000Z
SUMMARY:Математические методы в физике плазмы
LOCATION:2 к. 316
END:VEVENT
BEGIN:VEVENT
UID:0phv@192.168.245.71:3006
SEQUENCE:0
DTSTAMP:20260424T203019Z
DTSTART:20251119T070000Z
DTEND:20251119T084000Z
SUMMARY:Пакеты прикладных программ
LOCATION:2 к. 104
END:VEVENT
BEGIN:VEVENT
UID:hljy@192.168.245.71:3006
SEQUENCE:0
DTSTAMP:20260424T203019Z
DTSTART:20251119T090000Z
DTEND:20251119T104000Z
SUMMARY:Квантовая механика
LOCATION:2 к. 265
END:VEVENT
BEGIN:VEVENT
UID:oo35@192.168.245.71:3006
SEQUENCE:0
DTSTAMP:20260424T203019Z
DTSTART:20251119T110000Z
DTEND:20251119T115000Z
SUMMARY:Квантовая механика
LOCATION:2 к. 265
END:VEVENT
BEGIN:VEVENT
UID:k306@192.168.245.71:3006
SEQUENCE:0
DTSTAMP:20260424T203019Z
DTSTART:20251119T120000Z
DTEND:20251119T125000Z
SUMMARY:Семинар по физике плазмы (на английском языке)
LOCATION:2 к. 325
END:VEVENT
BEGIN:VEVENT
UID:zoh2@192.168.245.71:3006
SEQUENCE:0
DTSTAMP:20260424T203019Z
DTSTART:20251119T130000Z
DTEND:20251119T144000Z
SUMMARY:Семинар по физике плазмы (на английском языке)
LOCATION:2 к. 325
END:VEVENT
BEGIN:VEVENT
UID:ln6v@192.168.245.71:3006
SEQUENCE:0
DTSTAMP:20260424T203019Z
DTSTART:20251120T070000Z
DTEND:20251120T084000Z
SUMMARY:Основы физики плазмы
LOCATION:2 к. 470
END:VEVENT
BEGIN:VEVENT
UID:hrxm@192.168.245.71:3006
SEQUENCE:0
DTSTAMP:20260424T203019Z
DTSTART:20251120T090000Z
DTEND:20251120T104000Z
SUMMARY:Обработка экспериментальных результатов
LOCATION:2 к. 330
END:VEVENT
BEGIN:VEVENT
UID:wo4e@192.168.245.71:3006
SEQUENCE:0
DTSTAMP:20260424T203019Z
DTSTART:20251120T110000Z
DTEND:20251120T124000Z
SUMMARY:Практикум по профилю специальности
LOCATION:2 к. каф. ФП
END:VEVENT
BEGIN:VEVENT
UID:wo3g@192.168.245.71:3006
SEQUENCE:0
DTSTAMP:20260424T203019Z
DTSTART:20251120T130000Z
DTEND:20251120T144000Z
SUMMARY:Практикум по профилю специальности
LOCATION:2 к. каф. ФП
END:VEVENT
BEGIN:VEVENT
UID:gqvx@192.168.245.71:3006
SEQUENCE:0
DTSTAMP:20260424T203019Z
DTSTART:20251120T150000Z
DTEND:20251120T155000Z
SUMMARY:Практикум по профилю специальности
LOCATION:2 к. каф. ФП
END:VEVENT
BEGIN:VEVENT
UID:h66l@192.168.245.71:3006
SEQUENCE:0
DTSTAMP:20260424T203019Z
DTSTART:20251121T050000Z
DTEND:20251121T064000Z
SUMMARY:Военная подготовка
LOCATION:Военная каф. кафедра
END:VEVENT
BEGIN:VEVENT
UID:5vol@192.168.245.71:3006
SEQUENCE:0
DTSTAMP:20260424T203019Z
DTSTART:20251121T070000Z
DTEND:20251121T084000Z
SUMMARY:Военная подготовка
LOCATION:Военная каф. кафедра
END:VEVENT
BEGIN:VEVENT
UID:nvwz@192.168.245.71:3006
SEQUENCE:0
DTSTAMP:20260424T203019Z
DTSTART:20251121T090000Z
DTEND:20251121T104000Z
SUMMARY:Военная подготовка
LOCATION:Военная каф. кафедра
END:VEVENT
BEGIN:VEVENT
UID:f6ug@192.168.245.71:3006
SEQUENCE:0
DTSTAMP:20260424T203019Z
DTSTART:20251122T060000Z
DTEND:20251122T065000Z
SUMMARY:Математическая физика
LOCATION:2 к. 265
END:VEVENT
BEGIN:VEVENT
UID:7zxm@192.168.245.71:3006
SEQUENCE:0
DTSTAMP:20260424T203019Z
DTSTART:20251122T070000Z
DTEND:20251122T084000Z
SUMMARY:Математическая физика
LOCATION:2 к. 265
END:VEVENT
BEGIN:VEVENT
UID:sjnc@192.168.245.71:3006
SEQUENCE:0
DTSTAMP:20260424T203019Z
DTSTART:20251122T090000Z
DTEND:20251122T104000Z
SUMMARY:Математическая физика
LOCATION:2 к. 265
END:VEVENT
BEGIN:VEVENT
UID:f793@192.168.245.71:3006
SEQUENCE:0
DTSTAMP:20260424T203019Z
DTSTART:20251122T110000Z
DTEND:20251122T124000Z
SUMMARY:Математическая физика
LOCATION:2 к. 265
END:VEVENT
BEGIN:VEVENT
UID:4365@192.168.245.71:3006
SEQUENCE:0
DTSTAMP:20260424T203019Z
DTSTART:20251122T130000Z
DTEND:20251122T135000Z
SUMMARY:Математическая физика
LOCATION:2 к. 265
END:VEVENT
END:VCALENDAR