BEGIN:VCALENDAR
VERSION:2.0
PRODID:-//spbstu.ru//ical//RU
NAME:Расписание группы 5030302/30502
X-WR-CALNAME:Расписание группы 5030302/30502
TIMEZONE-ID:Europe/Moscow
X-WR-TIMEZONE:Europe/Moscow
BEGIN:VEVENT
UID:efmx@192.168.245.71:3006
SEQUENCE:0
DTSTAMP:20260425T191938Z
DTSTART:20250929T090000Z
DTEND:20250929T104000Z
SUMMARY:Основы теории вероятностей и стохастических процессов
LOCATION:2 к. 265
END:VEVENT
BEGIN:VEVENT
UID:emd4@192.168.245.71:3006
SEQUENCE:0
DTSTAMP:20260425T191938Z
DTSTART:20250929T110000Z
DTEND:20250929T124000Z
SUMMARY:Математические методы в физике плазмы
LOCATION:2 к. 316
END:VEVENT
BEGIN:VEVENT
UID:kdw0@192.168.245.71:3006
SEQUENCE:0
DTSTAMP:20260425T191938Z
DTSTART:20250929T130000Z
DTEND:20250929T144000Z
SUMMARY:Основы теории вероятностей и стохастических процессов
LOCATION:2 к. 331
END:VEVENT
BEGIN:VEVENT
UID:jmmh@192.168.245.71:3006
SEQUENCE:0
DTSTAMP:20260425T191938Z
DTSTART:20250930T070000Z
DTEND:20250930T084000Z
SUMMARY:Лабораторный практикум по физике плазмы
LOCATION:2 к. каф. ФП
END:VEVENT
BEGIN:VEVENT
UID:3ayd@192.168.245.71:3006
SEQUENCE:0
DTSTAMP:20260425T191938Z
DTSTART:20250930T090000Z
DTEND:20250930T104000Z
SUMMARY:Основы физики плазмы
LOCATION:2 к. 325
END:VEVENT
BEGIN:VEVENT
UID:9znd@192.168.245.71:3006
SEQUENCE:0
DTSTAMP:20260425T191938Z
DTSTART:20250930T110000Z
DTEND:20250930T124000Z
SUMMARY:Квантовая механика
LOCATION:2 к. 316
END:VEVENT
BEGIN:VEVENT
UID:ps64@192.168.245.71:3006
SEQUENCE:0
DTSTAMP:20260425T191938Z
DTSTART:20250930T130000Z
DTEND:20250930T144000Z
SUMMARY:Математические методы в физике плазмы
LOCATION:2 к. 316
END:VEVENT
BEGIN:VEVENT
UID:oanl@192.168.245.71:3006
SEQUENCE:0
DTSTAMP:20260425T191938Z
DTSTART:20250930T150000Z
DTEND:20250930T164000Z
SUMMARY:Математические методы в физике плазмы
LOCATION:2 к. 316
END:VEVENT
BEGIN:VEVENT
UID:asm4@192.168.245.71:3006
SEQUENCE:0
DTSTAMP:20260425T191938Z
DTSTART:20251001T070000Z
DTEND:20251001T084000Z
SUMMARY:Пакеты прикладных программ
LOCATION:2 к. 104
END:VEVENT
BEGIN:VEVENT
UID:ct03@192.168.245.71:3006
SEQUENCE:0
DTSTAMP:20260425T191938Z
DTSTART:20251001T090000Z
DTEND:20251001T104000Z
SUMMARY:Квантовая механика
LOCATION:2 к. 265
END:VEVENT
BEGIN:VEVENT
UID:qvde@192.168.245.71:3006
SEQUENCE:0
DTSTAMP:20260425T191938Z
DTSTART:20251001T110000Z
DTEND:20251001T115000Z
SUMMARY:Квантовая механика
LOCATION:2 к. 265
END:VEVENT
BEGIN:VEVENT
UID:lra9@192.168.245.71:3006
SEQUENCE:0
DTSTAMP:20260425T191938Z
DTSTART:20251001T120000Z
DTEND:20251001T125000Z
SUMMARY:Семинар по физике плазмы (на английском языке)
LOCATION:2 к. 325
END:VEVENT
BEGIN:VEVENT
UID:545p@192.168.245.71:3006
SEQUENCE:0
DTSTAMP:20260425T191938Z
DTSTART:20251001T130000Z
DTEND:20251001T144000Z
SUMMARY:Семинар по физике плазмы (на английском языке)
LOCATION:2 к. 325
END:VEVENT
BEGIN:VEVENT
UID:kqtd@192.168.245.71:3006
SEQUENCE:0
DTSTAMP:20260425T191938Z
DTSTART:20251002T070000Z
DTEND:20251002T084000Z
SUMMARY:Основы физики плазмы
LOCATION:2 к. 470
END:VEVENT
BEGIN:VEVENT
UID:jkhi@192.168.245.71:3006
SEQUENCE:0
DTSTAMP:20260425T191938Z
DTSTART:20251002T090000Z
DTEND:20251002T104000Z
SUMMARY:Обработка экспериментальных результатов
LOCATION:2 к. 330
END:VEVENT
BEGIN:VEVENT
UID:zc4v@192.168.245.71:3006
SEQUENCE:0
DTSTAMP:20260425T191938Z
DTSTART:20251002T110000Z
DTEND:20251002T124000Z
SUMMARY:Практикум по профилю специальности
LOCATION:2 к. каф. ФП
END:VEVENT
BEGIN:VEVENT
UID:m02n@192.168.245.71:3006
SEQUENCE:0
DTSTAMP:20260425T191938Z
DTSTART:20251002T130000Z
DTEND:20251002T144000Z
SUMMARY:Практикум по профилю специальности
LOCATION:2 к. каф. ФП
END:VEVENT
BEGIN:VEVENT
UID:072g@192.168.245.71:3006
SEQUENCE:0
DTSTAMP:20260425T191938Z
DTSTART:20251002T150000Z
DTEND:20251002T155000Z
SUMMARY:Практикум по профилю специальности
LOCATION:2 к. каф. ФП
END:VEVENT
BEGIN:VEVENT
UID:pkue@192.168.245.71:3006
SEQUENCE:0
DTSTAMP:20260425T191938Z
DTSTART:20251003T050000Z
DTEND:20251003T064000Z
SUMMARY:Военная подготовка
LOCATION:Военная каф. кафедра
END:VEVENT
BEGIN:VEVENT
UID:fmqv@192.168.245.71:3006
SEQUENCE:0
DTSTAMP:20260425T191938Z
DTSTART:20251003T070000Z
DTEND:20251003T084000Z
SUMMARY:Военная подготовка
LOCATION:Военная каф. кафедра
END:VEVENT
BEGIN:VEVENT
UID:eqxe@192.168.245.71:3006
SEQUENCE:0
DTSTAMP:20260425T191938Z
DTSTART:20251003T090000Z
DTEND:20251003T104000Z
SUMMARY:Военная подготовка
LOCATION:Военная каф. кафедра
END:VEVENT
BEGIN:VEVENT
UID:pdqm@192.168.245.71:3006
SEQUENCE:0
DTSTAMP:20260425T191938Z
DTSTART:20251004T060000Z
DTEND:20251004T065000Z
SUMMARY:Математическая физика
LOCATION:2 к. 265
END:VEVENT
BEGIN:VEVENT
UID:64qv@192.168.245.71:3006
SEQUENCE:0
DTSTAMP:20260425T191938Z
DTSTART:20251004T070000Z
DTEND:20251004T084000Z
SUMMARY:Математическая физика
LOCATION:2 к. 265
END:VEVENT
BEGIN:VEVENT
UID:ff8v@192.168.245.71:3006
SEQUENCE:0
DTSTAMP:20260425T191938Z
DTSTART:20251004T090000Z
DTEND:20251004T104000Z
SUMMARY:Математическая физика
LOCATION:2 к. 265
END:VEVENT
BEGIN:VEVENT
UID:l1wg@192.168.245.71:3006
SEQUENCE:0
DTSTAMP:20260425T191938Z
DTSTART:20251004T110000Z
DTEND:20251004T124000Z
SUMMARY:Математическая физика
LOCATION:2 к. 265
END:VEVENT
BEGIN:VEVENT
UID:1kik@192.168.245.71:3006
SEQUENCE:0
DTSTAMP:20260425T191938Z
DTSTART:20251004T130000Z
DTEND:20251004T135000Z
SUMMARY:Математическая физика
LOCATION:2 к. 265
END:VEVENT
END:VCALENDAR