BEGIN:VCALENDAR
VERSION:2.0
PRODID:-//spbstu.ru//ical//RU
NAME:Расписание группы 5030302/30801
X-WR-CALNAME:Расписание группы 5030302/30801
TIMEZONE-ID:Europe/Moscow
X-WR-TIMEZONE:Europe/Moscow
BEGIN:VEVENT
UID:k8hi@192.168.245.71:3006
SEQUENCE:0
DTSTAMP:20260421T102751Z
DTSTART:20260216T070000Z
DTEND:20260216T084000Z
SUMMARY:Дополнительные главы квантовой теории
LOCATION:2 к. 339
END:VEVENT
BEGIN:VEVENT
UID:kcb2@192.168.245.71:3006
SEQUENCE:0
DTSTAMP:20260421T102751Z
DTSTART:20260216T090000Z
DTEND:20260216T095000Z
SUMMARY:Дополнительные главы квантовой теории
LOCATION:2 к. 339
END:VEVENT
BEGIN:VEVENT
UID:a6ix@192.168.245.71:3006
SEQUENCE:0
DTSTAMP:20260421T102751Z
DTSTART:20260216T100000Z
DTEND:20260216T105000Z
SUMMARY:Статистическая физика
LOCATION:2 к. 339
END:VEVENT
BEGIN:VEVENT
UID:vmzb@192.168.245.71:3006
SEQUENCE:0
DTSTAMP:20260421T102751Z
DTSTART:20260216T110000Z
DTEND:20260216T124000Z
SUMMARY:Статистическая физика
LOCATION:2 к. 339
END:VEVENT
BEGIN:VEVENT
UID:xsgr@192.168.245.71:3006
SEQUENCE:0
DTSTAMP:20260421T102751Z
DTSTART:20260216T140000Z
DTEND:20260216T153000Z
SUMMARY:Основы теории вероятностей и стохастических процессов
LOCATION:2 к. 331
END:VEVENT
BEGIN:VEVENT
UID:tcw2@192.168.245.71:3006
SEQUENCE:0
DTSTAMP:20260421T102751Z
DTSTART:20260217T090000Z
DTEND:20260217T104000Z
SUMMARY:Физика твердого тела
LOCATION:2 к. 325
END:VEVENT
BEGIN:VEVENT
UID:q1wg@192.168.245.71:3006
SEQUENCE:0
DTSTAMP:20260421T102751Z
DTSTART:20260217T110000Z
DTEND:20260217T124000Z
SUMMARY:Физика твердого тела
LOCATION:2 к. 325
END:VEVENT
BEGIN:VEVENT
UID:082k@192.168.245.71:3006
SEQUENCE:0
DTSTAMP:20260421T102751Z
DTSTART:20260218T060000Z
DTEND:20260218T074000Z
SUMMARY:Практические методы диагностики наноструктур
LOCATION:НОЦ СЛК 517
END:VEVENT
BEGIN:VEVENT
UID:ymnj@192.168.245.71:3006
SEQUENCE:0
DTSTAMP:20260421T102751Z
DTSTART:20260218T080000Z
DTEND:20260218T085000Z
SUMMARY:Статистическая физика
LOCATION:2 к. 265
END:VEVENT
BEGIN:VEVENT
UID:22e4@192.168.245.71:3006
SEQUENCE:0
DTSTAMP:20260421T102751Z
DTSTART:20260218T090000Z
DTEND:20260218T104000Z
SUMMARY:Статистическая физика
LOCATION:2 к. 265
END:VEVENT
BEGIN:VEVENT
UID:xafj@192.168.245.71:3006
SEQUENCE:0
DTSTAMP:20260421T102751Z
DTSTART:20260218T110000Z
DTEND:20260218T124000Z
SUMMARY:Практические методы диагностики наноструктур
LOCATION:2 к. 316
END:VEVENT
BEGIN:VEVENT
UID:arn3@192.168.245.71:3006
SEQUENCE:0
DTSTAMP:20260421T102751Z
DTSTART:20260218T130000Z
DTEND:20260218T144000Z
SUMMARY:Практические методы диагностики наноструктур
LOCATION:2 к. 316
END:VEVENT
BEGIN:VEVENT
UID:rgu0@192.168.245.71:3006
SEQUENCE:0
DTSTAMP:20260421T102751Z
DTSTART:20260218T130000Z
DTEND:20260218T143000Z
SUMMARY:Квантовая механика
LOCATION:2 к. 325
END:VEVENT
BEGIN:VEVENT
UID:41sb@192.168.245.71:3006
SEQUENCE:0
DTSTAMP:20260421T102751Z
DTSTART:20260219T070000Z
DTEND:20260219T084000Z
SUMMARY:Физика твердого тела
LOCATION:НОЦ СЛК 517
END:VEVENT
BEGIN:VEVENT
UID:pa1i@192.168.245.71:3006
SEQUENCE:0
DTSTAMP:20260421T102751Z
DTSTART:20260219T090000Z
DTEND:20260219T104000Z
SUMMARY:Математическая физика
LOCATION:2 к. 325
END:VEVENT
BEGIN:VEVENT
UID:y3uk@192.168.245.71:3006
SEQUENCE:0
DTSTAMP:20260421T102751Z
DTSTART:20260219T110000Z
DTEND:20260219T115000Z
SUMMARY:Математическая физика
LOCATION:2 к. 325
END:VEVENT
BEGIN:VEVENT
UID:38la@192.168.245.71:3006
SEQUENCE:0
DTSTAMP:20260421T102751Z
DTSTART:20260219T130000Z
DTEND:20260219T144000Z
SUMMARY:Современные проблемы физики твердого тела (на английском языке)
LOCATION:2 к. 325
END:VEVENT
BEGIN:VEVENT
UID:xia3@192.168.245.71:3006
SEQUENCE:0
DTSTAMP:20260421T102751Z
DTSTART:20260219T150000Z
DTEND:20260219T155000Z
SUMMARY:Современные проблемы физики твердого тела (на английском языке)
LOCATION:2 к. 325
END:VEVENT
BEGIN:VEVENT
UID:01md@192.168.245.71:3006
SEQUENCE:0
DTSTAMP:20260421T102751Z
DTSTART:20260220T053500Z
DTEND:20260220T064000Z
SUMMARY:Военная подготовка
LOCATION:Военная каф. кафедра
END:VEVENT
BEGIN:VEVENT
UID:4fin@192.168.245.71:3006
SEQUENCE:0
DTSTAMP:20260421T102751Z
DTSTART:20260220T070000Z
DTEND:20260220T084000Z
SUMMARY:Военная подготовка
LOCATION:Военная каф. кафедра
END:VEVENT
BEGIN:VEVENT
UID:zrnj@192.168.245.71:3006
SEQUENCE:0
DTSTAMP:20260421T102751Z
DTSTART:20260220T090000Z
DTEND:20260220T104000Z
SUMMARY:Военная подготовка
LOCATION:Военная каф. кафедра
END:VEVENT
BEGIN:VEVENT
UID:3b08@192.168.245.71:3006
SEQUENCE:0
DTSTAMP:20260421T102751Z
DTSTART:20260220T130000Z
DTEND:20260220T140000Z
SUMMARY:Химия
LOCATION:Хим. к. 10
END:VEVENT
BEGIN:VEVENT
UID:ykch@192.168.245.71:3006
SEQUENCE:0
DTSTAMP:20260421T102751Z
DTSTART:20260221T060000Z
DTEND:20260221T074000Z
SUMMARY:Математическая физика
LOCATION:2 к. 265
END:VEVENT
BEGIN:VEVENT
UID:qk1s@192.168.245.71:3006
SEQUENCE:0
DTSTAMP:20260421T102751Z
DTSTART:20260221T080000Z
DTEND:20260221T094000Z
SUMMARY:Математическая физика
LOCATION:2 к. 265
END:VEVENT
BEGIN:VEVENT
UID:08wc@192.168.245.71:3006
SEQUENCE:0
DTSTAMP:20260421T102751Z
DTSTART:20260221T100000Z
DTEND:20260221T105000Z
SUMMARY:Дополнительные главы квантовой теории
LOCATION:2 к. 339
END:VEVENT
BEGIN:VEVENT
UID:ebah@192.168.245.71:3006
SEQUENCE:0
DTSTAMP:20260421T102751Z
DTSTART:20260221T110000Z
DTEND:20260221T124000Z
SUMMARY:Дополнительные главы квантовой теории
LOCATION:2 к. 339
END:VEVENT
BEGIN:VEVENT
UID:bca9@192.168.245.71:3006
SEQUENCE:0
DTSTAMP:20260421T102751Z
DTSTART:20260221T150000Z
DTEND:20260221T154500Z
SUMMARY:Карьерная адаптивность
LOCATION:DL Дистанционно
END:VEVENT
END:VCALENDAR