BEGIN:VCALENDAR
VERSION:2.0
PRODID:-//spbstu.ru//ical//RU
NAME:Расписание группы 5030302/30801
X-WR-CALNAME:Расписание группы 5030302/30801
TIMEZONE-ID:Europe/Moscow
X-WR-TIMEZONE:Europe/Moscow
BEGIN:VEVENT
UID:tz2h@192.168.245.71:3006
SEQUENCE:0
DTSTAMP:20260421T072836Z
DTSTART:20260302T070000Z
DTEND:20260302T084000Z
SUMMARY:Дополнительные главы квантовой теории
LOCATION:2 к. 339
END:VEVENT
BEGIN:VEVENT
UID:hfl4@192.168.245.71:3006
SEQUENCE:0
DTSTAMP:20260421T072836Z
DTSTART:20260302T090000Z
DTEND:20260302T095000Z
SUMMARY:Дополнительные главы квантовой теории
LOCATION:2 к. 339
END:VEVENT
BEGIN:VEVENT
UID:pgew@192.168.245.71:3006
SEQUENCE:0
DTSTAMP:20260421T072836Z
DTSTART:20260302T100000Z
DTEND:20260302T105000Z
SUMMARY:Статистическая физика
LOCATION:2 к. 339
END:VEVENT
BEGIN:VEVENT
UID:402p@192.168.245.71:3006
SEQUENCE:0
DTSTAMP:20260421T072836Z
DTSTART:20260302T110000Z
DTEND:20260302T124000Z
SUMMARY:Статистическая физика
LOCATION:2 к. 339
END:VEVENT
BEGIN:VEVENT
UID:ffwd@192.168.245.71:3006
SEQUENCE:0
DTSTAMP:20260421T072836Z
DTSTART:20260303T090000Z
DTEND:20260303T104000Z
SUMMARY:Физика твердого тела
LOCATION:2 к. 325
END:VEVENT
BEGIN:VEVENT
UID:rp94@192.168.245.71:3006
SEQUENCE:0
DTSTAMP:20260421T072836Z
DTSTART:20260303T110000Z
DTEND:20260303T124000Z
SUMMARY:Физика твердого тела
LOCATION:2 к. 325
END:VEVENT
BEGIN:VEVENT
UID:xe88@192.168.245.71:3006
SEQUENCE:0
DTSTAMP:20260421T072836Z
DTSTART:20260304T060000Z
DTEND:20260304T074000Z
SUMMARY:Практические методы диагностики наноструктур
LOCATION:НОЦ СЛК 517
END:VEVENT
BEGIN:VEVENT
UID:159f@192.168.245.71:3006
SEQUENCE:0
DTSTAMP:20260421T072836Z
DTSTART:20260304T080000Z
DTEND:20260304T085000Z
SUMMARY:Статистическая физика
LOCATION:2 к. 265
END:VEVENT
BEGIN:VEVENT
UID:vv8x@192.168.245.71:3006
SEQUENCE:0
DTSTAMP:20260421T072836Z
DTSTART:20260304T090000Z
DTEND:20260304T104000Z
SUMMARY:Статистическая физика
LOCATION:2 к. 265
END:VEVENT
BEGIN:VEVENT
UID:f0gw@192.168.245.71:3006
SEQUENCE:0
DTSTAMP:20260421T072836Z
DTSTART:20260304T110000Z
DTEND:20260304T124000Z
SUMMARY:Практические методы диагностики наноструктур
LOCATION:2 к. 316
END:VEVENT
BEGIN:VEVENT
UID:i3i1@192.168.245.71:3006
SEQUENCE:0
DTSTAMP:20260421T072836Z
DTSTART:20260304T130000Z
DTEND:20260304T144000Z
SUMMARY:Практические методы диагностики наноструктур
LOCATION:2 к. 316
END:VEVENT
BEGIN:VEVENT
UID:yunw@192.168.245.71:3006
SEQUENCE:0
DTSTAMP:20260421T072836Z
DTSTART:20260305T070000Z
DTEND:20260305T084000Z
SUMMARY:Физика твердого тела
LOCATION:НОЦ СЛК 517
END:VEVENT
BEGIN:VEVENT
UID:4aup@192.168.245.71:3006
SEQUENCE:0
DTSTAMP:20260421T072836Z
DTSTART:20260305T090000Z
DTEND:20260305T104000Z
SUMMARY:Математическая физика
LOCATION:2 к. 325
END:VEVENT
BEGIN:VEVENT
UID:gl25@192.168.245.71:3006
SEQUENCE:0
DTSTAMP:20260421T072836Z
DTSTART:20260305T110000Z
DTEND:20260305T115000Z
SUMMARY:Математическая физика
LOCATION:2 к. 325
END:VEVENT
BEGIN:VEVENT
UID:a6vb@192.168.245.71:3006
SEQUENCE:0
DTSTAMP:20260421T072836Z
DTSTART:20260305T130000Z
DTEND:20260305T144000Z
SUMMARY:Современные проблемы физики твердого тела (на английском языке)
LOCATION:2 к. 325
END:VEVENT
BEGIN:VEVENT
UID:l8b5@192.168.245.71:3006
SEQUENCE:0
DTSTAMP:20260421T072836Z
DTSTART:20260305T150000Z
DTEND:20260305T155000Z
SUMMARY:Современные проблемы физики твердого тела (на английском языке)
LOCATION:2 к. 325
END:VEVENT
BEGIN:VEVENT
UID:cb8s@192.168.245.71:3006
SEQUENCE:0
DTSTAMP:20260421T072836Z
DTSTART:20260306T053500Z
DTEND:20260306T064000Z
SUMMARY:Военная подготовка
LOCATION:Военная каф. кафедра
END:VEVENT
BEGIN:VEVENT
UID:fype@192.168.245.71:3006
SEQUENCE:0
DTSTAMP:20260421T072836Z
DTSTART:20260306T070000Z
DTEND:20260306T084000Z
SUMMARY:Военная подготовка
LOCATION:Военная каф. кафедра
END:VEVENT
BEGIN:VEVENT
UID:ztyb@192.168.245.71:3006
SEQUENCE:0
DTSTAMP:20260421T072836Z
DTSTART:20260306T090000Z
DTEND:20260306T104000Z
SUMMARY:Военная подготовка
LOCATION:Военная каф. кафедра
END:VEVENT
BEGIN:VEVENT
UID:sxdx@192.168.245.71:3006
SEQUENCE:0
DTSTAMP:20260421T072836Z
DTSTART:20260307T060000Z
DTEND:20260307T074000Z
SUMMARY:Математическая физика
LOCATION:2 к. 265
END:VEVENT
BEGIN:VEVENT
UID:53ie@192.168.245.71:3006
SEQUENCE:0
DTSTAMP:20260421T072836Z
DTSTART:20260307T080000Z
DTEND:20260307T094000Z
SUMMARY:Математическая физика
LOCATION:2 к. 265
END:VEVENT
BEGIN:VEVENT
UID:fi1h@192.168.245.71:3006
SEQUENCE:0
DTSTAMP:20260421T072836Z
DTSTART:20260307T100000Z
DTEND:20260307T105000Z
SUMMARY:Дополнительные главы квантовой теории
LOCATION:2 к. 339
END:VEVENT
BEGIN:VEVENT
UID:w2ol@192.168.245.71:3006
SEQUENCE:0
DTSTAMP:20260421T072836Z
DTSTART:20260307T110000Z
DTEND:20260307T124000Z
SUMMARY:Дополнительные главы квантовой теории
LOCATION:2 к. 339
END:VEVENT
END:VCALENDAR