BEGIN:VCALENDAR
VERSION:2.0
PRODID:-//spbstu.ru//ical//RU
NAME:Расписание группы 5030302/30801
X-WR-CALNAME:Расписание группы 5030302/30801
TIMEZONE-ID:Europe/Moscow
X-WR-TIMEZONE:Europe/Moscow
BEGIN:VEVENT
UID:mrt1@192.168.245.71:3006
SEQUENCE:0
DTSTAMP:20260421T054734Z
DTSTART:20260310T090000Z
DTEND:20260310T104000Z
SUMMARY:Физика твердого тела
LOCATION:2 к. 325
END:VEVENT
BEGIN:VEVENT
UID:vr97@192.168.245.71:3006
SEQUENCE:0
DTSTAMP:20260421T054734Z
DTSTART:20260310T110000Z
DTEND:20260310T124000Z
SUMMARY:Физика твердого тела
LOCATION:2 к. 325
END:VEVENT
BEGIN:VEVENT
UID:jh1m@192.168.245.71:3006
SEQUENCE:0
DTSTAMP:20260421T054734Z
DTSTART:20260311T060000Z
DTEND:20260311T074000Z
SUMMARY:Практические методы диагностики наноструктур
LOCATION:НОЦ СЛК 517
END:VEVENT
BEGIN:VEVENT
UID:jusg@192.168.245.71:3006
SEQUENCE:0
DTSTAMP:20260421T054734Z
DTSTART:20260311T080000Z
DTEND:20260311T085000Z
SUMMARY:Статистическая физика
LOCATION:2 к. 265
END:VEVENT
BEGIN:VEVENT
UID:8lpg@192.168.245.71:3006
SEQUENCE:0
DTSTAMP:20260421T054734Z
DTSTART:20260311T090000Z
DTEND:20260311T104000Z
SUMMARY:Статистическая физика
LOCATION:2 к. 265
END:VEVENT
BEGIN:VEVENT
UID:tb4c@192.168.245.71:3006
SEQUENCE:0
DTSTAMP:20260421T054734Z
DTSTART:20260311T110000Z
DTEND:20260311T124000Z
SUMMARY:Практические методы диагностики наноструктур
LOCATION:2 к. 316
END:VEVENT
BEGIN:VEVENT
UID:poek@192.168.245.71:3006
SEQUENCE:0
DTSTAMP:20260421T054734Z
DTSTART:20260311T130000Z
DTEND:20260311T144000Z
SUMMARY:Практические методы диагностики наноструктур
LOCATION:2 к. 316
END:VEVENT
BEGIN:VEVENT
UID:uizp@192.168.245.71:3006
SEQUENCE:0
DTSTAMP:20260421T054734Z
DTSTART:20260312T070000Z
DTEND:20260312T084000Z
SUMMARY:Физика твердого тела
LOCATION:НОЦ СЛК 517
END:VEVENT
BEGIN:VEVENT
UID:9yru@192.168.245.71:3006
SEQUENCE:0
DTSTAMP:20260421T054734Z
DTSTART:20260312T090000Z
DTEND:20260312T104000Z
SUMMARY:Математическая физика
LOCATION:2 к. 325
END:VEVENT
BEGIN:VEVENT
UID:nprv@192.168.245.71:3006
SEQUENCE:0
DTSTAMP:20260421T054734Z
DTSTART:20260312T110000Z
DTEND:20260312T115000Z
SUMMARY:Математическая физика
LOCATION:2 к. 325
END:VEVENT
BEGIN:VEVENT
UID:qm8a@192.168.245.71:3006
SEQUENCE:0
DTSTAMP:20260421T054734Z
DTSTART:20260312T130000Z
DTEND:20260312T144000Z
SUMMARY:Современные проблемы физики твердого тела (на английском языке)
LOCATION:2 к. 325
END:VEVENT
BEGIN:VEVENT
UID:ld46@192.168.245.71:3006
SEQUENCE:0
DTSTAMP:20260421T054734Z
DTSTART:20260312T150000Z
DTEND:20260312T155000Z
SUMMARY:Современные проблемы физики твердого тела (на английском языке)
LOCATION:2 к. 325
END:VEVENT
BEGIN:VEVENT
UID:81jv@192.168.245.71:3006
SEQUENCE:0
DTSTAMP:20260421T054734Z
DTSTART:20260313T053500Z
DTEND:20260313T064000Z
SUMMARY:Военная подготовка
LOCATION:Военная каф. кафедра
END:VEVENT
BEGIN:VEVENT
UID:pcsj@192.168.245.71:3006
SEQUENCE:0
DTSTAMP:20260421T054734Z
DTSTART:20260313T070000Z
DTEND:20260313T084000Z
SUMMARY:Военная подготовка
LOCATION:Военная каф. кафедра
END:VEVENT
BEGIN:VEVENT
UID:0hq2@192.168.245.71:3006
SEQUENCE:0
DTSTAMP:20260421T054734Z
DTSTART:20260313T090000Z
DTEND:20260313T104000Z
SUMMARY:Военная подготовка
LOCATION:Военная каф. кафедра
END:VEVENT
BEGIN:VEVENT
UID:0t8p@192.168.245.71:3006
SEQUENCE:0
DTSTAMP:20260421T054734Z
DTSTART:20260314T060000Z
DTEND:20260314T074000Z
SUMMARY:Математическая физика
LOCATION:2 к. 265
END:VEVENT
BEGIN:VEVENT
UID:3sow@192.168.245.71:3006
SEQUENCE:0
DTSTAMP:20260421T054734Z
DTSTART:20260314T080000Z
DTEND:20260314T094000Z
SUMMARY:Математическая физика
LOCATION:2 к. 265
END:VEVENT
BEGIN:VEVENT
UID:8iuj@192.168.245.71:3006
SEQUENCE:0
DTSTAMP:20260421T054734Z
DTSTART:20260314T100000Z
DTEND:20260314T105000Z
SUMMARY:Дополнительные главы квантовой теории
LOCATION:2 к. 339
END:VEVENT
BEGIN:VEVENT
UID:9dd3@192.168.245.71:3006
SEQUENCE:0
DTSTAMP:20260421T054734Z
DTSTART:20260314T110000Z
DTEND:20260314T124000Z
SUMMARY:Дополнительные главы квантовой теории
LOCATION:2 к. 339
END:VEVENT
END:VCALENDAR