BEGIN:VCALENDAR
VERSION:2.0
PRODID:-//spbstu.ru//ical//RU
NAME:Расписание группы 5030302/30801
X-WR-CALNAME:Расписание группы 5030302/30801
TIMEZONE-ID:Europe/Moscow
X-WR-TIMEZONE:Europe/Moscow
BEGIN:VEVENT
UID:qc6r@192.168.245.71:3006
SEQUENCE:0
DTSTAMP:20260420T221234Z
DTSTART:20260406T070000Z
DTEND:20260406T084000Z
SUMMARY:Дополнительные главы квантовой теории
LOCATION:2 к. 339
END:VEVENT
BEGIN:VEVENT
UID:01bo@192.168.245.71:3006
SEQUENCE:0
DTSTAMP:20260420T221234Z
DTSTART:20260406T090000Z
DTEND:20260406T095000Z
SUMMARY:Дополнительные главы квантовой теории
LOCATION:2 к. 339
END:VEVENT
BEGIN:VEVENT
UID:ltve@192.168.245.71:3006
SEQUENCE:0
DTSTAMP:20260420T221234Z
DTSTART:20260406T100000Z
DTEND:20260406T105000Z
SUMMARY:Статистическая физика
LOCATION:2 к. 339
END:VEVENT
BEGIN:VEVENT
UID:6j17@192.168.245.71:3006
SEQUENCE:0
DTSTAMP:20260420T221234Z
DTSTART:20260406T110000Z
DTEND:20260406T124000Z
SUMMARY:Статистическая физика
LOCATION:2 к. 339
END:VEVENT
BEGIN:VEVENT
UID:znrp@192.168.245.71:3006
SEQUENCE:0
DTSTAMP:20260420T221234Z
DTSTART:20260407T090000Z
DTEND:20260407T104000Z
SUMMARY:Физика твердого тела
LOCATION:2 к. 325
END:VEVENT
BEGIN:VEVENT
UID:gicg@192.168.245.71:3006
SEQUENCE:0
DTSTAMP:20260420T221234Z
DTSTART:20260407T110000Z
DTEND:20260407T124000Z
SUMMARY:Физика твердого тела
LOCATION:2 к. 325
END:VEVENT
BEGIN:VEVENT
UID:1qjp@192.168.245.71:3006
SEQUENCE:0
DTSTAMP:20260420T221234Z
DTSTART:20260408T060000Z
DTEND:20260408T074000Z
SUMMARY:Практические методы диагностики наноструктур
LOCATION:НОЦ СЛК 517
END:VEVENT
BEGIN:VEVENT
UID:roht@192.168.245.71:3006
SEQUENCE:0
DTSTAMP:20260420T221234Z
DTSTART:20260408T080000Z
DTEND:20260408T085000Z
SUMMARY:Статистическая физика
LOCATION:2 к. 265
END:VEVENT
BEGIN:VEVENT
UID:y3sr@192.168.245.71:3006
SEQUENCE:0
DTSTAMP:20260420T221234Z
DTSTART:20260408T090000Z
DTEND:20260408T104000Z
SUMMARY:Статистическая физика
LOCATION:2 к. 265
END:VEVENT
BEGIN:VEVENT
UID:jtzm@192.168.245.71:3006
SEQUENCE:0
DTSTAMP:20260420T221234Z
DTSTART:20260408T110000Z
DTEND:20260408T124000Z
SUMMARY:Практические методы диагностики наноструктур
LOCATION:2 к. 316
END:VEVENT
BEGIN:VEVENT
UID:x504@192.168.245.71:3006
SEQUENCE:0
DTSTAMP:20260420T221234Z
DTSTART:20260408T130000Z
DTEND:20260408T144000Z
SUMMARY:Практические методы диагностики наноструктур
LOCATION:2 к. 316
END:VEVENT
BEGIN:VEVENT
UID:rd5x@192.168.245.71:3006
SEQUENCE:0
DTSTAMP:20260420T221234Z
DTSTART:20260409T070000Z
DTEND:20260409T084000Z
SUMMARY:Физика твердого тела
LOCATION:НОЦ СЛК 517
END:VEVENT
BEGIN:VEVENT
UID:fa6t@192.168.245.71:3006
SEQUENCE:0
DTSTAMP:20260420T221234Z
DTSTART:20260409T090000Z
DTEND:20260409T104000Z
SUMMARY:Математическая физика
LOCATION:2 к. 325
END:VEVENT
BEGIN:VEVENT
UID:dbzc@192.168.245.71:3006
SEQUENCE:0
DTSTAMP:20260420T221234Z
DTSTART:20260409T110000Z
DTEND:20260409T115000Z
SUMMARY:Математическая физика
LOCATION:2 к. 325
END:VEVENT
BEGIN:VEVENT
UID:g9x6@192.168.245.71:3006
SEQUENCE:0
DTSTAMP:20260420T221234Z
DTSTART:20260409T130000Z
DTEND:20260409T144000Z
SUMMARY:Современные проблемы физики твердого тела (на английском языке)
LOCATION:2 к. 325
END:VEVENT
BEGIN:VEVENT
UID:3gwc@192.168.245.71:3006
SEQUENCE:0
DTSTAMP:20260420T221234Z
DTSTART:20260409T150000Z
DTEND:20260409T155000Z
SUMMARY:Современные проблемы физики твердого тела (на английском языке)
LOCATION:2 к. 325
END:VEVENT
BEGIN:VEVENT
UID:wcpe@192.168.245.71:3006
SEQUENCE:0
DTSTAMP:20260420T221234Z
DTSTART:20260410T053500Z
DTEND:20260410T064000Z
SUMMARY:Военная подготовка
LOCATION:Военная каф. кафедра
END:VEVENT
BEGIN:VEVENT
UID:mwvi@192.168.245.71:3006
SEQUENCE:0
DTSTAMP:20260420T221234Z
DTSTART:20260410T070000Z
DTEND:20260410T084000Z
SUMMARY:Военная подготовка
LOCATION:Военная каф. кафедра
END:VEVENT
BEGIN:VEVENT
UID:ju8u@192.168.245.71:3006
SEQUENCE:0
DTSTAMP:20260420T221234Z
DTSTART:20260410T090000Z
DTEND:20260410T104000Z
SUMMARY:Военная подготовка
LOCATION:Военная каф. кафедра
END:VEVENT
BEGIN:VEVENT
UID:gia5@192.168.245.71:3006
SEQUENCE:0
DTSTAMP:20260420T221234Z
DTSTART:20260411T060000Z
DTEND:20260411T074000Z
SUMMARY:Математическая физика
LOCATION:2 к. 265
END:VEVENT
BEGIN:VEVENT
UID:37og@192.168.245.71:3006
SEQUENCE:0
DTSTAMP:20260420T221234Z
DTSTART:20260411T080000Z
DTEND:20260411T094000Z
SUMMARY:Математическая физика
LOCATION:2 к. 265
END:VEVENT
BEGIN:VEVENT
UID:yv9l@192.168.245.71:3006
SEQUENCE:0
DTSTAMP:20260420T221234Z
DTSTART:20260411T100000Z
DTEND:20260411T105000Z
SUMMARY:Дополнительные главы квантовой теории
LOCATION:2 к. 339
END:VEVENT
BEGIN:VEVENT
UID:nbhe@192.168.245.71:3006
SEQUENCE:0
DTSTAMP:20260420T221234Z
DTSTART:20260411T110000Z
DTEND:20260411T124000Z
SUMMARY:Дополнительные главы квантовой теории
LOCATION:2 к. 339
END:VEVENT
END:VCALENDAR