BEGIN:VCALENDAR
VERSION:2.0
PRODID:-//spbstu.ru//ical//RU
NAME:Расписание группы 5031503/30302
X-WR-CALNAME:Расписание группы 5031503/30302
TIMEZONE-ID:Europe/Moscow
X-WR-TIMEZONE:Europe/Moscow
BEGIN:VEVENT
UID:gjm8@192.168.245.71:3006
SEQUENCE:0
DTSTAMP:20260423T061119Z
DTSTART:20251117T070000Z
DTEND:20251117T084000Z
SUMMARY:Термодинамика и теплопередача
LOCATION:2 к. 143
END:VEVENT
BEGIN:VEVENT
UID:zt06@192.168.245.71:3006
SEQUENCE:0
DTSTAMP:20260423T061119Z
DTSTART:20251117T090000Z
DTEND:20251117T104000Z
SUMMARY:Теория колебаний
LOCATION:2 к. 365
END:VEVENT
BEGIN:VEVENT
UID:fa4y@192.168.245.71:3006
SEQUENCE:0
DTSTAMP:20260423T061119Z
DTSTART:20251117T110000Z
DTEND:20251117T114500Z
SUMMARY:Теория колебаний
LOCATION:2 к. 365
END:VEVENT
BEGIN:VEVENT
UID:vlzr@192.168.245.71:3006
SEQUENCE:0
DTSTAMP:20260423T061119Z
DTSTART:20251117T120000Z
DTEND:20251117T134000Z
SUMMARY:Теория колебаний
LOCATION:2 к. 365
END:VEVENT
BEGIN:VEVENT
UID:1bw0@192.168.245.71:3006
SEQUENCE:0
DTSTAMP:20260423T061119Z
DTSTART:20251118T060000Z
DTEND:20251118T065000Z
SUMMARY:Практикум по теории упругости
LOCATION:1 к. каф.МПУ
END:VEVENT
BEGIN:VEVENT
UID:9zhu@192.168.245.71:3006
SEQUENCE:0
DTSTAMP:20260423T061119Z
DTSTART:20251118T070000Z
DTEND:20251118T084000Z
SUMMARY:Практикум по теории упругости
LOCATION:1 к. каф.МПУ
END:VEVENT
BEGIN:VEVENT
UID:gxi1@192.168.245.71:3006
SEQUENCE:0
DTSTAMP:20260423T061119Z
DTSTART:20251118T090000Z
DTEND:20251118T104000Z
SUMMARY:Управление механическими системами
LOCATION:2 к. 365
END:VEVENT
BEGIN:VEVENT
UID:pgnk@192.168.245.71:3006
SEQUENCE:0
DTSTAMP:20260423T061119Z
DTSTART:20251118T110000Z
DTEND:20251118T124000Z
SUMMARY:Управление механическими системами
LOCATION:ГЗ 253
END:VEVENT
BEGIN:VEVENT
UID:gbay@192.168.245.71:3006
SEQUENCE:0
DTSTAMP:20260423T061119Z
DTSTART:20251118T130000Z
DTEND:20251118T144000Z
SUMMARY:Вычислительный практикум по теоретической механике
LOCATION:1 к. 426А
END:VEVENT
BEGIN:VEVENT
UID:phjo@192.168.245.71:3006
SEQUENCE:0
DTSTAMP:20260423T061119Z
DTSTART:20251119T060000Z
DTEND:20251119T074000Z
SUMMARY:Уравнения математической физики
LOCATION:НИК В2.18
END:VEVENT
BEGIN:VEVENT
UID:zu4k@192.168.245.71:3006
SEQUENCE:0
DTSTAMP:20260423T061119Z
DTSTART:20251119T080000Z
DTEND:20251119T103000Z
SUMMARY:Уравнения математической физики
LOCATION:НИК В2.18
END:VEVENT
BEGIN:VEVENT
UID:3vtn@192.168.245.71:3006
SEQUENCE:0
DTSTAMP:20260423T061119Z
DTSTART:20251120T110000Z
DTEND:20251120T133000Z
SUMMARY:Теория упругости (на английском языке)
LOCATION:Мех. к. БМ
END:VEVENT
BEGIN:VEVENT
UID:k8mc@192.168.245.71:3006
SEQUENCE:0
DTSTAMP:20260423T061119Z
DTSTART:20251121T050000Z
DTEND:20251121T064000Z
SUMMARY:Военная подготовка
LOCATION:Военная каф. кафедра
END:VEVENT
BEGIN:VEVENT
UID:0kvb@192.168.245.71:3006
SEQUENCE:0
DTSTAMP:20260423T061119Z
DTSTART:20251121T070000Z
DTEND:20251121T084000Z
SUMMARY:Военная подготовка
LOCATION:Военная каф. кафедра
END:VEVENT
BEGIN:VEVENT
UID:bdg1@192.168.245.71:3006
SEQUENCE:0
DTSTAMP:20260423T061119Z
DTSTART:20251121T090000Z
DTEND:20251121T104000Z
SUMMARY:Военная подготовка
LOCATION:Военная каф. кафедра
END:VEVENT
BEGIN:VEVENT
UID:ruhs@192.168.245.71:3006
SEQUENCE:0
DTSTAMP:20260423T061119Z
DTSTART:20251122T100000Z
DTEND:20251122T105000Z
SUMMARY:Программные системы компьютерной математики
LOCATION:DL Дистанционно
END:VEVENT
BEGIN:VEVENT
UID:s8o0@192.168.245.71:3006
SEQUENCE:0
DTSTAMP:20260423T061119Z
DTSTART:20251122T110000Z
DTEND:20251122T124000Z
SUMMARY:Программные системы компьютерной математики
LOCATION:DL Дистанционно
END:VEVENT
END:VCALENDAR