BEGIN:VCALENDAR
VERSION:2.0
PRODID:-//spbstu.ru//ical//RU
NAME:Расписание группы 5031503/30302
X-WR-CALNAME:Расписание группы 5031503/30302
TIMEZONE-ID:Europe/Moscow
X-WR-TIMEZONE:Europe/Moscow
BEGIN:VEVENT
UID:ohmp@192.168.245.71:3006
SEQUENCE:0
DTSTAMP:20260421T200919Z
DTSTART:20260216T070000Z
DTEND:20260216T084000Z
SUMMARY:Управление механическими системами
LOCATION:ГЗ 244
END:VEVENT
BEGIN:VEVENT
UID:ojky@192.168.245.71:3006
SEQUENCE:0
DTSTAMP:20260421T200919Z
DTSTART:20260216T090000Z
DTEND:20260216T104000Z
SUMMARY:Управление механическими системами
LOCATION:Мех. к. БМ
END:VEVENT
BEGIN:VEVENT
UID:1f2j@192.168.245.71:3006
SEQUENCE:0
DTSTAMP:20260421T200919Z
DTSTART:20260216T110000Z
DTEND:20260216T124000Z
SUMMARY:Теория колебаний
LOCATION:1 к. каф.МПУ
END:VEVENT
BEGIN:VEVENT
UID:42tw@192.168.245.71:3006
SEQUENCE:0
DTSTAMP:20260421T200919Z
DTSTART:20260216T130000Z
DTEND:20260216T144000Z
SUMMARY:Теория колебаний
LOCATION:1 к. каф.МПУ
END:VEVENT
BEGIN:VEVENT
UID:zz22@192.168.245.71:3006
SEQUENCE:0
DTSTAMP:20260421T200919Z
DTSTART:20260216T150000Z
DTEND:20260216T163000Z
SUMMARY:Теория колебаний
LOCATION:1 к. каф.МПУ
END:VEVENT
BEGIN:VEVENT
UID:nbuj@192.168.245.71:3006
SEQUENCE:0
DTSTAMP:20260421T200919Z
DTSTART:20260216T150000Z
DTEND:20260216T163000Z
SUMMARY:Теория колебаний
LOCATION:1 к. каф.МПУ
END:VEVENT
BEGIN:VEVENT
UID:ncuo@192.168.245.71:3006
SEQUENCE:0
DTSTAMP:20260421T200919Z
DTSTART:20260217T060000Z
DTEND:20260217T064000Z
SUMMARY:Практикум по теории упругости
LOCATION:1 к. каф.МПУ
END:VEVENT
BEGIN:VEVENT
UID:rr2q@192.168.245.71:3006
SEQUENCE:0
DTSTAMP:20260421T200919Z
DTSTART:20260217T070000Z
DTEND:20260217T084000Z
SUMMARY:Практикум по теории упругости
LOCATION:1 к. каф.МПУ
END:VEVENT
BEGIN:VEVENT
UID:n2f1@192.168.245.71:3006
SEQUENCE:0
DTSTAMP:20260421T200919Z
DTSTART:20260217T090000Z
DTEND:20260217T104000Z
SUMMARY:Теория упругости (на английском языке)
LOCATION:НИК В2.03
END:VEVENT
BEGIN:VEVENT
UID:l3nw@192.168.245.71:3006
SEQUENCE:0
DTSTAMP:20260421T200919Z
DTSTART:20260217T110000Z
DTEND:20260217T115000Z
SUMMARY:Теория упругости (на английском языке)
LOCATION:НИК В2.03
END:VEVENT
BEGIN:VEVENT
UID:x1vx@192.168.245.71:3006
SEQUENCE:0
DTSTAMP:20260421T200919Z
DTSTART:20260217T130000Z
DTEND:20260217T144000Z
SUMMARY:Вычислительная механика
LOCATION:1 к. 426А
END:VEVENT
BEGIN:VEVENT
UID:zt1o@192.168.245.71:3006
SEQUENCE:0
DTSTAMP:20260421T200919Z
DTSTART:20260218T070000Z
DTEND:20260218T084000Z
SUMMARY:Уравнения математической физики
LOCATION:НИК В2.03
END:VEVENT
BEGIN:VEVENT
UID:3yk3@192.168.245.71:3006
SEQUENCE:0
DTSTAMP:20260421T200919Z
DTSTART:20260218T090000Z
DTEND:20260218T104000Z
SUMMARY:Уравнения математической физики
LOCATION:НИК В2.03
END:VEVENT
BEGIN:VEVENT
UID:1feo@192.168.245.71:3006
SEQUENCE:0
DTSTAMP:20260421T200919Z
DTSTART:20260219T070000Z
DTEND:20260219T084000Z
SUMMARY:Программные системы инженерного анализа
LOCATION:2 к. 365
END:VEVENT
BEGIN:VEVENT
UID:oz9a@192.168.245.71:3006
SEQUENCE:0
DTSTAMP:20260421T200919Z
DTSTART:20260219T090000Z
DTEND:20260219T095000Z
SUMMARY:Программные системы инженерного анализа
LOCATION:2 к. 365
END:VEVENT
BEGIN:VEVENT
UID:yuny@192.168.245.71:3006
SEQUENCE:0
DTSTAMP:20260421T200919Z
DTSTART:20260219T110000Z
DTEND:20260219T124000Z
SUMMARY:Вычислительная механика
LOCATION:НИК В2.03
END:VEVENT
BEGIN:VEVENT
UID:67x4@192.168.245.71:3006
SEQUENCE:0
DTSTAMP:20260421T200919Z
DTSTART:20260219T130000Z
DTEND:20260219T144000Z
SUMMARY:Материаловедение
LOCATION:Мех. к. БМ
END:VEVENT
BEGIN:VEVENT
UID:e4ky@192.168.245.71:3006
SEQUENCE:0
DTSTAMP:20260421T200919Z
DTSTART:20260219T150000Z
DTEND:20260219T155000Z
SUMMARY:Материаловедение
LOCATION:Мех. к. БМ
END:VEVENT
BEGIN:VEVENT
UID:k7b2@192.168.245.71:3006
SEQUENCE:0
DTSTAMP:20260421T200919Z
DTSTART:20260220T053500Z
DTEND:20260220T064000Z
SUMMARY:Военная подготовка
LOCATION:Военная каф. кафедра
END:VEVENT
BEGIN:VEVENT
UID:oy7s@192.168.245.71:3006
SEQUENCE:0
DTSTAMP:20260421T200919Z
DTSTART:20260220T070000Z
DTEND:20260220T084000Z
SUMMARY:Военная подготовка
LOCATION:Военная каф. кафедра
END:VEVENT
BEGIN:VEVENT
UID:c39k@192.168.245.71:3006
SEQUENCE:0
DTSTAMP:20260421T200919Z
DTSTART:20260220T090000Z
DTEND:20260220T104000Z
SUMMARY:Военная подготовка
LOCATION:Военная каф. кафедра
END:VEVENT
BEGIN:VEVENT
UID:3too@192.168.245.71:3006
SEQUENCE:0
DTSTAMP:20260421T200919Z
DTSTART:20260221T100000Z
DTEND:20260221T113000Z
SUMMARY:Программные системы компьютерной математики
LOCATION:DL Дистанционно
END:VEVENT
END:VCALENDAR