BEGIN:VCALENDAR
VERSION:2.0
PRODID:-//spbstu.ru//ical//RU
NAME:Расписание группы 5031503/30401
X-WR-CALNAME:Расписание группы 5031503/30401
TIMEZONE-ID:Europe/Moscow
X-WR-TIMEZONE:Europe/Moscow
BEGIN:VEVENT
UID:7lyw@192.168.245.71:3006
SEQUENCE:0
DTSTAMP:20260422T014617Z
DTSTART:20260120T070000Z
DTEND:20260120T100000Z
SUMMARY:Уравнения математической физики
LOCATION:НИК В2.03
END:VEVENT
BEGIN:VEVENT
UID:y4b1@192.168.245.71:3006
SEQUENCE:0
DTSTAMP:20260422T014617Z
DTSTART:20260123T070000Z
DTEND:20260123T100000Z
SUMMARY:Управление механическими системами
LOCATION:2 к. 316
END:VEVENT
BEGIN:VEVENT
UID:d6fi@192.168.245.71:3006
SEQUENCE:0
DTSTAMP:20260422T014617Z
DTSTART:20260123T100000Z
DTEND:20260123T113000Z
SUMMARY:Управление механическими системами
LOCATION:2 к. 316
END:VEVENT
BEGIN:VEVENT
UID:8y0x@192.168.245.71:3006
SEQUENCE:0
DTSTAMP:20260422T014617Z
DTSTART:20260124T070000Z
DTEND:20260124T130000Z
SUMMARY:Управление механическими системами
LOCATION:2 к. 316
END:VEVENT
END:VCALENDAR