BEGIN:VCALENDAR
VERSION:2.0
PRODID:-//spbstu.ru//ical//RU
NAME:Расписание группы 5031503/30401
X-WR-CALNAME:Расписание группы 5031503/30401
TIMEZONE-ID:Europe/Moscow
X-WR-TIMEZONE:Europe/Moscow
BEGIN:VEVENT
UID:20x3@192.168.245.71:3006
SEQUENCE:0
DTSTAMP:20260421T084907Z
DTSTART:20260224T090000Z
DTEND:20260224T104000Z
SUMMARY:Теория упругости (на английском языке)
LOCATION:НИК В2.03
END:VEVENT
BEGIN:VEVENT
UID:2nuk@192.168.245.71:3006
SEQUENCE:0
DTSTAMP:20260421T084907Z
DTSTART:20260224T110000Z
DTEND:20260224T115000Z
SUMMARY:Теория упругости (на английском языке)
LOCATION:НИК В2.03
END:VEVENT
BEGIN:VEVENT
UID:724p@192.168.245.71:3006
SEQUENCE:0
DTSTAMP:20260421T084907Z
DTSTART:20260224T120000Z
DTEND:20260224T124000Z
SUMMARY:Практикум по теории упругости
LOCATION:1 к. каф.МПУ
END:VEVENT
BEGIN:VEVENT
UID:wnn1@192.168.245.71:3006
SEQUENCE:0
DTSTAMP:20260421T084907Z
DTSTART:20260224T130000Z
DTEND:20260224T144000Z
SUMMARY:Практикум по теории упругости
LOCATION:1 к. каф.МПУ
END:VEVENT
BEGIN:VEVENT
UID:uqmm@192.168.245.71:3006
SEQUENCE:0
DTSTAMP:20260421T084907Z
DTSTART:20260225T070000Z
DTEND:20260225T083000Z
SUMMARY:Вычислительный практикум по теоретической механике
LOCATION:1 к. 426А
END:VEVENT
BEGIN:VEVENT
UID:yg4p@192.168.245.71:3006
SEQUENCE:0
DTSTAMP:20260421T084907Z
DTSTART:20260225T070000Z
DTEND:20260225T084000Z
SUMMARY:Уравнения математической физики
LOCATION:НИК В2.03
END:VEVENT
BEGIN:VEVENT
UID:a5ak@192.168.245.71:3006
SEQUENCE:0
DTSTAMP:20260421T084907Z
DTSTART:20260225T090000Z
DTEND:20260225T104000Z
SUMMARY:Уравнения математической физики
LOCATION:НИК В2.03
END:VEVENT
BEGIN:VEVENT
UID:p8ii@192.168.245.71:3006
SEQUENCE:0
DTSTAMP:20260421T084907Z
DTSTART:20260225T110000Z
DTEND:20260225T124000Z
SUMMARY:Введение в теорию дефектов
LOCATION:2 к. 160
END:VEVENT
BEGIN:VEVENT
UID:iwnf@192.168.245.71:3006
SEQUENCE:0
DTSTAMP:20260421T084907Z
DTSTART:20260225T130000Z
DTEND:20260225T144000Z
SUMMARY:Введение в теорию дефектов
LOCATION:2 к. 160
END:VEVENT
BEGIN:VEVENT
UID:17l2@192.168.245.71:3006
SEQUENCE:0
DTSTAMP:20260421T084907Z
DTSTART:20260226T090000Z
DTEND:20260226T104000Z
SUMMARY:Вычислительная механика
LOCATION:1 к. 426А
END:VEVENT
BEGIN:VEVENT
UID:o9s4@192.168.245.71:3006
SEQUENCE:0
DTSTAMP:20260421T084907Z
DTSTART:20260226T110000Z
DTEND:20260226T124000Z
SUMMARY:Вычислительная механика
LOCATION:НИК В2.03
END:VEVENT
BEGIN:VEVENT
UID:uabu@192.168.245.71:3006
SEQUENCE:0
DTSTAMP:20260421T084907Z
DTSTART:20260226T110000Z
DTEND:20260226T123000Z
SUMMARY:Практикум по теории упругости
LOCATION:1 к. каф.МПУ
END:VEVENT
BEGIN:VEVENT
UID:52uk@192.168.245.71:3006
SEQUENCE:0
DTSTAMP:20260421T084907Z
DTSTART:20260226T110000Z
DTEND:20260226T123000Z
SUMMARY:Практикум по теории упругости
LOCATION:1 к. каф.МПУ
END:VEVENT
BEGIN:VEVENT
UID:8mxp@192.168.245.71:3006
SEQUENCE:0
DTSTAMP:20260421T084907Z
DTSTART:20260226T130000Z
DTEND:20260226T143000Z
SUMMARY:Теория упругости (на английском языке)
LOCATION:1 к. каф.МПУ
END:VEVENT
BEGIN:VEVENT
UID:ziv9@192.168.245.71:3006
SEQUENCE:0
DTSTAMP:20260421T084907Z
DTSTART:20260226T130000Z
DTEND:20260226T144000Z
SUMMARY:Материаловедение
LOCATION:Мех. к. БМ
END:VEVENT
BEGIN:VEVENT
UID:brah@192.168.245.71:3006
SEQUENCE:0
DTSTAMP:20260421T084907Z
DTSTART:20260226T150000Z
DTEND:20260226T155000Z
SUMMARY:Материаловедение
LOCATION:Мех. к. БМ
END:VEVENT
BEGIN:VEVENT
UID:7y98@192.168.245.71:3006
SEQUENCE:0
DTSTAMP:20260421T084907Z
DTSTART:20260227T053500Z
DTEND:20260227T064000Z
SUMMARY:Военная подготовка
LOCATION:Военная каф. кафедра
END:VEVENT
BEGIN:VEVENT
UID:2dza@192.168.245.71:3006
SEQUENCE:0
DTSTAMP:20260421T084907Z
DTSTART:20260227T070000Z
DTEND:20260227T084000Z
SUMMARY:Военная подготовка
LOCATION:Военная каф. кафедра
END:VEVENT
BEGIN:VEVENT
UID:3x3y@192.168.245.71:3006
SEQUENCE:0
DTSTAMP:20260421T084907Z
DTSTART:20260227T090000Z
DTEND:20260227T104000Z
SUMMARY:Военная подготовка
LOCATION:Военная каф. кафедра
END:VEVENT
BEGIN:VEVENT
UID:fcz9@192.168.245.71:3006
SEQUENCE:0
DTSTAMP:20260421T084907Z
DTSTART:20260227T130000Z
DTEND:20260227T143000Z
SUMMARY:Управление механическими системами
LOCATION:1 к. вибролаб. МПУ
END:VEVENT
BEGIN:VEVENT
UID:s550@192.168.245.71:3006
SEQUENCE:0
DTSTAMP:20260421T084907Z
DTSTART:20260227T130000Z
DTEND:20260227T143000Z
SUMMARY:Управление механическими системами
LOCATION:1 к. вибролаб. МПУ
END:VEVENT
END:VCALENDAR