BEGIN:VCALENDAR
VERSION:2.0
PRODID:-//spbstu.ru//ical//RU
NAME:Расписание группы 5030301/20102
X-WR-CALNAME:Расписание группы 5030301/20102
TIMEZONE-ID:Europe/Moscow
X-WR-TIMEZONE:Europe/Moscow
BEGIN:VEVENT
UID:3mql@192.168.245.71:3006
SEQUENCE:0
DTSTAMP:20260424T145255Z
DTSTART:20251124T070000Z
DTEND:20251124T084000Z
SUMMARY:Основы вычислительной гидрогазодинамики
LOCATION:2 к. 160
END:VEVENT
BEGIN:VEVENT
UID:kwxi@192.168.245.71:3006
SEQUENCE:0
DTSTAMP:20260424T145255Z
DTSTART:20251124T090000Z
DTEND:20251124T104000Z
SUMMARY:Основы теплофизики
LOCATION:2 к. 160
END:VEVENT
BEGIN:VEVENT
UID:ytvc@192.168.245.71:3006
SEQUENCE:0
DTSTAMP:20260424T145255Z
DTSTART:20251124T110000Z
DTEND:20251124T133000Z
SUMMARY:Динамика вязкой жидкости и турбулентность
LOCATION:2 к. 160
END:VEVENT
BEGIN:VEVENT
UID:zkwp@192.168.245.71:3006
SEQUENCE:0
DTSTAMP:20260424T145255Z
DTSTART:20251125T070000Z
DTEND:20251125T084000Z
SUMMARY:Динамика вязкой жидкости и турбулентность
LOCATION:1 к. каф. ГГТ\, 3 этаж
END:VEVENT
BEGIN:VEVENT
UID:8xtq@192.168.245.71:3006
SEQUENCE:0
DTSTAMP:20260424T145255Z
DTSTART:20251125T090000Z
DTEND:20251125T104000Z
SUMMARY:Динамика вязкой жидкости и турбулентность
LOCATION:1 к. каф. ГГТ\, 1 этаж
END:VEVENT
BEGIN:VEVENT
UID:us0z@192.168.245.71:3006
SEQUENCE:0
DTSTAMP:20260424T145255Z
DTSTART:20251125T110000Z
DTEND:20251125T124000Z
SUMMARY:Основы теплофизики
LOCATION:2 к. 160
END:VEVENT
BEGIN:VEVENT
UID:kibe@192.168.245.71:3006
SEQUENCE:0
DTSTAMP:20260424T145255Z
DTSTART:20251125T130000Z
DTEND:20251125T144000Z
SUMMARY:Основы вычислительной гидрогазодинамики
LOCATION:1 к. каф. ГГТ\, 1 этаж
END:VEVENT
BEGIN:VEVENT
UID:4khj@192.168.245.71:3006
SEQUENCE:0
DTSTAMP:20260424T145255Z
DTSTART:20251126T070000Z
DTEND:20251126T084000Z
SUMMARY:Военная подготовка
LOCATION:Военная каф. кафедра
END:VEVENT
BEGIN:VEVENT
UID:4xby@192.168.245.71:3006
SEQUENCE:0
DTSTAMP:20260424T145255Z
DTSTART:20251126T090000Z
DTEND:20251126T104000Z
SUMMARY:Военная подготовка
LOCATION:Военная каф. кафедра
END:VEVENT
BEGIN:VEVENT
UID:8yji@192.168.245.71:3006
SEQUENCE:0
DTSTAMP:20260424T145255Z
DTSTART:20251126T110000Z
DTEND:20251126T124000Z
SUMMARY:Военная подготовка
LOCATION:Военная каф. кафедра
END:VEVENT
BEGIN:VEVENT
UID:nl4m@192.168.245.71:3006
SEQUENCE:0
DTSTAMP:20260424T145255Z
DTSTART:20251127T070000Z
DTEND:20251127T084000Z
SUMMARY:Основы физики плазмы
LOCATION:2 к. 470
END:VEVENT
BEGIN:VEVENT
UID:7hiq@192.168.245.71:3006
SEQUENCE:0
DTSTAMP:20260424T145255Z
DTSTART:20251127T090000Z
DTEND:20251127T104000Z
SUMMARY:Исследовательские проекты в области механики сплошных сред
LOCATION:1 к. каф. ГГТ\, 1 этаж
END:VEVENT
BEGIN:VEVENT
UID:9tri@192.168.245.71:3006
SEQUENCE:0
DTSTAMP:20260424T145255Z
DTSTART:20251127T110000Z
DTEND:20251127T114000Z
SUMMARY:Исследовательские проекты в области механики сплошных сред
LOCATION:1 к. каф. ГГТ\, 1 этаж
END:VEVENT
BEGIN:VEVENT
UID:xri1@192.168.245.71:3006
SEQUENCE:0
DTSTAMP:20260424T145255Z
DTSTART:20251128T080000Z
DTEND:20251128T085000Z
SUMMARY:Программные средства вычислительной гидродинамики и теплофизики
LOCATION:1 к. каф. ГГТ\, 1 этаж
END:VEVENT
BEGIN:VEVENT
UID:zfio@192.168.245.71:3006
SEQUENCE:0
DTSTAMP:20260424T145255Z
DTSTART:20251128T090000Z
DTEND:20251128T104000Z
SUMMARY:Программные средства вычислительной гидродинамики и теплофизики
LOCATION:1 к. каф. ГГТ\, 1 этаж
END:VEVENT
BEGIN:VEVENT
UID:eedp@192.168.245.71:3006
SEQUENCE:0
DTSTAMP:20260424T145255Z
DTSTART:20251128T110000Z
DTEND:20251128T124000Z
SUMMARY:Теоретическая физика
LOCATION:ГЗ 225
END:VEVENT
BEGIN:VEVENT
UID:30y4@192.168.245.71:3006
SEQUENCE:0
DTSTAMP:20260424T145255Z
DTSTART:20251128T130000Z
DTEND:20251128T135000Z
SUMMARY:Теоретическая физика
LOCATION:ГЗ 225
END:VEVENT
END:VCALENDAR