BEGIN:VCALENDAR
VERSION:2.0
PRODID:-//spbstu.ru//ical//RU
NAME:Расписание группы 5030301/20102
X-WR-CALNAME:Расписание группы 5030301/20102
TIMEZONE-ID:Europe/Moscow
X-WR-TIMEZONE:Europe/Moscow
BEGIN:VEVENT
UID:bkq6@192.168.245.71:3006
SEQUENCE:0
DTSTAMP:20260426T021105Z
DTSTART:20250902T070000Z
DTEND:20250902T084000Z
SUMMARY:Динамика вязкой жидкости и турбулентность
LOCATION:1 к. каф. ГГТ\, 3 этаж
END:VEVENT
BEGIN:VEVENT
UID:t89l@192.168.245.71:3006
SEQUENCE:0
DTSTAMP:20260426T021105Z
DTSTART:20250902T090000Z
DTEND:20250902T104000Z
SUMMARY:Динамика вязкой жидкости и турбулентность
LOCATION:1 к. каф. ГГТ\, 1 этаж
END:VEVENT
BEGIN:VEVENT
UID:b1oc@192.168.245.71:3006
SEQUENCE:0
DTSTAMP:20260426T021105Z
DTSTART:20250902T110000Z
DTEND:20250902T124000Z
SUMMARY:Основы теплофизики
LOCATION:2 к. 160
END:VEVENT
BEGIN:VEVENT
UID:3ffg@192.168.245.71:3006
SEQUENCE:0
DTSTAMP:20260426T021105Z
DTSTART:20250902T130000Z
DTEND:20250902T144000Z
SUMMARY:Основы вычислительной гидрогазодинамики
LOCATION:1 к. каф. ГГТ\, 1 этаж
END:VEVENT
BEGIN:VEVENT
UID:83w9@192.168.245.71:3006
SEQUENCE:0
DTSTAMP:20260426T021105Z
DTSTART:20250903T070000Z
DTEND:20250903T084000Z
SUMMARY:Военная подготовка
LOCATION:Военная каф. кафедра
END:VEVENT
BEGIN:VEVENT
UID:gsqm@192.168.245.71:3006
SEQUENCE:0
DTSTAMP:20260426T021105Z
DTSTART:20250903T090000Z
DTEND:20250903T104000Z
SUMMARY:Военная подготовка
LOCATION:Военная каф. кафедра
END:VEVENT
BEGIN:VEVENT
UID:hv35@192.168.245.71:3006
SEQUENCE:0
DTSTAMP:20260426T021105Z
DTSTART:20250903T110000Z
DTEND:20250903T124000Z
SUMMARY:Военная подготовка
LOCATION:Военная каф. кафедра
END:VEVENT
BEGIN:VEVENT
UID:7b1v@192.168.245.71:3006
SEQUENCE:0
DTSTAMP:20260426T021105Z
DTSTART:20250904T070000Z
DTEND:20250904T084000Z
SUMMARY:Основы физики плазмы
LOCATION:2 к. 470
END:VEVENT
BEGIN:VEVENT
UID:rvnc@192.168.245.71:3006
SEQUENCE:0
DTSTAMP:20260426T021105Z
DTSTART:20250904T090000Z
DTEND:20250904T104000Z
SUMMARY:Исследовательские проекты в области механики сплошных сред
LOCATION:1 к. каф. ГГТ\, 1 этаж
END:VEVENT
BEGIN:VEVENT
UID:xahi@192.168.245.71:3006
SEQUENCE:0
DTSTAMP:20260426T021105Z
DTSTART:20250904T110000Z
DTEND:20250904T114000Z
SUMMARY:Исследовательские проекты в области механики сплошных сред
LOCATION:1 к. каф. ГГТ\, 1 этаж
END:VEVENT
BEGIN:VEVENT
UID:21g5@192.168.245.71:3006
SEQUENCE:0
DTSTAMP:20260426T021105Z
DTSTART:20250905T080000Z
DTEND:20250905T085000Z
SUMMARY:Программные средства вычислительной гидродинамики и теплофизики
LOCATION:1 к. каф. ГГТ\, 1 этаж
END:VEVENT
BEGIN:VEVENT
UID:t5aa@192.168.245.71:3006
SEQUENCE:0
DTSTAMP:20260426T021105Z
DTSTART:20250905T090000Z
DTEND:20250905T104000Z
SUMMARY:Программные средства вычислительной гидродинамики и теплофизики
LOCATION:1 к. каф. ГГТ\, 1 этаж
END:VEVENT
BEGIN:VEVENT
UID:eqll@192.168.245.71:3006
SEQUENCE:0
DTSTAMP:20260426T021105Z
DTSTART:20250905T110000Z
DTEND:20250905T124000Z
SUMMARY:Теоретическая физика
LOCATION:ГЗ 225
END:VEVENT
BEGIN:VEVENT
UID:cjpb@192.168.245.71:3006
SEQUENCE:0
DTSTAMP:20260426T021105Z
DTSTART:20250905T130000Z
DTEND:20250905T135000Z
SUMMARY:Теоретическая физика
LOCATION:ГЗ 225
END:VEVENT
END:VCALENDAR