BEGIN:VCALENDAR
VERSION:2.0
PRODID:-//spbstu.ru//ical//RU
NAME:Расписание группы 5030301/20102
X-WR-CALNAME:Расписание группы 5030301/20102
TIMEZONE-ID:Europe/Moscow
X-WR-TIMEZONE:Europe/Moscow
BEGIN:VEVENT
UID:feua@192.168.245.71:3006
SEQUENCE:0
DTSTAMP:20260423T154816Z
DTSTART:20260109T090000Z
DTEND:20260109T120000Z
SUMMARY:Исследовательские проекты в области механики сплошных сред
LOCATION:DL Дистанционно
END:VEVENT
BEGIN:VEVENT
UID:z2vu@192.168.245.71:3006
SEQUENCE:0
DTSTAMP:20260423T154816Z
DTSTART:20260109T110000Z
DTEND:20260109T140000Z
SUMMARY:Исследовательские проекты в области механики сплошных сред
LOCATION:DL Дистанционно
END:VEVENT
END:VCALENDAR