BEGIN:VCALENDAR
VERSION:2.0
PRODID:-//spbstu.ru//ical//RU
NAME:Расписание группы 5030302/20501
X-WR-CALNAME:Расписание группы 5030302/20501
TIMEZONE-ID:Europe/Moscow
X-WR-TIMEZONE:Europe/Moscow
BEGIN:VEVENT
UID:a542@192.168.245.71:3006
SEQUENCE:0
DTSTAMP:20260421T032357Z
DTSTART:20260420T060000Z
DTEND:20260420T065000Z
SUMMARY:Строение и эволюция звезд
LOCATION:2 к. каф. КИ
END:VEVENT
BEGIN:VEVENT
UID:09zu@192.168.245.71:3006
SEQUENCE:0
DTSTAMP:20260421T032357Z
DTSTART:20260420T070000Z
DTEND:20260420T084000Z
SUMMARY:Строение и эволюция звезд
LOCATION:2 к. каф. КИ
END:VEVENT
BEGIN:VEVENT
UID:vug8@192.168.245.71:3006
SEQUENCE:0
DTSTAMP:20260421T032357Z
DTSTART:20260420T090000Z
DTEND:20260420T104000Z
SUMMARY:Строение и эволюция звезд
LOCATION:2 к. каф. КИ
END:VEVENT
BEGIN:VEVENT
UID:99iu@192.168.245.71:3006
SEQUENCE:0
DTSTAMP:20260421T032357Z
DTSTART:20260420T110000Z
DTEND:20260420T124000Z
SUMMARY:Обработка и анализ оптических наблюдений
LOCATION:2 к. каф. КИ
END:VEVENT
BEGIN:VEVENT
UID:lzra@192.168.245.71:3006
SEQUENCE:0
DTSTAMP:20260421T032357Z
DTSTART:20260420T130000Z
DTEND:20260420T144000Z
SUMMARY:Обработка и анализ оптических наблюдений
LOCATION:2 к. каф. КИ
END:VEVENT
BEGIN:VEVENT
UID:cbo9@192.168.245.71:3006
SEQUENCE:0
DTSTAMP:20260421T032357Z
DTSTART:20260423T070000Z
DTEND:20260423T084000Z
SUMMARY:Основы теории гравитации
LOCATION:2 к. каф. КИ
END:VEVENT
BEGIN:VEVENT
UID:l06n@192.168.245.71:3006
SEQUENCE:0
DTSTAMP:20260421T032357Z
DTSTART:20260423T090000Z
DTEND:20260423T104000Z
SUMMARY:Основы теории гравитации
LOCATION:2 к. каф. КИ
END:VEVENT
BEGIN:VEVENT
UID:rfge@192.168.245.71:3006
SEQUENCE:0
DTSTAMP:20260421T032357Z
DTSTART:20260423T110000Z
DTEND:20260423T124000Z
SUMMARY:Лабораторный практикум по космическим исследованиям
LOCATION:2 к. каф. КИ
END:VEVENT
BEGIN:VEVENT
UID:o9mz@192.168.245.71:3006
SEQUENCE:0
DTSTAMP:20260421T032357Z
DTSTART:20260423T130000Z
DTEND:20260423T144000Z
SUMMARY:Лабораторный практикум по космическим исследованиям
LOCATION:2 к. каф. КИ
END:VEVENT
BEGIN:VEVENT
UID:3c0j@192.168.245.71:3006
SEQUENCE:0
DTSTAMP:20260421T032357Z
DTSTART:20260424T060000Z
DTEND:20260424T065000Z
SUMMARY:Ядерные взаимодействия и частицы в астрофизике
LOCATION:2 к. каф. КИ
END:VEVENT
BEGIN:VEVENT
UID:3a2b@192.168.245.71:3006
SEQUENCE:0
DTSTAMP:20260421T032357Z
DTSTART:20260424T070000Z
DTEND:20260424T084000Z
SUMMARY:Ядерные взаимодействия и частицы в астрофизике
LOCATION:2 к. каф. КИ
END:VEVENT
BEGIN:VEVENT
UID:lr2o@192.168.245.71:3006
SEQUENCE:0
DTSTAMP:20260421T032357Z
DTSTART:20260424T090000Z
DTEND:20260424T104000Z
SUMMARY:Ядерные взаимодействия и частицы в астрофизике
LOCATION:2 к. каф. КИ
END:VEVENT
BEGIN:VEVENT
UID:w4fl@192.168.245.71:3006
SEQUENCE:0
DTSTAMP:20260421T032357Z
DTSTART:20260424T110000Z
DTEND:20260424T124000Z
SUMMARY:Семинар по современным проблемам астрофизики (на английском языке)
LOCATION:2 к. каф. КИ
END:VEVENT
BEGIN:VEVENT
UID:89pc@192.168.245.71:3006
SEQUENCE:0
DTSTAMP:20260421T032357Z
DTSTART:20260424T130000Z
DTEND:20260424T144000Z
SUMMARY:Семинар по современным проблемам астрофизики (на английском языке)
LOCATION:2 к. каф. КИ
END:VEVENT
END:VCALENDAR