BEGIN:VCALENDAR
VERSION:2.0
PRODID:-//spbstu.ru//ical//RU
NAME:Расписание группы 5031503/20401
X-WR-CALNAME:Расписание группы 5031503/20401
TIMEZONE-ID:Europe/Moscow
X-WR-TIMEZONE:Europe/Moscow
BEGIN:VEVENT
UID:rd8w@192.168.245.71:3006
SEQUENCE:0
DTSTAMP:20260422T063918Z
DTSTART:20260302T110000Z
DTEND:20260302T124000Z
SUMMARY:Детали машин и основы конструирования
LOCATION:НИК В2.03
END:VEVENT
BEGIN:VEVENT
UID:bk0n@192.168.245.71:3006
SEQUENCE:0
DTSTAMP:20260422T063918Z
DTSTART:20260303T060000Z
DTEND:20260303T064000Z
SUMMARY:Расчет конструкционной прочности
LOCATION:2 к. 160
END:VEVENT
BEGIN:VEVENT
UID:tuub@192.168.245.71:3006
SEQUENCE:0
DTSTAMP:20260422T063918Z
DTSTART:20260303T070000Z
DTEND:20260303T084000Z
SUMMARY:Расчет конструкционной прочности
LOCATION:2 к. 160
END:VEVENT
BEGIN:VEVENT
UID:q1pa@192.168.245.71:3006
SEQUENCE:0
DTSTAMP:20260422T063918Z
DTSTART:20260303T090000Z
DTEND:20260303T104000Z
SUMMARY:Детали машин и основы конструирования
LOCATION:1 к. 439
END:VEVENT
BEGIN:VEVENT
UID:7ziw@192.168.245.71:3006
SEQUENCE:0
DTSTAMP:20260422T063918Z
DTSTART:20260303T110000Z
DTEND:20260303T115000Z
SUMMARY:Детали машин и основы конструирования
LOCATION:1 к. 439
END:VEVENT
BEGIN:VEVENT
UID:0s6h@192.168.245.71:3006
SEQUENCE:0
DTSTAMP:20260422T063918Z
DTSTART:20260304T053500Z
DTEND:20260304T064000Z
SUMMARY:Военная подготовка
LOCATION:Военная каф. кафедра
END:VEVENT
BEGIN:VEVENT
UID:3upg@192.168.245.71:3006
SEQUENCE:0
DTSTAMP:20260422T063918Z
DTSTART:20260304T070000Z
DTEND:20260304T084000Z
SUMMARY:Военная подготовка
LOCATION:Военная каф. кафедра
END:VEVENT
BEGIN:VEVENT
UID:octr@192.168.245.71:3006
SEQUENCE:0
DTSTAMP:20260422T063918Z
DTSTART:20260304T090000Z
DTEND:20260304T104000Z
SUMMARY:Военная подготовка
LOCATION:Военная каф. кафедра
END:VEVENT
BEGIN:VEVENT
UID:stmh@192.168.245.71:3006
SEQUENCE:0
DTSTAMP:20260422T063918Z
DTSTART:20260305T070000Z
DTEND:20260305T084000Z
SUMMARY:Эксплуатационные свойства конструкционных материалов
LOCATION:2 к. 329
END:VEVENT
BEGIN:VEVENT
UID:2qpx@192.168.245.71:3006
SEQUENCE:0
DTSTAMP:20260422T063918Z
DTSTART:20260305T090000Z
DTEND:20260305T104000Z
SUMMARY:Экспериментальные методы контроля материалов
LOCATION:2 к. 329
END:VEVENT
BEGIN:VEVENT
UID:411n@192.168.245.71:3006
SEQUENCE:0
DTSTAMP:20260422T063918Z
DTSTART:20260305T110000Z
DTEND:20260305T124000Z
SUMMARY:Механика стержней
LOCATION:НИК В2.02
END:VEVENT
BEGIN:VEVENT
UID:wyc9@192.168.245.71:3006
SEQUENCE:0
DTSTAMP:20260422T063918Z
DTSTART:20260305T130000Z
DTEND:20260305T144000Z
SUMMARY:Механика стержней
LOCATION:НИК В2.03
END:VEVENT
BEGIN:VEVENT
UID:o9n0@192.168.245.71:3006
SEQUENCE:0
DTSTAMP:20260422T063918Z
DTSTART:20260306T070000Z
DTEND:20260306T084000Z
SUMMARY:Электрические измерения механических величин
LOCATION:1 к. вибролаб. МПУ
END:VEVENT
BEGIN:VEVENT
UID:4vgc@192.168.245.71:3006
SEQUENCE:0
DTSTAMP:20260422T063918Z
DTSTART:20260306T090000Z
DTEND:20260306T094000Z
SUMMARY:Электрические измерения механических величин
LOCATION:1 к. вибролаб. МПУ
END:VEVENT
BEGIN:VEVENT
UID:wvhi@192.168.245.71:3006
SEQUENCE:0
DTSTAMP:20260422T063918Z
DTSTART:20260306T100000Z
DTEND:20260306T104000Z
SUMMARY:Лабораторный практикум по механике
LOCATION:1 к. вибролаб. МПУ
END:VEVENT
BEGIN:VEVENT
UID:j2wl@192.168.245.71:3006
SEQUENCE:0
DTSTAMP:20260422T063918Z
DTSTART:20260306T110000Z
DTEND:20260306T124000Z
SUMMARY:Лабораторный практикум по механике
LOCATION:1 к. вибролаб. МПУ
END:VEVENT
BEGIN:VEVENT
UID:78o3@192.168.245.71:3006
SEQUENCE:0
DTSTAMP:20260422T063918Z
DTSTART:20260306T130000Z
DTEND:20260306T144000Z
SUMMARY:Лабораторный практикум по механике
LOCATION:1 к. вибролаб. МПУ
END:VEVENT
END:VCALENDAR