BEGIN:VCALENDAR
VERSION:2.0
PRODID:-//spbstu.ru//ical//RU
NAME:Расписание группы 5031503/20401
X-WR-CALNAME:Расписание группы 5031503/20401
TIMEZONE-ID:Europe/Moscow
X-WR-TIMEZONE:Europe/Moscow
BEGIN:VEVENT
UID:g49b@192.168.245.71:3006
SEQUENCE:0
DTSTAMP:20260421T102918Z
DTSTART:20260413T110000Z
DTEND:20260413T124000Z
SUMMARY:Детали машин и основы конструирования
LOCATION:НИК В2.03
END:VEVENT
BEGIN:VEVENT
UID:emgn@192.168.245.71:3006
SEQUENCE:0
DTSTAMP:20260421T102918Z
DTSTART:20260414T070000Z
DTEND:20260414T083000Z
SUMMARY:Эксплуатационные свойства конструкционных материалов
LOCATION:2 к. 365
END:VEVENT
BEGIN:VEVENT
UID:z1kz@192.168.245.71:3006
SEQUENCE:0
DTSTAMP:20260421T102918Z
DTSTART:20260416T070000Z
DTEND:20260416T110000Z
SUMMARY:Эксплуатационные свойства конструкционных материалов
LOCATION:2 к. 329
END:VEVENT
BEGIN:VEVENT
UID:oihg@192.168.245.71:3006
SEQUENCE:0
DTSTAMP:20260421T102918Z
DTSTART:20260417T100000Z
DTEND:20260417T140000Z
SUMMARY:Лабораторный практикум по механике
LOCATION:1 к. вибролаб. МПУ
END:VEVENT
END:VCALENDAR