BEGIN:VCALENDAR
VERSION:2.0
PRODID:-//spbstu.ru//ical//RU
NAME:Расписание группы 5130201/50001
X-WR-CALNAME:Расписание группы 5130201/50001
TIMEZONE-ID:Europe/Moscow
X-WR-TIMEZONE:Europe/Moscow
BEGIN:VEVENT
UID:95v3@192.168.245.71:3006
SEQUENCE:0
DTSTAMP:20260425T165004Z
DTSTART:20251201T070000Z
DTEND:20251201T084000Z
SUMMARY:Алгоритмизация и программирование
LOCATION:4 к. 308-2
END:VEVENT
BEGIN:VEVENT
UID:00jh@192.168.245.71:3006
SEQUENCE:0
DTSTAMP:20260425T165004Z
DTSTART:20251201T090000Z
DTEND:20251201T104000Z
SUMMARY:Физика
LOCATION:ГЗ 184
END:VEVENT
BEGIN:VEVENT
UID:lkl6@192.168.245.71:3006
SEQUENCE:0
DTSTAMP:20260425T165004Z
DTSTART:20251201T110000Z
DTEND:20251201T124000Z
SUMMARY:Экономическая культура
LOCATION:11 к. 324
END:VEVENT
BEGIN:VEVENT
UID:euzm@192.168.245.71:3006
SEQUENCE:0
DTSTAMP:20260425T165004Z
DTSTART:20251201T130000Z
DTEND:20251201T144000Z
SUMMARY:Творческие семестры
LOCATION:ГЗ Белый зал
END:VEVENT
BEGIN:VEVENT
UID:6smn@192.168.245.71:3006
SEQUENCE:0
DTSTAMP:20260425T165004Z
DTSTART:20251202T070000Z
DTEND:20251202T075000Z
SUMMARY:Основы цифровых технологий
LOCATION:4 к. 308-2
END:VEVENT
BEGIN:VEVENT
UID:5zc4@192.168.245.71:3006
SEQUENCE:0
DTSTAMP:20260425T165004Z
DTSTART:20251202T080000Z
DTEND:20251202T085000Z
SUMMARY:Основы цифровых технологий
LOCATION:4 к. 308-2
END:VEVENT
BEGIN:VEVENT
UID:5ykl@192.168.245.71:3006
SEQUENCE:0
DTSTAMP:20260425T165004Z
DTSTART:20251202T110000Z
DTEND:20251202T124000Z
SUMMARY:Алгоритмизация и программирование
LOCATION:3 к. 201
END:VEVENT
BEGIN:VEVENT
UID:a9jb@192.168.245.71:3006
SEQUENCE:0
DTSTAMP:20260425T165004Z
DTSTART:20251202T130000Z
DTEND:20251202T144000Z
SUMMARY:Высшая математика
LOCATION:11 к. 328
END:VEVENT
BEGIN:VEVENT
UID:5com@192.168.245.71:3006
SEQUENCE:0
DTSTAMP:20260425T165004Z
DTSTART:20251203T050000Z
DTEND:20251203T064000Z
SUMMARY:Элективная физическая культура и спорт
LOCATION:ГЗ Белый зал
END:VEVENT
BEGIN:VEVENT
UID:nrqw@192.168.245.71:3006
SEQUENCE:0
DTSTAMP:20260425T165004Z
DTSTART:20251203T070000Z
DTEND:20251203T084000Z
SUMMARY:Высшая математика
LOCATION:11 к. 316
END:VEVENT
BEGIN:VEVENT
UID:l3h6@192.168.245.71:3006
SEQUENCE:0
DTSTAMP:20260425T165004Z
DTSTART:20251203T090000Z
DTEND:20251203T104000Z
SUMMARY:Физика
LOCATION:ГЗ 237
END:VEVENT
BEGIN:VEVENT
UID:ewra@192.168.245.71:3006
SEQUENCE:0
DTSTAMP:20260425T165004Z
DTSTART:20251203T130000Z
DTEND:20251203T144000Z
SUMMARY:Иностранный язык: Базовый курс
LOCATION:11 к. 330
END:VEVENT
BEGIN:VEVENT
UID:00io@192.168.245.71:3006
SEQUENCE:0
DTSTAMP:20260425T165004Z
DTSTART:20251204T090000Z
DTEND:20251204T104000Z
SUMMARY:Введение в профессиональную деятельность
LOCATION:3 к. 201
END:VEVENT
BEGIN:VEVENT
UID:d4wr@192.168.245.71:3006
SEQUENCE:0
DTSTAMP:20260425T165004Z
DTSTART:20251204T110000Z
DTEND:20251204T140000Z
SUMMARY:Высшая математика
LOCATION:3 к. 201
END:VEVENT
BEGIN:VEVENT
UID:skoa@192.168.245.71:3006
SEQUENCE:0
DTSTAMP:20260425T165004Z
DTSTART:20251205T050000Z
DTEND:20251205T064000Z
SUMMARY:Иностранный язык: Русский язык как иностранный
LOCATION:3 к. 503
END:VEVENT
BEGIN:VEVENT
UID:ojz0@192.168.245.71:3006
SEQUENCE:0
DTSTAMP:20260425T165004Z
DTSTART:20251205T070000Z
DTEND:20251205T084000Z
SUMMARY:Основы российской государственности
LOCATION:11 к. 319
END:VEVENT
BEGIN:VEVENT
UID:nb66@192.168.245.71:3006
SEQUENCE:0
DTSTAMP:20260425T165004Z
DTSTART:20251205T090000Z
DTEND:20251205T104000Z
SUMMARY:Физика
LOCATION:ГЗ 237
END:VEVENT
BEGIN:VEVENT
UID:2w55@192.168.245.71:3006
SEQUENCE:0
DTSTAMP:20260425T165004Z
DTSTART:20251205T110000Z
DTEND:20251205T124000Z
SUMMARY:Алгоритмизация и программирование
LOCATION:4 к. 308-2
END:VEVENT
BEGIN:VEVENT
UID:gt65@192.168.245.71:3006
SEQUENCE:0
DTSTAMP:20260425T165004Z
DTSTART:20251205T130000Z
DTEND:20251205T144000Z
SUMMARY:Математические основы программирования
LOCATION:4 к. 305-2
END:VEVENT
BEGIN:VEVENT
UID:l8kk@192.168.245.71:3006
SEQUENCE:0
DTSTAMP:20260425T165004Z
DTSTART:20251206T070000Z
DTEND:20251206T084000Z
SUMMARY:Элективная физическая культура и спорт
LOCATION:СК Секции
END:VEVENT
BEGIN:VEVENT
UID:0nax@192.168.245.71:3006
SEQUENCE:0
DTSTAMP:20260425T165004Z
DTSTART:20251206T130000Z
DTEND:20251206T144000Z
SUMMARY:Иностранный язык: Русский язык как иностранный
LOCATION:3 к. 211
END:VEVENT
END:VCALENDAR