BEGIN:VCALENDAR
VERSION:2.0
PRODID:-//spbstu.ru//ical//RU
NAME:Расписание группы 5130201/50302
X-WR-CALNAME:Расписание группы 5130201/50302
TIMEZONE-ID:Europe/Moscow
X-WR-TIMEZONE:Europe/Moscow
BEGIN:VEVENT
UID:boki@192.168.245.71:3006
SEQUENCE:0
DTSTAMP:20260424T025627Z
DTSTART:20251013T090000Z
DTEND:20251013T104000Z
SUMMARY:Алгоритмизация и программирование
LOCATION:4 к. 308-2
END:VEVENT
BEGIN:VEVENT
UID:wmeh@192.168.245.71:3006
SEQUENCE:0
DTSTAMP:20260424T025627Z
DTSTART:20251014T090000Z
DTEND:20251014T104000Z
SUMMARY:Введение в профессиональную деятельность
LOCATION:4 к. 305-2
END:VEVENT
BEGIN:VEVENT
UID:loz6@192.168.245.71:3006
SEQUENCE:0
DTSTAMP:20260424T025627Z
DTSTART:20251014T110000Z
DTEND:20251014T124000Z
SUMMARY:Алгоритмизация и программирование
LOCATION:3 к. 201
END:VEVENT
BEGIN:VEVENT
UID:kb9k@192.168.245.71:3006
SEQUENCE:0
DTSTAMP:20260424T025627Z
DTSTART:20251014T130000Z
DTEND:20251014T135000Z
SUMMARY:Основы цифровых технологий
LOCATION:4 к. 308-2
END:VEVENT
BEGIN:VEVENT
UID:ilb5@192.168.245.71:3006
SEQUENCE:0
DTSTAMP:20260424T025627Z
DTSTART:20251014T140000Z
DTEND:20251014T145000Z
SUMMARY:Основы цифровых технологий
LOCATION:4 к. 308-2
END:VEVENT
BEGIN:VEVENT
UID:y7zz@192.168.245.71:3006
SEQUENCE:0
DTSTAMP:20260424T025627Z
DTSTART:20251015T050000Z
DTEND:20251015T064000Z
SUMMARY:Элективная физическая культура и спорт
LOCATION:ГЗ Белый зал
END:VEVENT
BEGIN:VEVENT
UID:la5r@192.168.245.71:3006
SEQUENCE:0
DTSTAMP:20260424T025627Z
DTSTART:20251015T070000Z
DTEND:20251015T084000Z
SUMMARY:Физика
LOCATION:ГЗ 237
END:VEVENT
BEGIN:VEVENT
UID:qjw0@192.168.245.71:3006
SEQUENCE:0
DTSTAMP:20260424T025627Z
DTSTART:20251015T090000Z
DTEND:20251015T104000Z
SUMMARY:Физика
LOCATION:ГЗ 220
END:VEVENT
BEGIN:VEVENT
UID:o8po@192.168.245.71:3006
SEQUENCE:0
DTSTAMP:20260424T025627Z
DTSTART:20251015T110000Z
DTEND:20251015T124000Z
SUMMARY:Иностранный язык: Базовый курс
LOCATION:11 к. 322
END:VEVENT
BEGIN:VEVENT
UID:zbhb@192.168.245.71:3006
SEQUENCE:0
DTSTAMP:20260424T025627Z
DTSTART:20251016T060000Z
DTEND:20251016T084000Z
SUMMARY:Высшая математика
LOCATION:ГЗ 235
END:VEVENT
BEGIN:VEVENT
UID:g28w@192.168.245.71:3006
SEQUENCE:0
DTSTAMP:20260424T025627Z
DTSTART:20251016T090000Z
DTEND:20251016T104000Z
SUMMARY:Введение в профессиональную деятельность
LOCATION:3 к. 201
END:VEVENT
BEGIN:VEVENT
UID:2zks@192.168.245.71:3006
SEQUENCE:0
DTSTAMP:20260424T025627Z
DTSTART:20251016T130000Z
DTEND:20251016T154000Z
SUMMARY:Высшая математика
LOCATION:ГЗ 227
END:VEVENT
BEGIN:VEVENT
UID:nayd@192.168.245.71:3006
SEQUENCE:0
DTSTAMP:20260424T025627Z
DTSTART:20251017T070000Z
DTEND:20251017T084000Z
SUMMARY:Основы российской государственности
LOCATION:11 к. 319
END:VEVENT
BEGIN:VEVENT
UID:ugqt@192.168.245.71:3006
SEQUENCE:0
DTSTAMP:20260424T025627Z
DTSTART:20251017T090000Z
DTEND:20251017T104000Z
SUMMARY:Физика
LOCATION:ГЗ 237
END:VEVENT
BEGIN:VEVENT
UID:r1r0@192.168.245.71:3006
SEQUENCE:0
DTSTAMP:20260424T025627Z
DTSTART:20251017T110000Z
DTEND:20251017T124000Z
SUMMARY:Математические основы программирования
LOCATION:4 к. 305-2
END:VEVENT
BEGIN:VEVENT
UID:it3h@192.168.245.71:3006
SEQUENCE:0
DTSTAMP:20260424T025627Z
DTSTART:20251018T070000Z
DTEND:20251018T084000Z
SUMMARY:Элективная физическая культура и спорт
LOCATION:СК Секции
END:VEVENT
BEGIN:VEVENT
UID:uxri@192.168.245.71:3006
SEQUENCE:0
DTSTAMP:20260424T025627Z
DTSTART:20251018T090000Z
DTEND:20251018T104000Z
SUMMARY:Основы российской государственности
LOCATION:ГЗ 237
END:VEVENT
END:VCALENDAR