BEGIN:VCALENDAR
VERSION:2.0
PRODID:-//spbstu.ru//ical//RU
NAME:Расписание группы 5130201/50302
X-WR-CALNAME:Расписание группы 5130201/50302
TIMEZONE-ID:Europe/Moscow
X-WR-TIMEZONE:Europe/Moscow
BEGIN:VEVENT
UID:ituj@192.168.245.71:3006
SEQUENCE:0
DTSTAMP:20260422T153616Z
DTSTART:20251223T110000Z
DTEND:20251223T160000Z
SUMMARY:Основы российской государственности
LOCATION:11 к. 309
END:VEVENT
BEGIN:VEVENT
UID:h8ul@192.168.245.71:3006
SEQUENCE:0
DTSTAMP:20260422T153616Z
DTSTART:20251224T070000Z
DTEND:20251224T084000Z
SUMMARY:Физика
LOCATION:ГЗ 324
END:VEVENT
BEGIN:VEVENT
UID:tjlp@192.168.245.71:3006
SEQUENCE:0
DTSTAMP:20260422T153616Z
DTSTART:20251224T110000Z
DTEND:20251224T124000Z
SUMMARY:Физика
LOCATION:ГЗ 237
END:VEVENT
BEGIN:VEVENT
UID:e8rl@192.168.245.71:3006
SEQUENCE:0
DTSTAMP:20260422T153616Z
DTSTART:20251225T130000Z
DTEND:20251225T144000Z
SUMMARY:Высшая математика
LOCATION:ГЗ 106
END:VEVENT
BEGIN:VEVENT
UID:uou8@192.168.245.71:3006
SEQUENCE:0
DTSTAMP:20260422T153616Z
DTSTART:20251226T130000Z
DTEND:20251226T144000Z
SUMMARY:Математические основы программирования
LOCATION:4 к. 308-2
END:VEVENT
BEGIN:VEVENT
UID:pxah@192.168.245.71:3006
SEQUENCE:0
DTSTAMP:20260422T153616Z
DTSTART:20251227T130000Z
DTEND:20251227T154000Z
SUMMARY:Основы цифровых технологий
LOCATION:4 к. 308-2
END:VEVENT
END:VCALENDAR