BEGIN:VCALENDAR
VERSION:2.0
PRODID:-//spbstu.ru//ical//RU
NAME:Расписание группы 5130201/50302
X-WR-CALNAME:Расписание группы 5130201/50302
TIMEZONE-ID:Europe/Moscow
X-WR-TIMEZONE:Europe/Moscow
BEGIN:VEVENT
UID:vy53@192.168.245.71:3006
SEQUENCE:0
DTSTAMP:20260421T191924Z
DTSTART:20260202T100000Z
DTEND:20260202T104000Z
SUMMARY:Структуры данных
LOCATION:4 к. 308-2
END:VEVENT
BEGIN:VEVENT
UID:hcbj@192.168.245.71:3006
SEQUENCE:0
DTSTAMP:20260421T191924Z
DTSTART:20260202T110000Z
DTEND:20260202T124000Z
SUMMARY:Структуры данных
LOCATION:4 к. 308-2
END:VEVENT
BEGIN:VEVENT
UID:psja@192.168.245.71:3006
SEQUENCE:0
DTSTAMP:20260421T191924Z
DTSTART:20260202T110000Z
DTEND:20260202T124000Z
SUMMARY:Структуры данных
LOCATION:4 к. 309-2
END:VEVENT
BEGIN:VEVENT
UID:127l@192.168.245.71:3006
SEQUENCE:0
DTSTAMP:20260421T191924Z
DTSTART:20260202T130000Z
DTEND:20260202T144000Z
SUMMARY:Иностранный язык: Базовый курс
LOCATION:11 к. 315
END:VEVENT
BEGIN:VEVENT
UID:vy5l@192.168.245.71:3006
SEQUENCE:0
DTSTAMP:20260421T191924Z
DTSTART:20260203T070000Z
DTEND:20260203T084000Z
SUMMARY:История России
LOCATION:11 к. 328
END:VEVENT
BEGIN:VEVENT
UID:eiwg@192.168.245.71:3006
SEQUENCE:0
DTSTAMP:20260421T191924Z
DTSTART:20260203T090000Z
DTEND:20260203T104000Z
SUMMARY:Физика
LOCATION:3 к. 207
END:VEVENT
BEGIN:VEVENT
UID:wogg@192.168.245.71:3006
SEQUENCE:0
DTSTAMP:20260421T191924Z
DTSTART:20260203T110000Z
DTEND:20260203T124000Z
SUMMARY:Структуры данных
LOCATION:3 к. 201
END:VEVENT
BEGIN:VEVENT
UID:cd5g@192.168.245.71:3006
SEQUENCE:0
DTSTAMP:20260421T191924Z
DTSTART:20260203T130000Z
DTEND:20260203T144000Z
SUMMARY:Высшая математика
LOCATION:11 к. 309
END:VEVENT
BEGIN:VEVENT
UID:kt4h@192.168.245.71:3006
SEQUENCE:0
DTSTAMP:20260421T191924Z
DTSTART:20260204T050000Z
DTEND:20260204T054000Z
SUMMARY:Физическая культура
LOCATION:ГЗ Белый зал
END:VEVENT
BEGIN:VEVENT
UID:7zvy@192.168.245.71:3006
SEQUENCE:0
DTSTAMP:20260421T191924Z
DTSTART:20260204T070000Z
DTEND:20260204T084000Z
SUMMARY:Физика
LOCATION:ГЗ 237
END:VEVENT
BEGIN:VEVENT
UID:zzzb@192.168.245.71:3006
SEQUENCE:0
DTSTAMP:20260421T191924Z
DTSTART:20260205T060000Z
DTEND:20260205T084000Z
SUMMARY:Высшая математика
LOCATION:ГЗ 257
END:VEVENT
BEGIN:VEVENT
UID:s6we@192.168.245.71:3006
SEQUENCE:0
DTSTAMP:20260421T191924Z
DTSTART:20260206T070000Z
DTEND:20260206T084000Z
SUMMARY:Физика
LOCATION:ГЗ 237
END:VEVENT
BEGIN:VEVENT
UID:spw0@192.168.245.71:3006
SEQUENCE:0
DTSTAMP:20260421T191924Z
DTSTART:20260206T090000Z
DTEND:20260206T104000Z
SUMMARY:Современные технологии разработки программного обеспечения
LOCATION:3 к. 201
END:VEVENT
BEGIN:VEVENT
UID:eozu@192.168.245.71:3006
SEQUENCE:0
DTSTAMP:20260421T191924Z
DTSTART:20260206T130000Z
DTEND:20260206T144000Z
SUMMARY:Современные технологии разработки программного обеспечения
LOCATION:4 к. 309-2
END:VEVENT
BEGIN:VEVENT
UID:rdl9@192.168.245.71:3006
SEQUENCE:0
DTSTAMP:20260421T191924Z
DTSTART:20260206T130000Z
DTEND:20260206T144000Z
SUMMARY:Современные технологии разработки программного обеспечения
LOCATION:4 к. 308-2
END:VEVENT
BEGIN:VEVENT
UID:eyvm@192.168.245.71:3006
SEQUENCE:0
DTSTAMP:20260421T191924Z
DTSTART:20260207T090000Z
DTEND:20260207T104000Z
SUMMARY:История России
LOCATION:ГЗ 305
END:VEVENT
END:VCALENDAR