BEGIN:VCALENDAR
VERSION:2.0
PRODID:-//spbstu.ru//ical//RU
NAME:Расписание группы 5130201/50302
X-WR-CALNAME:Расписание группы 5130201/50302
TIMEZONE-ID:Europe/Moscow
X-WR-TIMEZONE:Europe/Moscow
BEGIN:VEVENT
UID:8wy3@192.168.245.71:3006
SEQUENCE:0
DTSTAMP:20260421T090631Z
DTSTART:20260310T070000Z
DTEND:20260310T084000Z
SUMMARY:История России
LOCATION:11 к. 328
END:VEVENT
BEGIN:VEVENT
UID:5pag@192.168.245.71:3006
SEQUENCE:0
DTSTAMP:20260421T090631Z
DTSTART:20260310T090000Z
DTEND:20260310T104000Z
SUMMARY:Физика
LOCATION:3 к. 207
END:VEVENT
BEGIN:VEVENT
UID:jf5a@192.168.245.71:3006
SEQUENCE:0
DTSTAMP:20260421T090631Z
DTSTART:20260310T110000Z
DTEND:20260310T124000Z
SUMMARY:Структуры данных
LOCATION:3 к. 201
END:VEVENT
BEGIN:VEVENT
UID:kz3u@192.168.245.71:3006
SEQUENCE:0
DTSTAMP:20260421T090631Z
DTSTART:20260310T130000Z
DTEND:20260310T144000Z
SUMMARY:Высшая математика
LOCATION:11 к. 309
END:VEVENT
BEGIN:VEVENT
UID:rdh8@192.168.245.71:3006
SEQUENCE:0
DTSTAMP:20260421T090631Z
DTSTART:20260310T150000Z
DTEND:20260310T153000Z
SUMMARY:Экономическая культура
LOCATION:3 к. 501
END:VEVENT
BEGIN:VEVENT
UID:shrq@192.168.245.71:3006
SEQUENCE:0
DTSTAMP:20260421T090631Z
DTSTART:20260311T050000Z
DTEND:20260311T064000Z
SUMMARY:Элективная физическая культура и спорт
LOCATION:СК Секции
END:VEVENT
BEGIN:VEVENT
UID:30yk@192.168.245.71:3006
SEQUENCE:0
DTSTAMP:20260421T090631Z
DTSTART:20260311T070000Z
DTEND:20260311T084000Z
SUMMARY:Физика
LOCATION:ГЗ 237
END:VEVENT
BEGIN:VEVENT
UID:9en1@192.168.245.71:3006
SEQUENCE:0
DTSTAMP:20260421T090631Z
DTSTART:20260311T130000Z
DTEND:20260311T144000Z
SUMMARY:Физика
LOCATION:ГЗ 186 А
END:VEVENT
BEGIN:VEVENT
UID:lplt@192.168.245.71:3006
SEQUENCE:0
DTSTAMP:20260421T090631Z
DTSTART:20260311T130000Z
DTEND:20260311T144000Z
SUMMARY:Физика
LOCATION:ГЗ 186 А
END:VEVENT
BEGIN:VEVENT
UID:b1m6@192.168.245.71:3006
SEQUENCE:0
DTSTAMP:20260421T090631Z
DTSTART:20260311T150000Z
DTEND:20260311T153000Z
SUMMARY:Основы российской государственности
LOCATION:3 к. 501
END:VEVENT
BEGIN:VEVENT
UID:77w0@192.168.245.71:3006
SEQUENCE:0
DTSTAMP:20260421T090631Z
DTSTART:20260312T060000Z
DTEND:20260312T084000Z
SUMMARY:Высшая математика
LOCATION:ГЗ 257
END:VEVENT
BEGIN:VEVENT
UID:dzn8@192.168.245.71:3006
SEQUENCE:0
DTSTAMP:20260421T090631Z
DTSTART:20260313T070000Z
DTEND:20260313T084000Z
SUMMARY:Современные технологии разработки программного обеспечения
LOCATION:3 к. 201
END:VEVENT
BEGIN:VEVENT
UID:53ri@192.168.245.71:3006
SEQUENCE:0
DTSTAMP:20260421T090631Z
DTSTART:20260313T090000Z
DTEND:20260313T104000Z
SUMMARY:Высшая математика
LOCATION:11 к. 321
END:VEVENT
BEGIN:VEVENT
UID:xtpv@192.168.245.71:3006
SEQUENCE:0
DTSTAMP:20260421T090631Z
DTSTART:20260313T130000Z
DTEND:20260313T144000Z
SUMMARY:Современные технологии разработки программного обеспечения
LOCATION:4 к. 308-2
END:VEVENT
BEGIN:VEVENT
UID:6byh@192.168.245.71:3006
SEQUENCE:0
DTSTAMP:20260421T090631Z
DTSTART:20260313T130000Z
DTEND:20260313T144000Z
SUMMARY:Современные технологии разработки программного обеспечения
LOCATION:4 к. 309-2
END:VEVENT
BEGIN:VEVENT
UID:9iuc@192.168.245.71:3006
SEQUENCE:0
DTSTAMP:20260421T090631Z
DTSTART:20260314T070000Z
DTEND:20260314T084000Z
SUMMARY:Элективная физическая культура и спорт
LOCATION:СК Секции
END:VEVENT
END:VCALENDAR