BEGIN:VCALENDAR
VERSION:2.0
PRODID:-//spbstu.ru//ical//RU
NAME:Расписание группы 5130203/50001
X-WR-CALNAME:Расписание группы 5130203/50001
TIMEZONE-ID:Europe/Moscow
X-WR-TIMEZONE:Europe/Moscow
BEGIN:VEVENT
UID:y3lp@192.168.245.71:3006
SEQUENCE:0
DTSTAMP:20260424T220851Z
DTSTART:20251103T130000Z
DTEND:20251103T144000Z
SUMMARY:Творческие семестры
LOCATION:ГЗ Белый зал
END:VEVENT
BEGIN:VEVENT
UID:mbam@192.168.245.71:3006
SEQUENCE:0
DTSTAMP:20260424T220851Z
DTSTART:20251105T050000Z
DTEND:20251105T064000Z
SUMMARY:Элективная физическая культура и спорт
LOCATION:ГЗ Белый зал
END:VEVENT
BEGIN:VEVENT
UID:37by@192.168.245.71:3006
SEQUENCE:0
DTSTAMP:20260424T220851Z
DTSTART:20251105T070000Z
DTEND:20251105T084000Z
SUMMARY:Физика
LOCATION:11 к. 309
END:VEVENT
BEGIN:VEVENT
UID:9uhy@192.168.245.71:3006
SEQUENCE:0
DTSTAMP:20260424T220851Z
DTSTART:20251105T090000Z
DTEND:20251105T104000Z
SUMMARY:Физика
LOCATION:ГЗ 237
END:VEVENT
BEGIN:VEVENT
UID:7yoh@192.168.245.71:3006
SEQUENCE:0
DTSTAMP:20260424T220851Z
DTSTART:20251106T060000Z
DTEND:20251106T084000Z
SUMMARY:Алгоритмизация и программирование
LOCATION:11 к. 329
END:VEVENT
BEGIN:VEVENT
UID:wn9i@192.168.245.71:3006
SEQUENCE:0
DTSTAMP:20260424T220851Z
DTSTART:20251106T090000Z
DTEND:20251106T104000Z
SUMMARY:Введение в профессиональную деятельность
LOCATION:3 к. 201
END:VEVENT
BEGIN:VEVENT
UID:k9xr@192.168.245.71:3006
SEQUENCE:0
DTSTAMP:20260424T220851Z
DTSTART:20251106T110000Z
DTEND:20251106T140000Z
SUMMARY:Высшая математика
LOCATION:3 к. 201
END:VEVENT
BEGIN:VEVENT
UID:x4ez@192.168.245.71:3006
SEQUENCE:0
DTSTAMP:20260424T220851Z
DTSTART:20251107T050000Z
DTEND:20251107T064000Z
SUMMARY:Иностранный язык: Русский язык как иностранный
LOCATION:3 к. 503
END:VEVENT
BEGIN:VEVENT
UID:ecxk@192.168.245.71:3006
SEQUENCE:0
DTSTAMP:20260424T220851Z
DTSTART:20251107T070000Z
DTEND:20251107T084000Z
SUMMARY:Физика
LOCATION:ГЗ 155
END:VEVENT
BEGIN:VEVENT
UID:pmsw@192.168.245.71:3006
SEQUENCE:0
DTSTAMP:20260424T220851Z
DTSTART:20251107T070000Z
DTEND:20251107T084000Z
SUMMARY:Физика
LOCATION:ГЗ 155
END:VEVENT
BEGIN:VEVENT
UID:5b47@192.168.245.71:3006
SEQUENCE:0
DTSTAMP:20260424T220851Z
DTSTART:20251107T090000Z
DTEND:20251107T104000Z
SUMMARY:Физика
LOCATION:ГЗ 237
END:VEVENT
BEGIN:VEVENT
UID:r2wz@192.168.245.71:3006
SEQUENCE:0
DTSTAMP:20260424T220851Z
DTSTART:20251107T110000Z
DTEND:20251107T124000Z
SUMMARY:Высшая математика
LOCATION:11 к. 332
END:VEVENT
BEGIN:VEVENT
UID:s0kf@192.168.245.71:3006
SEQUENCE:0
DTSTAMP:20260424T220851Z
DTSTART:20251108T070000Z
DTEND:20251108T084000Z
SUMMARY:Элективная физическая культура и спорт
LOCATION:СК Секции
END:VEVENT
BEGIN:VEVENT
UID:i6j2@192.168.245.71:3006
SEQUENCE:0
DTSTAMP:20260424T220851Z
DTSTART:20251108T110000Z
DTEND:20251108T124000Z
SUMMARY:Основы российской государственности
LOCATION:11 к. 323
END:VEVENT
BEGIN:VEVENT
UID:q8ld@192.168.245.71:3006
SEQUENCE:0
DTSTAMP:20260424T220851Z
DTSTART:20251108T130000Z
DTEND:20251108T144000Z
SUMMARY:Иностранный язык: Русский язык как иностранный
LOCATION:3 к. 211
END:VEVENT
END:VCALENDAR