BEGIN:VCALENDAR
VERSION:2.0
PRODID:-//spbstu.ru//ical//RU
NAME:Расписание группы 5130203/50001
X-WR-CALNAME:Расписание группы 5130203/50001
TIMEZONE-ID:Europe/Moscow
X-WR-TIMEZONE:Europe/Moscow
BEGIN:VEVENT
UID:398i@192.168.245.71:3006
SEQUENCE:0
DTSTAMP:20260425T135515Z
DTSTART:20250915T130000Z
DTEND:20250915T144000Z
SUMMARY:Диагностическое тестирование по Математике
LOCATION:НИК А2.17 (1-2)
END:VEVENT
BEGIN:VEVENT
UID:4g7m@192.168.245.71:3006
SEQUENCE:0
DTSTAMP:20260425T135515Z
DTSTART:20250916T050000Z
DTEND:20250916T064000Z
SUMMARY:Введение в профессиональную деятельность
LOCATION:11 к. 211
END:VEVENT
BEGIN:VEVENT
UID:rzbn@192.168.245.71:3006
SEQUENCE:0
DTSTAMP:20260425T135515Z
DTSTART:20250916T090000Z
DTEND:20250916T104000Z
SUMMARY:Математические основы программирования
LOCATION:11 к. 330
END:VEVENT
BEGIN:VEVENT
UID:rhym@192.168.245.71:3006
SEQUENCE:0
DTSTAMP:20260425T135515Z
DTSTART:20250916T110000Z
DTEND:20250916T124000Z
SUMMARY:Алгоритмизация и программирование
LOCATION:3 к. 201
END:VEVENT
BEGIN:VEVENT
UID:4zuu@192.168.245.71:3006
SEQUENCE:0
DTSTAMP:20260425T135515Z
DTSTART:20250916T130000Z
DTEND:20250916T144000Z
SUMMARY:Иностранный язык: Базовый курс
LOCATION:11 к. 322
END:VEVENT
BEGIN:VEVENT
UID:u4vq@192.168.245.71:3006
SEQUENCE:0
DTSTAMP:20260425T135515Z
DTSTART:20250917T050000Z
DTEND:20250917T064000Z
SUMMARY:Элективная физическая культура и спорт
LOCATION:ГЗ Белый зал
END:VEVENT
BEGIN:VEVENT
UID:bcjr@192.168.245.71:3006
SEQUENCE:0
DTSTAMP:20260425T135515Z
DTSTART:20250917T070000Z
DTEND:20250917T084000Z
SUMMARY:Физика
LOCATION:11 к. 309
END:VEVENT
BEGIN:VEVENT
UID:ge5r@192.168.245.71:3006
SEQUENCE:0
DTSTAMP:20260425T135515Z
DTSTART:20250917T090000Z
DTEND:20250917T104000Z
SUMMARY:Физика
LOCATION:ГЗ 237
END:VEVENT
BEGIN:VEVENT
UID:10gj@192.168.245.71:3006
SEQUENCE:0
DTSTAMP:20260425T135515Z
DTSTART:20250918T060000Z
DTEND:20250918T084000Z
SUMMARY:Алгоритмизация и программирование
LOCATION:11 к. 329
END:VEVENT
BEGIN:VEVENT
UID:zz59@192.168.245.71:3006
SEQUENCE:0
DTSTAMP:20260425T135515Z
DTSTART:20250918T090000Z
DTEND:20250918T104000Z
SUMMARY:Введение в профессиональную деятельность
LOCATION:3 к. 201
END:VEVENT
BEGIN:VEVENT
UID:qmhs@192.168.245.71:3006
SEQUENCE:0
DTSTAMP:20260425T135515Z
DTSTART:20250918T110000Z
DTEND:20250918T140000Z
SUMMARY:Высшая математика
LOCATION:3 к. 201
END:VEVENT
BEGIN:VEVENT
UID:lb5e@192.168.245.71:3006
SEQUENCE:0
DTSTAMP:20260425T135515Z
DTSTART:20250919T050000Z
DTEND:20250919T064000Z
SUMMARY:Иностранный язык: Русский язык как иностранный
LOCATION:3 к. 503
END:VEVENT
BEGIN:VEVENT
UID:mbf1@192.168.245.71:3006
SEQUENCE:0
DTSTAMP:20260425T135515Z
DTSTART:20250919T070000Z
DTEND:20250919T084000Z
SUMMARY:Высшая математика
LOCATION:11 к. 321
END:VEVENT
BEGIN:VEVENT
UID:xwgf@192.168.245.71:3006
SEQUENCE:0
DTSTAMP:20260425T135515Z
DTSTART:20250919T090000Z
DTEND:20250919T104000Z
SUMMARY:Экономическая культура
LOCATION:3 к. 511
END:VEVENT
BEGIN:VEVENT
UID:sbu3@192.168.245.71:3006
SEQUENCE:0
DTSTAMP:20260425T135515Z
DTSTART:20250919T110000Z
DTEND:20250919T124000Z
SUMMARY:Высшая математика
LOCATION:11 к. 332
END:VEVENT
BEGIN:VEVENT
UID:7ie0@192.168.245.71:3006
SEQUENCE:0
DTSTAMP:20260425T135515Z
DTSTART:20250920T070000Z
DTEND:20250920T084000Z
SUMMARY:Элективная физическая культура и спорт
LOCATION:СК Секции
END:VEVENT
BEGIN:VEVENT
UID:kt0l@192.168.245.71:3006
SEQUENCE:0
DTSTAMP:20260425T135515Z
DTSTART:20250920T090000Z
DTEND:20250920T104000Z
SUMMARY:Основы российской государственности
LOCATION:ГЗ 237
END:VEVENT
BEGIN:VEVENT
UID:sgd9@192.168.245.71:3006
SEQUENCE:0
DTSTAMP:20260425T135515Z
DTSTART:20250920T130000Z
DTEND:20250920T144000Z
SUMMARY:Иностранный язык: Русский язык как иностранный
LOCATION:3 к. 211
END:VEVENT
END:VCALENDAR