BEGIN:VCALENDAR
VERSION:2.0
PRODID:-//spbstu.ru//ical//RU
NAME:Расписание группы 5130203/50001
X-WR-CALNAME:Расписание группы 5130203/50001
TIMEZONE-ID:Europe/Moscow
X-WR-TIMEZONE:Europe/Moscow
BEGIN:VEVENT
UID:hct8@192.168.245.71:3006
SEQUENCE:0
DTSTAMP:20260425T135322Z
DTSTART:20250930T050000Z
DTEND:20250930T064000Z
SUMMARY:Введение в профессиональную деятельность
LOCATION:11 к. 211
END:VEVENT
BEGIN:VEVENT
UID:k3ke@192.168.245.71:3006
SEQUENCE:0
DTSTAMP:20260425T135322Z
DTSTART:20250930T090000Z
DTEND:20250930T104000Z
SUMMARY:Математические основы программирования
LOCATION:11 к. 330
END:VEVENT
BEGIN:VEVENT
UID:0qe0@192.168.245.71:3006
SEQUENCE:0
DTSTAMP:20260425T135322Z
DTSTART:20250930T110000Z
DTEND:20250930T124000Z
SUMMARY:Алгоритмизация и программирование
LOCATION:3 к. 201
END:VEVENT
BEGIN:VEVENT
UID:3u9z@192.168.245.71:3006
SEQUENCE:0
DTSTAMP:20260425T135322Z
DTSTART:20250930T130000Z
DTEND:20250930T144000Z
SUMMARY:Иностранный язык: Базовый курс
LOCATION:11 к. 322
END:VEVENT
BEGIN:VEVENT
UID:jii3@192.168.245.71:3006
SEQUENCE:0
DTSTAMP:20260425T135322Z
DTSTART:20251001T050000Z
DTEND:20251001T064000Z
SUMMARY:Элективная физическая культура и спорт
LOCATION:ГЗ Белый зал
END:VEVENT
BEGIN:VEVENT
UID:yuwk@192.168.245.71:3006
SEQUENCE:0
DTSTAMP:20260425T135322Z
DTSTART:20251001T070000Z
DTEND:20251001T084000Z
SUMMARY:Физика
LOCATION:11 к. 309
END:VEVENT
BEGIN:VEVENT
UID:h5c7@192.168.245.71:3006
SEQUENCE:0
DTSTAMP:20260425T135322Z
DTSTART:20251001T090000Z
DTEND:20251001T104000Z
SUMMARY:Физика
LOCATION:ГЗ 237
END:VEVENT
BEGIN:VEVENT
UID:bb6t@192.168.245.71:3006
SEQUENCE:0
DTSTAMP:20260425T135322Z
DTSTART:20251002T060000Z
DTEND:20251002T084000Z
SUMMARY:Алгоритмизация и программирование
LOCATION:11 к. 329
END:VEVENT
BEGIN:VEVENT
UID:469h@192.168.245.71:3006
SEQUENCE:0
DTSTAMP:20260425T135322Z
DTSTART:20251002T090000Z
DTEND:20251002T104000Z
SUMMARY:Введение в профессиональную деятельность
LOCATION:3 к. 201
END:VEVENT
BEGIN:VEVENT
UID:la93@192.168.245.71:3006
SEQUENCE:0
DTSTAMP:20260425T135322Z
DTSTART:20251002T110000Z
DTEND:20251002T140000Z
SUMMARY:Высшая математика
LOCATION:3 к. 201
END:VEVENT
BEGIN:VEVENT
UID:mbp3@192.168.245.71:3006
SEQUENCE:0
DTSTAMP:20260425T135322Z
DTSTART:20251002T150000Z
DTEND:20251002T164000Z
SUMMARY:Основы цифровых технологий
LOCATION:11 к. 319
END:VEVENT
BEGIN:VEVENT
UID:uf65@192.168.245.71:3006
SEQUENCE:0
DTSTAMP:20260425T135322Z
DTSTART:20251003T050000Z
DTEND:20251003T064000Z
SUMMARY:Иностранный язык: Русский язык как иностранный
LOCATION:3 к. 503
END:VEVENT
BEGIN:VEVENT
UID:frgd@192.168.245.71:3006
SEQUENCE:0
DTSTAMP:20260425T135322Z
DTSTART:20251003T070000Z
DTEND:20251003T084000Z
SUMMARY:Высшая математика
LOCATION:11 к. 321
END:VEVENT
BEGIN:VEVENT
UID:33ja@192.168.245.71:3006
SEQUENCE:0
DTSTAMP:20260425T135322Z
DTSTART:20251003T090000Z
DTEND:20251003T104000Z
SUMMARY:Экономическая культура
LOCATION:3 к. 206
END:VEVENT
BEGIN:VEVENT
UID:osgf@192.168.245.71:3006
SEQUENCE:0
DTSTAMP:20260425T135322Z
DTSTART:20251003T110000Z
DTEND:20251003T124000Z
SUMMARY:Высшая математика
LOCATION:11 к. 332
END:VEVENT
BEGIN:VEVENT
UID:2d2g@192.168.245.71:3006
SEQUENCE:0
DTSTAMP:20260425T135322Z
DTSTART:20251004T070000Z
DTEND:20251004T084000Z
SUMMARY:Элективная физическая культура и спорт
LOCATION:СК Секции
END:VEVENT
BEGIN:VEVENT
UID:evr9@192.168.245.71:3006
SEQUENCE:0
DTSTAMP:20260425T135322Z
DTSTART:20251004T090000Z
DTEND:20251004T104000Z
SUMMARY:Основы российской государственности
LOCATION:ГЗ 237
END:VEVENT
BEGIN:VEVENT
UID:wwon@192.168.245.71:3006
SEQUENCE:0
DTSTAMP:20260425T135322Z
DTSTART:20251004T110000Z
DTEND:20251004T124000Z
SUMMARY:Основы российской государственности
LOCATION:11 к. 323
END:VEVENT
BEGIN:VEVENT
UID:m62i@192.168.245.71:3006
SEQUENCE:0
DTSTAMP:20260425T135322Z
DTSTART:20251004T130000Z
DTEND:20251004T144000Z
SUMMARY:Иностранный язык: Русский язык как иностранный
LOCATION:3 к. 211
END:VEVENT
END:VCALENDAR