BEGIN:VCALENDAR
VERSION:2.0
PRODID:-//spbstu.ru//ical//RU
NAME:Расписание группы 5130203/50001
X-WR-CALNAME:Расписание группы 5130203/50001
TIMEZONE-ID:Europe/Moscow
X-WR-TIMEZONE:Europe/Moscow
BEGIN:VEVENT
UID:q1jv@192.168.245.71:3006
SEQUENCE:0
DTSTAMP:20260421T101913Z
DTSTART:20260511T110000Z
DTEND:20260511T124000Z
SUMMARY:Современные технологии разработки программного обеспечения
LOCATION:11 к. 329
END:VEVENT
BEGIN:VEVENT
UID:5h0t@192.168.245.71:3006
SEQUENCE:0
DTSTAMP:20260421T101913Z
DTSTART:20260511T130000Z
DTEND:20260511T134000Z
SUMMARY:Структуры данных
LOCATION:11 к. 329
END:VEVENT
BEGIN:VEVENT
UID:4gdr@192.168.245.71:3006
SEQUENCE:0
DTSTAMP:20260421T101913Z
DTSTART:20260512T090000Z
DTEND:20260512T104000Z
SUMMARY:Высшая математика
LOCATION:3 к. 206
END:VEVENT
BEGIN:VEVENT
UID:axs3@192.168.245.71:3006
SEQUENCE:0
DTSTAMP:20260421T101913Z
DTSTART:20260512T110000Z
DTEND:20260512T124000Z
SUMMARY:Структуры данных
LOCATION:3 к. 201
END:VEVENT
BEGIN:VEVENT
UID:z3op@192.168.245.71:3006
SEQUENCE:0
DTSTAMP:20260421T101913Z
DTSTART:20260512T130000Z
DTEND:20260512T144000Z
SUMMARY:История России
LOCATION:11 к. 328
END:VEVENT
BEGIN:VEVENT
UID:7h6y@192.168.245.71:3006
SEQUENCE:0
DTSTAMP:20260421T101913Z
DTSTART:20260513T050000Z
DTEND:20260513T064000Z
SUMMARY:Элективная физическая культура и спорт
LOCATION:СК Секции
END:VEVENT
BEGIN:VEVENT
UID:meb0@192.168.245.71:3006
SEQUENCE:0
DTSTAMP:20260421T101913Z
DTSTART:20260513T070000Z
DTEND:20260513T084000Z
SUMMARY:Философия
LOCATION:11 к. 309
END:VEVENT
BEGIN:VEVENT
UID:jjj8@192.168.245.71:3006
SEQUENCE:0
DTSTAMP:20260421T101913Z
DTSTART:20260513T090000Z
DTEND:20260513T104000Z
SUMMARY:Физика
LOCATION:ГЗ 237
END:VEVENT
BEGIN:VEVENT
UID:lzny@192.168.245.71:3006
SEQUENCE:0
DTSTAMP:20260421T101913Z
DTSTART:20260513T110000Z
DTEND:20260513T124000Z
SUMMARY:Иностранный язык: Базовый курс
LOCATION:1 к. 417
END:VEVENT
BEGIN:VEVENT
UID:102c@192.168.245.71:3006
SEQUENCE:0
DTSTAMP:20260421T101913Z
DTSTART:20260514T070000Z
DTEND:20260514T084000Z
SUMMARY:Физика
LOCATION:3 к. 207
END:VEVENT
BEGIN:VEVENT
UID:gs7g@192.168.245.71:3006
SEQUENCE:0
DTSTAMP:20260421T101913Z
DTSTART:20260514T110000Z
DTEND:20260514T140000Z
SUMMARY:Высшая математика
LOCATION:3 к. 201
END:VEVENT
BEGIN:VEVENT
UID:wv5q@192.168.245.71:3006
SEQUENCE:0
DTSTAMP:20260421T101913Z
DTSTART:20260515T050000Z
DTEND:20260515T064000Z
SUMMARY:Иностранный язык: Русский язык как иностранный
LOCATION:3 к. 503
END:VEVENT
BEGIN:VEVENT
UID:vreh@192.168.245.71:3006
SEQUENCE:0
DTSTAMP:20260421T101913Z
DTSTART:20260515T090000Z
DTEND:20260515T104000Z
SUMMARY:Современные технологии разработки программного обеспечения
LOCATION:3 к. 201
END:VEVENT
BEGIN:VEVENT
UID:kjuq@192.168.245.71:3006
SEQUENCE:0
DTSTAMP:20260421T101913Z
DTSTART:20260515T110000Z
DTEND:20260515T124000Z
SUMMARY:Структуры данных
LOCATION:11 к. 329
END:VEVENT
BEGIN:VEVENT
UID:lqqo@192.168.245.71:3006
SEQUENCE:0
DTSTAMP:20260421T101913Z
DTSTART:20260516T070000Z
DTEND:20260516T084000Z
SUMMARY:Элективная физическая культура и спорт
LOCATION:СК Секции
END:VEVENT
BEGIN:VEVENT
UID:aar8@192.168.245.71:3006
SEQUENCE:0
DTSTAMP:20260421T101913Z
DTSTART:20260516T110000Z
DTEND:20260516T124000Z
SUMMARY:Иностранный язык: Русский язык как иностранный
LOCATION:3 к. 503
END:VEVENT
END:VCALENDAR