BEGIN:VCALENDAR
VERSION:2.0
PRODID:-//spbstu.ru//ical//RU
NAME:Расписание группы 5130203/50202
X-WR-CALNAME:Расписание группы 5130203/50202
TIMEZONE-ID:Europe/Moscow
X-WR-TIMEZONE:Europe/Moscow
BEGIN:VEVENT
UID:brog@192.168.245.71:3006
SEQUENCE:0
DTSTAMP:20260423T190237Z
DTSTART:20260113T140000Z
DTEND:20260113T145900Z
SUMMARY:Алгоритмизация и программирование
LOCATION:11 к. 148
END:VEVENT
BEGIN:VEVENT
UID:ktfn@192.168.245.71:3006
SEQUENCE:0
DTSTAMP:20260423T190237Z
DTSTART:20260114T110000Z
DTEND:20260114T124000Z
SUMMARY:Алгоритмизация и программирование
LOCATION:11 к. 329
END:VEVENT
BEGIN:VEVENT
UID:ofkm@192.168.245.71:3006
SEQUENCE:0
DTSTAMP:20260423T190237Z
DTSTART:20260116T140000Z
DTEND:20260116T144000Z
SUMMARY:Физика
LOCATION:ГЗ 225
END:VEVENT
END:VCALENDAR