BEGIN:VCALENDAR
VERSION:2.0
PRODID:-//spbstu.ru//ical//RU
NAME:Расписание группы 5130203/50202
X-WR-CALNAME:Расписание группы 5130203/50202
TIMEZONE-ID:Europe/Moscow
X-WR-TIMEZONE:Europe/Moscow
BEGIN:VEVENT
UID:780b@192.168.245.71:3006
SEQUENCE:0
DTSTAMP:20260423T171721Z
DTSTART:20260120T070000Z
DTEND:20260120T140000Z
SUMMARY:Физика
LOCATION:ГЗ 237
END:VEVENT
BEGIN:VEVENT
UID:0tug@192.168.245.71:3006
SEQUENCE:0
DTSTAMP:20260423T171721Z
DTSTART:20260122T140000Z
DTEND:20260122T144000Z
SUMMARY:Высшая математика
LOCATION:ГЗ 282
END:VEVENT
BEGIN:VEVENT
UID:suab@192.168.245.71:3006
SEQUENCE:0
DTSTAMP:20260423T171721Z
DTSTART:20260123T070000Z
DTEND:20260123T140000Z
SUMMARY:Высшая математика
LOCATION:3 к. 305
END:VEVENT
END:VCALENDAR