BEGIN:VCALENDAR
VERSION:2.0
PRODID:-//spbstu.ru//ical//RU
NAME:Расписание группы 5130901/50001
X-WR-CALNAME:Расписание группы 5130901/50001
TIMEZONE-ID:Europe/Moscow
X-WR-TIMEZONE:Europe/Moscow
BEGIN:VEVENT
UID:ub1s@192.168.245.71:3006
SEQUENCE:0
DTSTAMP:20260423T175747Z
DTSTART:20250922T070000Z
DTEND:20250922T084000Z
SUMMARY:Высшая математика
LOCATION:3 к. 511
END:VEVENT
BEGIN:VEVENT
UID:b5gx@192.168.245.71:3006
SEQUENCE:0
DTSTAMP:20260423T175747Z
DTSTART:20250922T110000Z
DTEND:20250922T124000Z
SUMMARY:Алгоритмизация и программирование
LOCATION:ГЗ 237
END:VEVENT
BEGIN:VEVENT
UID:myj6@192.168.245.71:3006
SEQUENCE:0
DTSTAMP:20260423T175747Z
DTSTART:20250922T130000Z
DTEND:20250922T144000Z
SUMMARY:Творческие семестры
LOCATION:ГЗ Белый зал
END:VEVENT
BEGIN:VEVENT
UID:t3be@192.168.245.71:3006
SEQUENCE:0
DTSTAMP:20260423T175747Z
DTSTART:20250923T060000Z
DTEND:20250923T084000Z
SUMMARY:Алгоритмизация и программирование
LOCATION:3 к. 404
END:VEVENT
BEGIN:VEVENT
UID:ot06@192.168.245.71:3006
SEQUENCE:0
DTSTAMP:20260423T175747Z
DTSTART:20250923T090000Z
DTEND:20250923T104000Z
SUMMARY:Основы цифровых технологий
LOCATION:11 к. 143
END:VEVENT
BEGIN:VEVENT
UID:2nxv@192.168.245.71:3006
SEQUENCE:0
DTSTAMP:20260423T175747Z
DTSTART:20250924T050000Z
DTEND:20250924T064000Z
SUMMARY:Элективная физическая культура и спорт
LOCATION:СК Секции
END:VEVENT
BEGIN:VEVENT
UID:rlk3@192.168.245.71:3006
SEQUENCE:0
DTSTAMP:20260423T175747Z
DTSTART:20250924T090000Z
DTEND:20250924T104000Z
SUMMARY:Физика
LOCATION:ГЗ 237
END:VEVENT
BEGIN:VEVENT
UID:osh7@192.168.245.71:3006
SEQUENCE:0
DTSTAMP:20260423T175747Z
DTSTART:20250924T110000Z
DTEND:20250924T124000Z
SUMMARY:Высшая математика
LOCATION:3 к. 201
END:VEVENT
BEGIN:VEVENT
UID:j8c5@192.168.245.71:3006
SEQUENCE:0
DTSTAMP:20260423T175747Z
DTSTART:20250925T070000Z
DTEND:20250925T084000Z
SUMMARY:Основы российской государственности
LOCATION:11 к. 319
END:VEVENT
BEGIN:VEVENT
UID:tcco@192.168.245.71:3006
SEQUENCE:0
DTSTAMP:20260423T175747Z
DTSTART:20250925T090000Z
DTEND:20250925T104000Z
SUMMARY:Введение в профессиональную деятельность
LOCATION:3 к. 215
END:VEVENT
BEGIN:VEVENT
UID:2z5b@192.168.245.71:3006
SEQUENCE:0
DTSTAMP:20260423T175747Z
DTSTART:20250925T110000Z
DTEND:20250925T124000Z
SUMMARY:Экономическая культура
LOCATION:3 к. 206
END:VEVENT
BEGIN:VEVENT
UID:w7sv@192.168.245.71:3006
SEQUENCE:0
DTSTAMP:20260423T175747Z
DTSTART:20250925T130000Z
DTEND:20250925T144000Z
SUMMARY:Физика
LOCATION:11 к. 309
END:VEVENT
BEGIN:VEVENT
UID:hfq3@192.168.245.71:3006
SEQUENCE:0
DTSTAMP:20260423T175747Z
DTSTART:20250926T050000Z
DTEND:20250926T064000Z
SUMMARY:Иностранный язык: Русский язык как иностранный
LOCATION:3 к. 503
END:VEVENT
BEGIN:VEVENT
UID:oces@192.168.245.71:3006
SEQUENCE:0
DTSTAMP:20260423T175747Z
DTSTART:20250926T070000Z
DTEND:20250926T084000Z
SUMMARY:Основы российской государственности
LOCATION:3 к. 201
END:VEVENT
BEGIN:VEVENT
UID:1tic@192.168.245.71:3006
SEQUENCE:0
DTSTAMP:20260423T175747Z
DTSTART:20250926T090000Z
DTEND:20250926T104000Z
SUMMARY:Физика
LOCATION:ГЗ 237
END:VEVENT
BEGIN:VEVENT
UID:niht@192.168.245.71:3006
SEQUENCE:0
DTSTAMP:20260423T175747Z
DTSTART:20250926T110000Z
DTEND:20250926T124000Z
SUMMARY:Высшая математика
LOCATION:3 к. 201
END:VEVENT
BEGIN:VEVENT
UID:2hjm@192.168.245.71:3006
SEQUENCE:0
DTSTAMP:20260423T175747Z
DTSTART:20250927T070000Z
DTEND:20250927T084000Z
SUMMARY:Элективная физическая культура и спорт
LOCATION:СК Секции
END:VEVENT
BEGIN:VEVENT
UID:p2ox@192.168.245.71:3006
SEQUENCE:0
DTSTAMP:20260423T175747Z
DTSTART:20250927T090000Z
DTEND:20250927T104000Z
SUMMARY:Иностранный язык: Базовый курс
LOCATION:11 к. 321
END:VEVENT
BEGIN:VEVENT
UID:hp71@192.168.245.71:3006
SEQUENCE:0
DTSTAMP:20260423T175747Z
DTSTART:20250927T130000Z
DTEND:20250927T144000Z
SUMMARY:Иностранный язык: Русский язык как иностранный
LOCATION:3 к. 211
END:VEVENT
END:VCALENDAR